Back
From: metabase:user:30f4dfbe-2aae-11df-837a-5e0a49663a4f
Subject: PASS MooseX-Meta-TypeConstraint-Mooish-0.001 v5.24.1 GNU/Linux
Date: 2017-07-26T02:21:24Z
This distribution has been tested as part of the CPAN Testers
project, supporting the Perl programming language. See
http://wiki.cpantesters.org/ for more information or email
questions to cpan-testers-discuss@perl.org
--
Dear Chris Weyl,
This is a computer-generated report for MooseX-Meta-TypeConstraint-Mooish-0.001
on perl 5.24.1, created by CPAN-Reporter-1.2018.
Thank you for uploading your work to CPAN. Congratulations!
All tests were successful.
Sections of this report:
* Tester comments
* Program output
* Prerequisites
* Environment and other context
------------------------------
TESTER COMMENTS
------------------------------
Additional comments from tester:
this report is from an automated smoke testing program
and was not reviewed by a human for accuracy
------------------------------
PROGRAM OUTPUT
------------------------------
Output from '/usr/bin/make test':
PERL_DL_NONLAZY=1 "/home/njh/perl5/perlbrew/perls/perl-5.24.1/bin/perl5.24.1" "-MExtUtils::Command::MM" "-MTest::Harness" "-e" "undef *Test::Harness::Switches; test_harness(0, 'blib/lib', 'blib/arch')" t/*.t
#
#
# Generated by Dist::Zilla::Plugin::ReportVersions::Tiny v1.10
# perl: 5.024001 (wanted 5.006) on linux from /home/njh/perl5/perlbrew/perls/perl-5.24.1/bin/perl5.24.1
#
# ExtUtils::MakeMaker => 7.24 (want any version)
# File::Spec => 3.6301 (want any version)
# IO::Handle => 1.36 (want any version)
# IPC::Open3 => 1.20 (want any version)
# Moose => 2.1807 (want any version)
# Moose::Meta::TypeConstraint => 2.1807 (want any version)
# Moose::Role => 2.1807 (want any version)
# Test::CheckDeps => 0.010 (want 0.010)
# Test::Fatal => 0.014 (want any version)
# Test::Moose::More => 0.048 (want 0.028)
# Test::More => 1.302086 (want 0.94)
# Try::Tiny => 0.28 (want any version)
# aliased => 0.34 (want any version)
# namespace::autoclean => 0.28 (want 0.24)
# strict => 1.11 (want any version)
# warnings => 1.36 (want any version)
#
# Thanks for using my code. I hope it works for you.
# If not, please try and include this output in the bug report.
# That will help me reproduce the issue and solve your problem.
#
t/isa-mooish.t ................ ok
t/000-report-versions-tiny.t .. ok
t/00-check-deps.t ............. ok
t/public-interface.t .......... ok
t/00-compile.t ................ ok
All tests successful.
Files=5, Tests=44, 0 wallclock secs ( 0.04 usr 0.00 sys + 1.33 cusr 0.17 csys = 1.54 CPU)
Result: PASS
------------------------------
PREREQUISITES
------------------------------
Prerequisite modules loaded:
requires:
Module Need Have
--------------------------- ----- --------
Moose 0 2.1807
Moose::Meta::TypeConstraint 0 2.1807
Moose::Role 0 2.1807
namespace::autoclean 0.24 0.28
perl 5.006 5.024001
Try::Tiny 0 0.28
build_requires:
Module Need Have
--------------------------- ----- --------
aliased 0 0.34
ExtUtils::MakeMaker 0 7.24
File::Spec 0 3.63_01
IO::Handle 0 1.36
IPC::Open3 0 1.20
strict 0 1.11
Test::CheckDeps 0.010 0.010
Test::Fatal 0 0.014
Test::Moose::More 0.028 0.048
Test::More 0.94 1.302086
warnings 0 1.36
configure_requires:
Module Need Have
--------------------------- ----- --------
ExtUtils::MakeMaker 0 7.24
perl 5.006 5.024001
------------------------------
ENVIRONMENT AND OTHER CONTEXT
------------------------------
Environment variables:
AUTOMATED_TESTING = 1
HARNESS_OPTIONS = j10
LANG = en_GB.UTF-8
PATH = /home/njh/perl5/perlbrew/bin:/home/njh/perl5/perlbrew/perls/perl-5.24.1/bin:/home/njh/perl5/perlbrew/bin:/usr/bin:/bin
PERL5LIB = /tmp/build/Test-Moose-More-0.048-21/blib/arch:/tmp/build/Test-Moose-More-0.048-21/blib/lib:/tmp/build/TAP-SimpleOutput-0.009-21/blib/arch:/tmp/build/TAP-SimpleOutput-0.009-21/blib/lib:/tmp/build/Perl-Version-1.013-21/blib/arch:/tmp/build/Perl-Version-1.013-21/blib/lib:/tmp/build/File-Slurp-Tiny-0.004-21/blib/arch:/tmp/build/File-Slurp-Tiny-0.004-21/blib/lib:/tmp/build/Syntax-Keyword-Junction-0.003008-21/blib/arch:/tmp/build/Syntax-Keyword-Junction-0.003008-21/blib/lib:/tmp/build/syntax-0.004-21/blib/arch:/tmp/build/syntax-0.004-21/blib/lib:/tmp/build/Data-Edit-Xml-20170727-22/blib/arch:/tmp/build/Data-Edit-Xml-20170727-22/blib/lib:/tmp/build/Data-Table-Text-2017.718-49/blib/arch:/tmp/build/Data-Table-Text-2017.718-49/blib/lib:/tmp/build/Image-SVG-Transform-0.08-23/blib/arch:/tmp/build/Image-SVG-Transform-0.08-23/blib/lib:/tmp/build/Ouch-0.0500-22/blib/arch:/tmp/build/Ouch-0.0500-22/blib/lib:/tmp/build/Math-Matrix-0.8-23/blib/arch:/tmp/build/Math-Matrix-0.8-23/blib/lib
PERL5OPT =
PERL5_CPANPLUS_IS_RUNNING = 24982
PERL5_CPAN_IS_RUNNING = 24982
PERLBREW_BASHRC_VERSION = 0.78
PERLBREW_HOME = /home/njh/.perlbrew
PERLBREW_LIB =
PERLBREW_MANPATH = /home/njh/perl5/perlbrew/perls/perl-5.24.1/man
PERLBREW_PATH = /home/njh/perl5/perlbrew/bin:/home/njh/perl5/perlbrew/perls/perl-5.24.1/bin
PERLBREW_PERL = perl-5.24.1
PERLBREW_ROOT = /home/njh/perl5/perlbrew
PERLBREW_VERSION = 0.78
PERL_LOCAL_LIB_ROOT =
SHELL = /bin/sh
Perl special variables (and OS-specific diagnostics, for MSWin32):
$^X = /home/njh/perl5/perlbrew/perls/perl-5.24.1/bin/perl5.24.1
$UID/$EUID = 1000 / 1000
$GID = 1000 4 24 25 29 30 44 46 107 112 118 1000
$EGID = 1000 4 24 25 29 30 44 46 107 112 118 1000
Perl module toolchain versions installed:
Module Have
------------------- --------
CPAN 2.16
CPAN::Meta 2.150010
Cwd 3.63_01
ExtUtils::CBuilder 0.280225
ExtUtils::Command 7.24
ExtUtils::Install 2.04
ExtUtils::MakeMaker 7.24
ExtUtils::Manifest 1.70
ExtUtils::ParseXS 3.31
File::Spec 3.63_01
JSON 2.90
JSON::PP 2.27400
Module::Build 0.4220
Module::Signature n/a
Parse::CPAN::Meta 2.150010
Test::Harness 3.36_01
Test::More 1.302086
YAML 1.23
YAML::Syck 1.30
version 0.9916
--
Summary of my perl5 (revision 5 version 24 subversion 1) configuration:
Platform:
osname=linux, osvers=4.8.0-2-amd64, archname=x86_64-linux-thread-multi
uname='linux microcenter 4.8.0-2-amd64 #1 smp debian 4.8.15-2 (2017-01-04) x86_64 gnulinux '
config_args='-de -Dprefix=/home/njh/perl5/perlbrew/perls/perl-5.24.1 -Duseithreads -Dusemultiplicity -Dusedevel -Accflags=-O2 -W -Wformat=2 -Wswitch -Wshadow -Wwrite-strings -Wuninitialized -Wall -pipe -mtune=native -march=native -fomit-frame-pointer -msse2 -msse -mmmx -mfpmath=sse -D_FORTIFY_SOURCE=2 -Wpointer-arith -Wstrict-prototypes -fstack-protector -Wstack-protector -Wextra -Wbad-function-cast -Wcast-align -Wcast-qual -Wdisabled-optimization -Wendif-labels -Wfloat-equal -Wformat-nonliteral -Winline -Wmissing-declarations -Wmissing-prototypes -Wnested-externs -Wpointer-arith -Wundef -Wformat-security -ftree-vectorize -fdiagnostics-color=auto -Aeval:scriptdir=/home/njh/perl5/perlbrew/perls/perl-5.24.1/bin'
hint=recommended, useposix=true, d_sigaction=define
useithreads=define, usemultiplicity=define
use64bitint=define, use64bitall=define, uselongdouble=undef
usemymalloc=n, bincompat5005=undef
Compiler:
cc='cc', ccflags ='-D_REENTRANT -D_GNU_SOURCE -O2 -W -Wformat=2 -Wswitch -Wshadow -Wwrite-strings -Wuninitialized -Wall -pipe -mtune=native -march=native -fomit-frame-pointer -msse2 -msse -mmmx -mfpmath=sse -D_FORTIFY_SOURCE=2 -Wpointer-arith -Wstrict-prototypes -fstack-protector -Wstack-protector -Wextra -Wbad-function-cast -Wcast-align -Wcast-qual -Wdisabled-optimization -Wendif-labels -Wfloat-equal -Wformat-nonliteral -Winline -Wmissing-declarations -Wmissing-prototypes -Wnested-externs -Wpointer-arith -Wundef -Wformat-security -ftree-vectorize -fdiagnostics-color=auto -fwrapv -fno-strict-aliasing -fstack-protector-strong -I/usr/local/include -D_LARGEFILE_SOURCE -D_FILE_OFFSET_BITS=64',
optimize='-O2',
cppflags='-D_REENTRANT -D_GNU_SOURCE -O2 -W -Wformat=2 -Wswitch -Wshadow -Wwrite-strings -Wuninitialized -Wall -pipe -mtune=native -march=native -fomit-frame-pointer -msse2 -msse -mmmx -mfpmath=sse -D_FORTIFY_SOURCE=2 -Wpointer-arith -Wstrict-prototypes -fstack-protector -Wstack-protector -Wextra -Wbad-function-cast -Wcast-align -Wcast-qual -Wdisabled-optimization -Wendif-labels -Wfloat-equal -Wformat-nonliteral -Winline -Wmissing-declarations -Wmissing-prototypes -Wnested-externs -Wpointer-arith -Wundef -Wformat-security -ftree-vectorize -fdiagnostics-color=auto -fwrapv -fno-strict-aliasing -fstack-protector-strong -I/usr/local/include'
ccversion='', gccversion='6.2.1 20161124', gccosandvers=''
intsize=4, longsize=8, ptrsize=8, doublesize=8, byteorder=12345678, doublekind=3
d_longlong=define, longlongsize=8, d_longdbl=define, longdblsize=16, longdblkind=3
ivtype='long', ivsize=8, nvtype='double', nvsize=8, Off_t='off_t', lseeksize=8
alignbytes=8, prototype=define
Linker and Libraries:
ld='cc', ldflags =' -fstack-protector-strong -L/usr/local/lib'
libpth=/usr/local/lib /usr/lib/gcc/x86_64-linux-gnu/6/include-fixed /usr/include/x86_64-linux-gnu /usr/lib /lib/x86_64-linux-gnu /lib/../lib /usr/lib/x86_64-linux-gnu /usr/lib/../lib /lib
libs=-lpthread -lnsl -lgdbm -ldb -ldl -lm -lcrypt -lutil -lc -lgdbm_compat
perllibs=-lpthread -lnsl -ldl -lm -lcrypt -lutil -lc
libc=libc-2.24.so, so=so, useshrplib=false, libperl=libperl.a
gnulibc_version='2.24'
Dynamic Linking:
dlsrc=dl_dlopen.xs, dlext=so, d_dlsymun=undef, ccdlflags='-Wl,-E'
cccdlflags='-fPIC', lddlflags='-shared -O2 -L/usr/local/lib -fstack-protector-strong'
Characteristics of this binary (from libperl):
Compile-time options: HAS_TIMES MULTIPLICITY PERLIO_LAYERS
PERL_COPY_ON_WRITE PERL_DONT_CREATE_GVSV
PERL_HASH_FUNC_ONE_AT_A_TIME_HARD
PERL_IMPLICIT_CONTEXT PERL_MALLOC_WRAP
PERL_PRESERVE_IVUV PERL_USE_DEVEL USE_64_BIT_ALL
USE_64_BIT_INT USE_ITHREADS USE_LARGE_FILES
USE_LOCALE USE_LOCALE_COLLATE USE_LOCALE_CTYPE
USE_LOCALE_NUMERIC USE_LOCALE_TIME USE_PERLIO
USE_PERL_ATOF USE_REENTRANT_API
Built under linux
Compiled at Jan 19 2017 07:53:59
%ENV:
PERL5LIB="/tmp/build/Test-Moose-More-0.048-21/blib/arch:/tmp/build/Test-Moose-More-0.048-21/blib/lib:/tmp/build/TAP-SimpleOutput-0.009-21/blib/arch:/tmp/build/TAP-SimpleOutput-0.009-21/blib/lib:/tmp/build/Perl-Version-1.013-21/blib/arch:/tmp/build/Perl-Version-1.013-21/blib/lib:/tmp/build/File-Slurp-Tiny-0.004-21/blib/arch:/tmp/build/File-Slurp-Tiny-0.004-21/blib/lib:/tmp/build/Syntax-Keyword-Junction-0.003008-21/blib/arch:/tmp/build/Syntax-Keyword-Junction-0.003008-21/blib/lib:/tmp/build/syntax-0.004-21/blib/arch:/tmp/build/syntax-0.004-21/blib/lib:/tmp/build/Data-Edit-Xml-20170727-22/blib/arch:/tmp/build/Data-Edit-Xml-20170727-22/blib/lib:/tmp/build/Data-Table-Text-2017.718-49/blib/arch:/tmp/build/Data-Table-Text-2017.718-49/blib/lib:/tmp/build/Image-SVG-Transform-0.08-23/blib/arch:/tmp/build/Image-SVG-Transform-0.08-23/blib/lib:/tmp/build/Ouch-0.0500-22/blib/arch:/tmp/build/Ouch-0.0500-22/blib/lib:/tmp/build/Math-Matrix-0.8-23/blib/arch:/tmp/build/Math-Matrix-0.8-23/blib/lib"
PERL5OPT=""
PERL5_CPANPLUS_IS_RUNNING="24982"
PERL5_CPAN_IS_RUNNING="24982"
PERLBREW_BASHRC_VERSION="0.78"
PERLBREW_HOME="/home/njh/.perlbrew"
PERLBREW_LIB=""
PERLBREW_MANPATH="/home/njh/perl5/perlbrew/perls/perl-5.24.1/man"
PERLBREW_PATH="/home/njh/perl5/perlbrew/bin:/home/njh/perl5/perlbrew/perls/perl-5.24.1/bin"
PERLBREW_PERL="perl-5.24.1"
PERLBREW_ROOT="/home/njh/perl5/perlbrew"
PERLBREW_VERSION="0.78"
PERL_LOCAL_LIB_ROOT=""
@INC:
/tmp/build/Test-Moose-More-0.048-21/blib/arch
/tmp/build/Test-Moose-More-0.048-21/blib/lib
/tmp/build/TAP-SimpleOutput-0.009-21/blib/arch
/tmp/build/TAP-SimpleOutput-0.009-21/blib/lib
/tmp/build/Perl-Version-1.013-21/blib/arch
/tmp/build/Perl-Version-1.013-21/blib/lib
/tmp/build/File-Slurp-Tiny-0.004-21/blib/arch
/tmp/build/File-Slurp-Tiny-0.004-21/blib/lib
/tmp/build/Syntax-Keyword-Junction-0.003008-21/blib/arch
/tmp/build/Syntax-Keyword-Junction-0.003008-21/blib/lib
/tmp/build/syntax-0.004-21/blib/arch
/tmp/build/syntax-0.004-21/blib/lib
/tmp/build/Data-Edit-Xml-20170727-22/blib/arch
/tmp/build/Data-Edit-Xml-20170727-22/blib/lib
/tmp/build/Data-Table-Text-2017.718-49/blib/arch
/tmp/build/Data-Table-Text-2017.718-49/blib/lib
/tmp/build/Image-SVG-Transform-0.08-23/blib/arch
/tmp/build/Image-SVG-Transform-0.08-23/blib/lib
/tmp/build/Ouch-0.0500-22/blib/arch
/tmp/build/Ouch-0.0500-22/blib/lib
/tmp/build/Math-Matrix-0.8-23/blib/arch
/tmp/build/Math-Matrix-0.8-23/blib/lib
/home/njh/perl5/perlbrew/perls/perl-5.24.1/lib/site_perl/5.24.1/x86_64-linux-thread-multi
/home/njh/perl5/perlbrew/perls/perl-5.24.1/lib/site_perl/5.24.1
/home/njh/perl5/perlbrew/perls/perl-5.24.1/lib/5.24.1/x86_64-linux-thread-multi
/home/njh/perl5/perlbrew/perls/perl-5.24.1/lib/5.24.1
.