Back
From: metabase:user:838e5b0a-2bb6-1016-a696-43a2537fa0c6
Subject: PASS StoredHash-0.031 v5.14.4 GNU/Linux
Date: 2014-12-21T21:05:41Z
This distribution has been tested as part of the CPAN Testers
project, supporting the Perl programming language.  See
http://wiki.cpantesters.org/ for more information or email
questions to cpan-testers-discuss@perl.org
--
Dear Olli Hollmen,
This is a computer-generated report for StoredHash-0.031
on perl 5.14.4, created by CPAN-Reporter-1.2011.
Thank you for uploading your work to CPAN.  Congratulations!
All tests were successful.
Sections of this report:
    * Tester comments
    * Program output
    * Prerequisites
    * Environment and other context
------------------------------
TESTER COMMENTS
------------------------------
Additional comments from tester:
this report is from an automated smoke testing program
and was not reviewed by a human for accuracy
------------------------------
PROGRAM OUTPUT
------------------------------
Output from '/usr/bin/make test':
PERL_DL_NONLAZY=1 /home/perluser/perl5/perlbrew/perls/perl-5.14.4/bin/perl "-MExtUtils::Command::MM" "-e" "test_harness(0, 'blib/lib', 'blib/arch')" t/*.t
t/01load.t ........ ok
t/02queries.t ..... ok
t/03selects.t ..... skipped: DBD::CSV Not available (not fatal to complete remaining tests, To run this test t/03selects.t, install DBD::CSV - DBI Driver for CSV files.)
t/05isa.t ......... skipped: DBD::SQLite not available in your system (os:linux) !
t/06hardclause.t .. skipped: DBD::CSV Not available (not fatal, To run this test t/06hardclause.t, install DBD::CSV - DBI Driver for CSV files.)
Name "main::ars_errstr" used only once: possible typo at t/20ars.t line 40.
t/20ars.t ......... skipped: ARS Module NOT found in the system. Check availability on your system (linux)
t/21pod.t ......... skipped: No Test::Pod Available
t/30podreview.t ... skipped: No Test::Pod in this system
All tests successful.
Files=8, Tests=43,  0 wallclock secs ( 0.02 usr  0.05 sys +  0.21 cusr  0.08 csys =  0.36 CPU)
Result: PASS
------------------------------
PREREQUISITES
------------------------------
Prerequisite modules loaded:
requires:
    Module              Need  Have    
    ------------------- ----- --------
    Data::Dumper        2.121 2.130_02
    DBI                 1.4   1.632   
    Scalar::Util        0     1.23    
    Storable            0     2.27    
    Test::More          0     0.98    
build_requires:
    Module              Need  Have    
    ------------------- ----- --------
    ExtUtils::MakeMaker 0     6.57_05 
configure_requires:
    Module              Need  Have    
    ------------------- ----- --------
    ExtUtils::MakeMaker 0     6.57_05 
------------------------------
ENVIRONMENT AND OTHER CONTEXT
------------------------------
Environment variables:
    AUTOMATED_TESTING = 1
    LANG = en_US.UTF-8
    PATH = /home/perluser/perl5/perlbrew/bin:/home/perluser/perl5/perlbrew/perls/perl-5.14.4/bin:/usr/local/bin:/usr/bin:/bin:/usr/local/games:/usr/games
    PERL5LIB = /home/perluser/.cpan/build/DBI-1.632-un4Tmj/blib/arch:/home/perluser/.cpan/build/DBI-1.632-un4Tmj/blib/lib
    PERL5OPT = 
    PERL5_CPANPLUS_IS_RUNNING = 25104
    PERL5_CPAN_IS_RUNNING = 25104
    PERL5_CPAN_IS_RUNNING_IN_RECURSION = 25799,25104
    PERLBREW_BASHRC_VERSION = 0.71
    PERLBREW_HOME = /home/perluser/.perlbrew
    PERLBREW_MANPATH = /home/perluser/perl5/perlbrew/perls/perl-5.14.4/man
    PERLBREW_PATH = /home/perluser/perl5/perlbrew/bin:/home/perluser/perl5/perlbrew/perls/perl-5.14.4/bin
    PERLBREW_PERL = perl-5.14.4
    PERLBREW_ROOT = /home/perluser/perl5/perlbrew
    PERLBREW_VERSION = 0.71
    PERL_CR_SMOKER_CURRENT = StoredHash-0.031
    PERL_EXTUTILS_AUTOINSTALL = --defaultdeps
    PERL_MM_USE_DEFAULT = 1
    SHELL = /bin/bash
    TERM = xterm
Perl special variables (and OS-specific diagnostics, for MSWin32):
    $^X = /home/perluser/perl5/perlbrew/perls/perl-5.14.4/bin/perl
    $UID/$EUID = 1001 / 1001
    $GID = 1001 1001
    $EGID = 1001 1001
Perl module toolchain versions installed:
    Module              Have     
    ------------------- ---------
    CPAN                1.9600_01
    CPAN::Meta          2.110440 
    Cwd                 3.36     
    ExtUtils::CBuilder  0.280203 
    ExtUtils::Command   1.17     
    ExtUtils::Install   1.56     
    ExtUtils::MakeMaker 6.57_05  
    ExtUtils::Manifest  1.58     
    ExtUtils::ParseXS   2.2210   
    File::Spec          3.33     
    JSON                2.90     
    JSON::PP            2.27105  
    Module::Build       0.3800   
    Module::Signature   n/a      
    Parse::CPAN::Meta   1.4401   
    Test::Harness       3.23     
    Test::More          0.98     
    YAML                n/a      
    YAML::Syck          n/a      
    version             0.88     
--
Summary of my perl5 (revision 5 version 14 subversion 4) configuration:
   
  Platform:
    osname=linux, osvers=3.2.0-4-amd64, archname=x86_64-linux
    uname='linux csi-nyp-lensrv 3.2.0-4-amd64 #1 smp debian 3.2.60-1+deb7u1 x86_64 gnulinux '
    config_args='-de -Dprefix=/home/perluser/perl5/perlbrew/perls/perl-5.14.4 -Aeval:scriptdir=/home/perluser/perl5/perlbrew/perls/perl-5.14.4/bin'
    hint=recommended, useposix=true, d_sigaction=define
    useithreads=undef, usemultiplicity=undef
    useperlio=define, d_sfio=undef, uselargefiles=define, usesocks=undef
    use64bitint=define, use64bitall=define, uselongdouble=undef
    usemymalloc=n, bincompat5005=undef
  Compiler:
    cc='cc', ccflags ='-fno-strict-aliasing -pipe -fstack-protector -I/usr/local/include -D_LARGEFILE_SOURCE -D_FILE_OFFSET_BITS=64',
    optimize='-O2',
    cppflags='-fno-strict-aliasing -pipe -fstack-protector -I/usr/local/include'
    ccversion='', gccversion='4.7.2', gccosandvers=''
    intsize=4, longsize=8, ptrsize=8, doublesize=8, byteorder=12345678
    d_longlong=define, longlongsize=8, d_longdbl=define, longdblsize=16
    ivtype='long', ivsize=8, nvtype='double', nvsize=8, Off_t='off_t', lseeksize=8
    alignbytes=8, prototype=define
  Linker and Libraries:
    ld='cc', ldflags =' -fstack-protector -L/usr/local/lib'
    libpth=/usr/local/lib /lib/x86_64-linux-gnu /lib/../lib /usr/lib/x86_64-linux-gnu /usr/lib/../lib /lib /usr/lib
    libs=-lnsl -ldl -lm -lcrypt -lutil -lc
    perllibs=-lnsl -ldl -lm -lcrypt -lutil -lc
    libc=libc-2.13.so, so=so, useshrplib=false, libperl=libperl.a
    gnulibc_version='2.13'
  Dynamic Linking:
    dlsrc=dl_dlopen.xs, dlext=so, d_dlsymun=undef, ccdlflags='-Wl,-E'
    cccdlflags='-fPIC', lddlflags='-shared -O2 -L/usr/local/lib -fstack-protector'
Characteristics of this binary (from libperl): 
  Compile-time options: PERL_DONT_CREATE_GVSV PERL_MALLOC_WRAP
                        PERL_PRESERVE_IVUV USE_64_BIT_ALL USE_64_BIT_INT
                        USE_LARGE_FILES USE_PERLIO USE_PERL_ATOF
  Built under linux
  Compiled at Nov  8 2014 23:39:25
  %ENV:
    PERL5LIB="/home/perluser/.cpan/build/DBI-1.632-un4Tmj/blib/arch:/home/perluser/.cpan/build/DBI-1.632-un4Tmj/blib/lib"
    PERL5OPT=""
    PERL5_CPANPLUS_IS_RUNNING="25104"
    PERL5_CPAN_IS_RUNNING="25104"
    PERL5_CPAN_IS_RUNNING_IN_RECURSION="25799,25104"
    PERLBREW_BASHRC_VERSION="0.71"
    PERLBREW_HOME="/home/perluser/.perlbrew"
    PERLBREW_MANPATH="/home/perluser/perl5/perlbrew/perls/perl-5.14.4/man"
    PERLBREW_PATH="/home/perluser/perl5/perlbrew/bin:/home/perluser/perl5/perlbrew/perls/perl-5.14.4/bin"
    PERLBREW_PERL="perl-5.14.4"
    PERLBREW_ROOT="/home/perluser/perl5/perlbrew"
    PERLBREW_VERSION="0.71"
    PERL_CR_SMOKER_CURRENT="StoredHash-0.031"
    PERL_EXTUTILS_AUTOINSTALL="--defaultdeps"
    PERL_MM_USE_DEFAULT="1"
  @INC:
    /home/perluser/.cpan/build/DBI-1.632-un4Tmj/blib/arch
    /home/perluser/.cpan/build/DBI-1.632-un4Tmj/blib/lib
    /home/perluser/perl5/perlbrew/perls/perl-5.14.4/lib/site_perl/5.14.4/x86_64-linux
    /home/perluser/perl5/perlbrew/perls/perl-5.14.4/lib/site_perl/5.14.4
    /home/perluser/perl5/perlbrew/perls/perl-5.14.4/lib/5.14.4/x86_64-linux
    /home/perluser/perl5/perlbrew/perls/perl-5.14.4/lib/5.14.4
    .