Data-Sah-JS v0.87 Perl 5 v5.27.5 x86_64-linux

Status
Pass
From
Slaven Rezić (SREZIC)
Dist
Data-Sah-JS v0.87
Platform
Perl 5 v5.27.5 x86_64-linux
Date
2018-01-13 22:35:56
ID
1f1a062c-f8b2-11e7-8410-acc9bb5aa42f
This distribution has been tested as part of the CPAN Testers
project, supporting the Perl programming language.  See
http://wiki.cpantesters.org/ for more information or email
questions to cpan-testers-discuss@perl.org


--
Dear perlancar,

This is a computer-generated report for Data-Sah-JS-0.87
on perl 5.27.5, created by CPAN-Reporter-1.2018.

Thank you for uploading your work to CPAN.  Congratulations!
All tests were successful.

Sections of this report:

    * Tester comments
    * Program output
    * Prerequisites
    * Environment and other context

------------------------------
TESTER COMMENTS
------------------------------

Additional comments from tester:

none provided

------------------------------
PROGRAM OUTPUT
------------------------------

Output from '/usr/bin/make test':

PERL_DL_NONLAZY=1 "/bbbike/perl-5.27.5/bin/perl5.27.5" "-MExtUtils::Command::MM" "-MTest::Harness" "-e" "undef *Test::Harness::Switches; test_harness(0, 'blib/lib', 'blib/arch')" t/*.t
t/00-compile.t ........... ok
t/99-various.t ........... ok
t/author-pod-coverage.t .. skipped: these tests are for testing by the author
t/author-pod-syntax.t .... skipped: these tests are for testing by the author
t/js-misc.t .............. ok
t/js-type-date.t ......... ok
t/js-type-duration.t ..... ok
    # Loading 10-type-all.json ...
    # Loading 10-type-any.json ...
    # Loading 10-type-array.json ...
    # Skipping test (tags=clause:check_each_index, type, type:array) array0117: check_each_index: clause check_each_index not yet implemented
    # Skipping test (tags=clause:check_each_elem, type, type:array) array0118: check_each_elem: clause check_each_elem not yet implemented
    # Skipping test (tags=clause:uniq, type, type:array) array0119: uniq=1: clause uniq not yet implemented
    # Skipping test (tags=clause:uniq, type, type:array) array0120: uniq=0: clause uniq not yet implemented
    # Skipping test (tags=clause:uniq, op, op:not, opshortcut, type, type:array) array0121: !uniq=1: clause uniq not yet implemented
    # Skipping test (tags=clause:exists, type, type:array) array0122: exists: clause exists not yet implemented
    # Skipping test (tags=prop:len, type, type:array) array0129: prop:len: properties are not yet implemented
    # Skipping test (tags=prop:indices, type, type:array) array0130: prop:indices: properties are not yet implemented
    # Skipping test (tags=prop:elems, type, type:array) array0131: prop:elems: properties are not yet implemented
    # Loading 10-type-bool.json ...
    # Loading 10-type-buf.json ...
    # Skipping test (tags=clause:check_each_index, type, type:buf) buf0164: check_each_index: clause check_each_index not yet implemented
    # Skipping test (tags=clause:check_each_elem, type, type:buf) buf0165: check_each_elem: clause check_each_elem not yet implemented
    # Skipping test (tags=clause:uniq, type, type:buf) buf0166: uniq=1: clause uniq not yet implemented
    # Skipping test (tags=clause:uniq, type, type:buf) buf0167: uniq=0: clause uniq not yet implemented
    # Skipping test (tags=clause:uniq, op, op:not, opshortcut, type, type:buf) buf0168: !uniq=1: clause uniq not yet implemented
    # Skipping test (tags=clause:exists, type, type:buf) buf0169: exists: clause exists not yet implemented
    # Skipping test (tags=prop:len, type, type:buf) buf0174: prop:len: properties are not yet implemented
    # Skipping test (tags=prop:indices, type, type:buf) buf0175: prop:indices: properties are not yet implemented
    # Skipping test (tags=prop:elems, type, type:buf) buf0176: prop:elems: properties are not yet implemented
    # Loading 10-type-cistr.json ...
    # Skipping test (tags=clause:check_each_index, type, type:cistr) cistr0164: check_each_index: clause check_each_index not yet implemented
    # Skipping test (tags=clause:check_each_elem, type, type:cistr) cistr0165: check_each_elem: clause check_each_elem not yet implemented
    # Skipping test (tags=clause:uniq, type, type:cistr) cistr0166: uniq=1: clause uniq not yet implemented
    # Skipping test (tags=clause:uniq, type, type:cistr) cistr0167: uniq=0: clause uniq not yet implemented
    # Skipping test (tags=clause:uniq, op, op:not, opshortcut, type, type:cistr) cistr0168: !uniq=1: clause uniq not yet implemented
    # Skipping test (tags=clause:exists, type, type:cistr) cistr0169: exists: clause exists not yet implemented
    # Skipping test (tags=prop:len, type, type:cistr) cistr0174: prop:len: properties are not yet implemented
    # Skipping test (tags=prop:indices, type, type:cistr) cistr0175: prop:indices: properties are not yet implemented
    # Skipping test (tags=prop:elems, type, type:cistr) cistr0176: prop:elems: properties are not yet implemented
    # Loading 10-type-float.json ...
    # Loading 10-type-hash.json ...
    # Skipping test (tags=clause:check_each_index, type, type:hash) hash0121: check_each_index: clause check_each_index not yet implemented
    # Skipping test (tags=clause:check_each_key, type, type:hash) hash0122: check_each_key: clause check_each_key not yet implemented
    # Skipping test (tags=clause:check_each_elem, type, type:hash) hash0123: check_each_elem: clause check_each_elem not yet implemented
    # Skipping test (tags=clause:check_each_value, type, type:hash) hash0124: check_each_value: clause check_each_value not yet implemented
    # Skipping test (tags=clause:uniq, type, type:hash) hash0125: uniq=1: clause uniq not yet implemented
    # Skipping test (tags=clause:uniq, type, type:hash) hash0126: uniq=0: clause uniq not yet implemented
    # Skipping test (tags=clause:uniq, op, op:not, opshortcut, type, type:hash) hash0127: !uniq=1: clause uniq not yet implemented
    # Skipping test (tags=clause:exists, type, type:hash) hash0128: exists: clause exists not yet implemented
    # Skipping test (tags=prop:len, type, type:hash) hash0133: prop:len: properties are not yet implemented
    # Skipping test (tags=prop:indices, type, type:hash) hash0134: prop:indices: properties are not yet implemented
    # Skipping test (tags=prop:keys, type, type:hash) hash0135: prop:keys: properties are not yet implemented
    # Skipping test (tags=prop:elems, type, type:hash) hash0136: prop:elems: properties are not yet implemented
    # Skipping test (tags=prop:values, type, type:hash) hash0137: prop:values: properties are not yet implemented
    # Skipping test (tags=prop:keys, type, type:hash) hash0263: prop:keys: properties are not yet implemented
    # Skipping test (tags=prop:values, type, type:hash) hash0264: prop:values: properties are not yet implemented
    # Loading 10-type-int.json ...
    # Loading 10-type-num.json ...
    # Loading 10-type-obj.json ...
    # Skipping test (tags=clause:isa, type, type:obj) obj0002: isa (nok): obj clause isa not yet implemented
    # Skipping test (tags=prop:meths, type, type:obj) obj0003: prop:meths (nok): properties are not yet implemented
    # Skipping test (tags=prop:attrs, type, type:obj) obj0004: prop:attrs (nok): properties are not yet implemented
    # Loading 10-type-str.json ...
    # Skipping test (tags=clause:check_each_index, type, type:str) str0164: check_each_index: clause check_each_index not yet implemented
    # Skipping test (tags=clause:check_each_elem, type, type:str) str0165: check_each_elem: clause check_each_elem not yet implemented
    # Skipping test (tags=clause:uniq, type, type:str) str0166: uniq=1: clause uniq not yet implemented
    # Skipping test (tags=clause:uniq, type, type:str) str0167: uniq=0: clause uniq not yet implemented
    # Skipping test (tags=clause:uniq, op, op:not, opshortcut, type, type:str) str0168: !uniq=1: clause uniq not yet implemented
    # Skipping test (tags=clause:exists, type, type:str) str0169: exists: clause exists not yet implemented
    # Skipping test (tags=prop:len, type, type:str) str0174: prop:len: properties are not yet implemented
    # Skipping test (tags=prop:indices, type, type:str) str0175: prop:indices: properties are not yet implemented
    # Skipping test (tags=prop:elems, type, type:str) str0176: prop:elems: properties are not yet implemented
    # Loading 10-type-undef.json ...
t/spectest-js.t .......... ok
All tests successful.
Files=8, Tests=46, 13 wallclock secs ( 0.35 usr  0.10 sys +  8.48 cusr  1.40 csys = 10.33 CPU)
Result: PASS

------------------------------
PREREQUISITES
------------------------------

Prerequisite modules loaded:

requires:

    Module                        Need     Have    
    ----------------------------- -------- --------
    Capture::Tiny                 0        0.46    
    Data::Clean::JSON             0.11     0.38    
    Data::Sah                     0.84     0.88    
    Data::Sah::Coerce             0.014    0.023   
    Data::Sah::Compiler::Prog     0        0.88    
    Data::Sah::Compiler::Prog::TH 0        0.88    
    Data::Sah::Type::array        0        0.88    
    Data::Sah::Type::bool         0        0.88    
    Data::Sah::Type::buf          0        0.88    
    Data::Sah::Type::cistr        0        0.88    
    Data::Sah::Type::code         0        0.88    
    Data::Sah::Type::date         0        0.88    
    Data::Sah::Type::duration     0        0.88    
    Data::Sah::Type::float        0        0.88    
    Data::Sah::Type::hash         0        0.88    
    Data::Sah::Type::int          0        0.88    
    Data::Sah::Type::num          0        0.88    
    Data::Sah::Type::obj          0        0.88    
    Data::Sah::Type::re           0        0.88    
    Data::Sah::Type::str          0        0.88    
    Data::Sah::Type::undef        0        0.88    
    Exporter                      0        5.72    
    File::Temp                    0        0.2304  
    IPC::System::Options          0.27     0.330   
    JSON::MaybeXS                 0        1.003009
    Mo                            0        0.40    
    Nodejs::Util                  0.006    0.006   
    parent                        0        0.236   
    perl                          5.010001 5.027005
    Role::Tiny::With              0        2.000005
    Scalar::Util                  0        1.49    
    Scalar::Util::Numeric::PP     0        0.04    
    strict                        0        1.11    
    String::Indent                0        0.03    
    Test::Data::Sah               0.87     0.88    
    Test::More                    0.98     1.302120
    warnings                      0        1.37    

build_requires:

    Module                        Need     Have    
    ----------------------------- -------- --------
    ExtUtils::MakeMaker           0        7.30    
    File::Spec                    0        3.68    
    IO::Handle                    0        1.36    
    IPC::Open3                    0        1.20    
    Sah::SpecTest                 v0.9.42  0.9.45  
    Test::Exception               0        0.43    
    Test::More                    0.98     1.302120

configure_requires:

    Module                        Need     Have    
    ----------------------------- -------- --------
    ExtUtils::MakeMaker           0        7.30    


------------------------------
ENVIRONMENT AND OTHER CONTEXT
------------------------------

Environment variables:

    LANG = C
    LC_ALL = de_DE.UTF-8
    PATH = /usr/local/bin:/usr/bin:/bin:/usr/local/sbin:/usr/sbin:/sbin:/home/cpansand/bin/linux-gnu:/home/cpansand/bin/sh:/home/cpansand/bin:/usr/games:/home/cpansand/devel:/home/eserte/src/srezic-misc/scripts
    PERL5LIB = 
    PERL5OPT = 
    PERL5_CPANPLUS_IS_RUNNING = 704
    PERL5_CPAN_IS_RUNNING = 704
    PERL5_CPAN_IS_RUNNING_IN_RECURSION = 31637,704
    PERLDOC = -MPod::Perldoc::ToTextOverstrike
    PERL_BATCH = yes
    PERL_CANARY_STABILITY_NOPROMPT = 1
    PERL_CPAN_REPORTER_CONFIG = /var/tmp/cpansmoker-1023/2018011321/cpanreporter_000_config.ini
    PERL_EXTUTILS_AUTOINSTALL = --defaultdeps
    PERL_PARALLEL_SMOKER = yes
    PERL_USE_UNSAFE_INC = 1
    SHELL = /bin/zsh
    TERM = screen
    TMPDIR = /var/tmp/cpansmoker-1023/2018011321

Perl special variables (and OS-specific diagnostics, for MSWin32):

    $^X = /bbbike/perl-5.27.5/bin/perl5.27.5
    $UID/$EUID = 1023 / 1023
    $GID = 1023 1023
    $EGID = 1023 1023

Perl module toolchain versions installed:

    Module              Have    
    ------------------- --------
    CPAN                2.18    
    CPAN::Meta          2.150010
    Cwd                 3.68    
    ExtUtils::CBuilder  0.280228
    ExtUtils::Command   7.30    
    ExtUtils::Install   2.14    
    ExtUtils::MakeMaker 7.30    
    ExtUtils::Manifest  1.70    
    ExtUtils::ParseXS   3.35    
    File::Spec          3.68    
    JSON                2.96    
    JSON::PP            2.96    
    Module::Build       0.4224  
    Module::Signature   0.81    
    Parse::CPAN::Meta   2.150010
    Test::Harness       3.39    
    Test::More          1.302120
    YAML                1.23    
    YAML::Syck          1.30    
    version             0.9918  


--

Summary of my perl5 (revision 5 version 27 subversion 5) configuration:
   
  Platform:
    osname=linux
    osvers=3.16.0-4-amd64
    archname=x86_64-linux
    uname='linux eserte 3.16.0-4-amd64 #1 smp debian 3.16.43-2+deb8u5 (2017-09-19) x86_64 gnulinux '
    config_args='-ds -e -Dprefix=/opt/perl-5.27.5 -Dusedevel -Dusemallocwrap=no -Dcf_email=srezic@cpan.org'
    hint=recommended
    useposix=true
    d_sigaction=define
    useithreads=undef
    usemultiplicity=undef
    use64bitint=define
    use64bitall=define
    uselongdouble=undef
    usemymalloc=n
    default_inc_excludes_dot=define
    bincompat5005=undef
  Compiler:
    cc='cc'
    ccflags ='-fwrapv -fno-strict-aliasing -pipe -fstack-protector-strong -I/usr/local/include -D_LARGEFILE_SOURCE -D_FILE_OFFSET_BITS=64 -D_FORTIFY_SOURCE=2'
    optimize='-O2'
    cppflags='-fwrapv -fno-strict-aliasing -pipe -fstack-protector-strong -I/usr/local/include'
    ccversion=''
    gccversion='4.9.2'
    gccosandvers=''
    intsize=4
    longsize=8
    ptrsize=8
    doublesize=8
    byteorder=12345678
    doublekind=3
    d_longlong=define
    longlongsize=8
    d_longdbl=define
    longdblsize=16
    longdblkind=3
    ivtype='long'
    ivsize=8
    nvtype='double'
    nvsize=8
    Off_t='off_t'
    lseeksize=8
    alignbytes=8
    prototype=define
  Linker and Libraries:
    ld='cc'
    ldflags =' -fstack-protector-strong -L/usr/local/lib'
    libpth=/usr/local/lib /usr/lib/gcc/x86_64-linux-gnu/4.9/include-fixed /usr/include/x86_64-linux-gnu /usr/lib /lib/x86_64-linux-gnu /lib/../lib /usr/lib/x86_64-linux-gnu /usr/lib/../lib /lib
    libs=-lpthread -lnsl -lgdbm -ldb -ldl -lm -lcrypt -lutil -lc -lgdbm_compat
    perllibs=-lpthread -lnsl -ldl -lm -lcrypt -lutil -lc
    libc=libc-2.19.so
    so=so
    useshrplib=false
    libperl=libperl.a
    gnulibc_version='2.19'
  Dynamic Linking:
    dlsrc=dl_dlopen.xs
    dlext=so
    d_dlsymun=undef
    ccdlflags='-Wl,-E'
    cccdlflags='-fPIC'
    lddlflags='-shared -O2 -L/usr/local/lib -fstack-protector-strong'


Characteristics of this binary (from libperl): 
  Compile-time options:
    HAS_TIMES
    PERLIO_LAYERS
    PERL_COPY_ON_WRITE
    PERL_DONT_CREATE_GVSV
    PERL_OP_PARENT
    PERL_PRESERVE_IVUV
    PERL_USE_DEVEL
    USE_64_BIT_ALL
    USE_64_BIT_INT
    USE_LARGE_FILES
    USE_LOCALE
    USE_LOCALE_COLLATE
    USE_LOCALE_CTYPE
    USE_LOCALE_NUMERIC
    USE_LOCALE_TIME
    USE_PERLIO
    USE_PERL_ATOF
  Built under linux
  Compiled at Oct 25 2017 16:04:43
  %ENV:
    PERL5LIB=""
    PERL5OPT=""
    PERL5_CPANPLUS_IS_RUNNING="704"
    PERL5_CPAN_IS_RUNNING="704"
    PERL5_CPAN_IS_RUNNING_IN_RECURSION="31637,704"
    PERLDOC="-MPod::Perldoc::ToTextOverstrike"
    PERL_BATCH="yes"
    PERL_CANARY_STABILITY_NOPROMPT="1"
    PERL_CPAN_REPORTER_CONFIG="/var/tmp/cpansmoker-1023/2018011321/cpanreporter_000_config.ini"
    PERL_EXTUTILS_AUTOINSTALL="--defaultdeps"
    PERL_PARALLEL_SMOKER="yes"
    PERL_USE_UNSAFE_INC="1"
  @INC:
    /opt/perl-5.27.5/lib/site_perl/5.27.5/x86_64-linux
    /opt/perl-5.27.5/lib/site_perl/5.27.5
    /opt/perl-5.27.5/lib/5.27.5/x86_64-linux
    /opt/perl-5.27.5/lib/5.27.5
    .