HTTP-Upload-FlowJs v0.02 Perl 5 v5.24.4 x86_64-linux-ld

Status
Pass
From
Slaven Rezić
Dist
HTTP-Upload-FlowJs v0.02
Platform
Perl 5 v5.24.4 x86_64-linux-ld
Date
2024-09-08 13:27:40
ID
1f00eeac-6de6-11ef-a9f0-f5366e8775ea
This distribution has been tested as part of the CPAN Testers
project, supporting the Perl programming language.  See
http://wiki.cpantesters.org/ for more information or email
questions to cpan-testers-discuss@perl.org


--
Dear Max Maischein,

This is a computer-generated report for HTTP-Upload-FlowJs-0.02
on perl 5.24.4, created by CPAN-Reporter-1.2019.

Thank you for uploading your work to CPAN.  Congratulations!
All tests were successful.

Sections of this report:

    * Tester comments
    * Program output
    * Prerequisites
    * Environment and other context

------------------------------
TESTER COMMENTS
------------------------------

Additional comments from tester:

none provided

------------------------------
PROGRAM OUTPUT
------------------------------

Output from '/usr/bin/make test':

PERL_DL_NONLAZY=1 "/opt/perl-5.24.4D/bin/perl" "-MExtUtils::Command::MM" "-MTest::Harness" "-e" "undef *Test::Harness::Switches; test_harness(0, 'blib/lib', 'blib/arch')" t/00-load.t t/002_http_upload_disallowedContentType.t t/003_http_upload_flowjs.t t/004_js-config.t
# Testing HTTP::Upload::FlowJs 0.02, Perl 5.024004
# Carp 1.50
# Carp::Heavy 1.50
# Class::XSAccessor 1.19
# Class::XSAccessor::Heavy 1.19
# Config 5.024004
# Data::Dumper 2.183
# DynaLoader 1.38
# Encode 3.21
# Encode::Alias 2.25
# Encode::Config 2.05
# Encode::Encoding 2.08
# Encode::MIME::Name 1.03
# Exporter 5.78
# Exporter::Heavy 5.78
# Fcntl 1.13
# File::Glob 1.26
# Filter::Simple 0.92
# Filter::Util::Call 1.64
# Filter::signatures 0.19
# HTTP::Upload::FlowJs 0.02
# IO 1.55
# IO::Handle 1.55
# JSON 4.10
# JSON::XS 4.03
# List::Util 1.64
# MIME::Detect 0.12
# MIME::Detect::Buffer <unknown>
# MIME::Detect::Type 0.12
# Method::Generate::Accessor <unknown>
# Method::Generate::Constructor <unknown>
# Moo 2.005005
# Moo::Object <unknown>
# Moo::_Utils <unknown>
# Moo::sification <unknown>
# POSIX 1.65_01
# PerlIO 1.09
# Scalar::Util 1.64
# SelectSaver 1.02
# Storable 3.25
# Sub::Defer 2.006008
# Sub::Quote 2.006008
# Sub::Util 1.64
# Symbol 1.07
# Test::Builder 1.302200
# Test::Builder::Formatter 1.302200
# Test::Builder::Module 1.302200
# Test::Builder::TodoDiag 1.302200
# Test::More 1.302200
# Test2::API 1.302200
# Test2::API::Context 1.302200
# Test2::API::Instance 1.302200
# Test2::API::Stack 1.302200
# Test2::Event 1.302200
# Test2::Event::Bail 1.302200
# Test2::Event::Diag 1.302200
# Test2::Event::Exception 1.302200
# Test2::Event::Fail 1.302200
# Test2::Event::Note 1.302200
# Test2::Event::Ok 1.302200
# Test2::Event::Pass 1.302200
# Test2::Event::Plan 1.302200
# Test2::Event::Skip 1.302200
# Test2::Event::Subtest 1.302200
# Test2::Event::V2 1.302200
# Test2::Event::Waiting 1.302200
# Test2::EventFacet 1.302200
# Test2::EventFacet::About 1.302200
# Test2::EventFacet::Amnesty 1.302200
# Test2::EventFacet::Assert 1.302200
# Test2::EventFacet::Control 1.302200
# Test2::EventFacet::Error 1.302200
# Test2::EventFacet::Hub 1.302200
# Test2::EventFacet::Info 1.302200
# Test2::EventFacet::Meta 1.302200
# Test2::EventFacet::Parent 1.302200
# Test2::EventFacet::Plan 1.302200
# Test2::EventFacet::Trace 1.302200
# Test2::Formatter 1.302200
# Test2::Formatter::TAP 1.302200
# Test2::Hub 1.302200
# Test2::Hub::Interceptor 1.302200
# Test2::Hub::Interceptor::Terminator 1.302200
# Test2::Hub::Subtest 1.302200
# Test2::Util 1.302200
# Test2::Util::ExternalMeta 1.302200
# Test2::Util::Facets2Legacy 1.302200
# Test2::Util::HashBase 1.302200
# Test2::Util::Trace 1.302200
# Text::Balanced 2.06
# Text::CleanFragment 0.08
# Text::Unidecode 1.30
# Tie::Hash 1.05
# Time::HiRes 1.9741
# Types::Serialiser 1.01
# XML::LibXML 2.0210
# XML::LibXML::AttributeHash 2.0210
# XML::LibXML::Boolean 2.0210
# XML::LibXML::Error 2.0210
# XML::LibXML::Literal 2.0210
# XML::LibXML::NodeList 2.0210
# XML::LibXML::Number 2.0210
# XML::LibXML::XPathContext 2.0210
# XML::SAX::Exception 1.09
# XSLoader 0.22
# XString 0.005
# attributes 0.27
# base 2.2301
# bytes 1.05
# common::sense 3.75
# constant 1.33
# experimental 0.032
# feature 1.42
# integer 1.01
# mro 1.18
# overload 1.26
# overloading 0.02
# parent 0.234
# re 0.32
# strict 1.11
# utf8 1.19
# vars 1.03
# version 0.9916
# version::regex 0.9916
# warnings 1.36
# warnings::register 1.04
t/00-load.t ................................ ok
t/002_http_upload_disallowedContentType.t .. ok
# Uploading sequence: 4 1 2 3
# Uploaded chunk 4
# Uploaded chunk 1
# Uploaded chunk 2
# Uploaded chunk 3
# []
# Cleaning up /var/tmp/cpansmoker-1023/2024090805/n0GF_9vCv4
t/003_http_upload_flowjs.t ................. ok
# Cleaning up /var/tmp/cpansmoker-1023/2024090805/MbatUMlooi
t/004_js-config.t .......................... ok
All tests successful.
Files=4, Tests=96,  1 wallclock secs ( 0.03 usr  0.01 sys +  0.98 cusr  0.13 csys =  1.15 CPU)
Result: PASS

------------------------------
PREREQUISITES
------------------------------

Prerequisite modules loaded:

requires:

    Module              Need     Have    
    ------------------- -------- --------
    Carp                0        1.50    
    Data::Dumper        0        2.183   
    Filter::signatures  0.10     0.19    
    JSON                0        4.10    
    MIME::Detect        0        0.12    
    perl                5.010    5.024004
    Test::More          0        1.302200
    Text::CleanFragment 0        0.08    

build_requires:

    Module              Need     Have    
    ------------------- -------- --------
    ExtUtils::MakeMaker 0        7.70    
    Test::More          1.302007 1.302200

configure_requires:

    Module              Need     Have    
    ------------------- -------- --------
    ExtUtils::MakeMaker 0        7.70    


------------------------------
ENVIRONMENT AND OTHER CONTEXT
------------------------------

Environment variables:

    LANG = en_US.UTF-8
    PATH = /usr/local/bin:/usr/bin:/bin:/usr/local/sbin:/usr/sbin:/sbin:/home/cpansand/bin/linux-gnu:/home/cpansand/bin/sh:/home/cpansand/bin:/usr/games:/home/cpansand/devel:/home/eserte/src/srezic-misc/scripts
    PERL5LIB = /home/cpansand/.cpan/build/2024090805/Text-CleanFragment-0.08-3/blib/arch:/home/cpansand/.cpan/build/2024090805/Text-CleanFragment-0.08-3/blib/lib:/home/cpansand/.cpan/build/2024090805/MIME-Detect-0.12-3/blib/arch:/home/cpansand/.cpan/build/2024090805/MIME-Detect-0.12-3/blib/lib:/home/cpansand/.cpan/build/2024090805/Filter-signatures-0.19-3/blib/arch:/home/cpansand/.cpan/build/2024090805/Filter-signatures-0.19-3/blib/lib
    PERL5OPT = 
    PERL5_CPANPLUS_IS_RUNNING = 1392156
    PERL5_CPAN_IS_RUNNING = 1392156
    PERL5_CPAN_IS_RUNNING_IN_RECURSION = 1390604,1392156
    PERLDOC = -MPod::Perldoc::ToTextOverstrike
    PERL_BATCH = yes
    PERL_CANARY_STABILITY_NOPROMPT = 1
    PERL_CPAN_REPORTER_CONFIG = /var/tmp/cpansmoker-1023/2024090805/cpanreporter_000_config.ini
    PERL_EXTUTILS_AUTOINSTALL = --defaultdeps
    PERL_USE_UNSAFE_INC = 1
    SHELL = /usr/bin/zsh
    TERM = screen
    TMPDIR = /var/tmp/cpansmoker-1023/2024090805

Perl special variables (and OS-specific diagnostics, for MSWin32):

    $^X = /opt/perl-5.24.4D/bin/perl
    $UID/$EUID = 1023 / 1023
    $GID = 1023 1023
    $EGID = 1023 1023

Perl module toolchain versions installed:

    Module              Have    
    ------------------- --------
    CPAN                2.37    
    CPAN::Meta          2.150010
    Cwd                 3.75    
    ExtUtils::CBuilder  0.280236
    ExtUtils::Command   7.70    
    ExtUtils::Install   2.06    
    ExtUtils::MakeMaker 7.70    
    ExtUtils::Manifest  1.70    
    ExtUtils::ParseXS   3.31    
    File::Spec          3.75    
    JSON                4.10    
    JSON::PP            4.16    
    Module::Build       0.4234  
    Module::Signature   n/a     
    Parse::CPAN::Meta   2.150010
    Test2               1.302200
    Test::Harness       3.36_01 
    Test::More          1.302200
    YAML                1.31    
    YAML::Syck          1.34    
    version             0.9916  


--

Summary of my perl5 (revision 5 version 24 subversion 4) configuration:
   
  Platform:
    osname=linux, osvers=5.14.0-427.24.1.el9_4.x86_64, archname=x86_64-linux-ld
    uname='linux rockylinux9-2gb-ash-1-cloud3.cloud 5.14.0-427.24.1.el9_4.x86_64 #1 smp preempt_dynamic mon jul 8 17:47:19 utc 2024 x86_64 x86_64 x86_64 gnulinux '
    config_args='-ds -e -Dprefix=/opt/perl-5.24.4D -Uinstallusrbinperl -Duselongdouble -Dcf_email=srezic@cpan.org'
    hint=recommended, useposix=true, d_sigaction=define
    useithreads=undef, usemultiplicity=undef
    use64bitint=define, use64bitall=define, uselongdouble=define
    usemymalloc=n, bincompat5005=undef
  Compiler:
    cc='cc', ccflags ='-fwrapv -fno-strict-aliasing -pipe -fstack-protector-strong -I/usr/local/include -D_LARGEFILE_SOURCE -D_FILE_OFFSET_BITS=64 -D_FORTIFY_SOURCE=2',
    optimize='-O2',
    cppflags='-fwrapv -fno-strict-aliasing -pipe -fstack-protector-strong -I/usr/local/include'
    ccversion='', gccversion='11.4.1 20231218 (Red Hat 11.4.1-3)', gccosandvers=''
    intsize=4, longsize=8, ptrsize=8, doublesize=8, byteorder=12345678, doublekind=3
    d_longlong=define, longlongsize=8, d_longdbl=define, longdblsize=16, longdblkind=3
    ivtype='long', ivsize=8, nvtype='long double', nvsize=16, Off_t='off_t', lseeksize=8
    alignbytes=16, prototype=define
  Linker and Libraries:
    ld='cc', ldflags =' -fstack-protector-strong -L/usr/local/lib'
    libpth=/usr/local/lib /usr/lib /lib/../lib64 /usr/lib/../lib64 /lib /lib64 /usr/lib64 /usr/local/lib64
    libs=-lpthread -ldb -ldl -lm -lcrypt -lutil -lc
    perllibs=-lpthread -ldl -lm -lcrypt -lutil -lc
    libc=/lib/../lib64/libc.so.6, so=so, useshrplib=false, libperl=libperl.a
    gnulibc_version='2.34'
  Dynamic Linking:
    dlsrc=dl_dlopen.xs, dlext=so, d_dlsymun=undef, ccdlflags='-Wl,-E'
    cccdlflags='-fPIC', lddlflags='-shared -O2 -L/usr/local/lib -fstack-protector-strong'


Characteristics of this binary (from libperl): 
  Compile-time options: HAS_TIMES PERLIO_LAYERS PERL_COPY_ON_WRITE
                        PERL_DONT_CREATE_GVSV
                        PERL_HASH_FUNC_ONE_AT_A_TIME_HARD PERL_MALLOC_WRAP
                        PERL_PRESERVE_IVUV USE_64_BIT_ALL USE_64_BIT_INT
                        USE_LARGE_FILES USE_LOCALE USE_LOCALE_COLLATE
                        USE_LOCALE_CTYPE USE_LOCALE_NUMERIC USE_LOCALE_TIME
                        USE_LONG_DOUBLE USE_PERLIO USE_PERL_ATOF
  Locally applied patches:
	Devel::PatchPerl 2.08
  Built under linux
  Compiled at Jul 19 2024 20:19:54
  %ENV:
    PERL5LIB="/home/cpansand/.cpan/build/2024090805/Text-CleanFragment-0.08-3/blib/arch:/home/cpansand/.cpan/build/2024090805/Text-CleanFragment-0.08-3/blib/lib:/home/cpansand/.cpan/build/2024090805/MIME-Detect-0.12-3/blib/arch:/home/cpansand/.cpan/build/2024090805/MIME-Detect-0.12-3/blib/lib:/home/cpansand/.cpan/build/2024090805/Filter-signatures-0.19-3/blib/arch:/home/cpansand/.cpan/build/2024090805/Filter-signatures-0.19-3/blib/lib"
    PERL5OPT=""
    PERL5_CPANPLUS_IS_RUNNING="1392156"
    PERL5_CPAN_IS_RUNNING="1392156"
    PERL5_CPAN_IS_RUNNING_IN_RECURSION="1390604,1392156"
    PERLDOC="-MPod::Perldoc::ToTextOverstrike"
    PERL_BATCH="yes"
    PERL_CANARY_STABILITY_NOPROMPT="1"
    PERL_CPAN_REPORTER_CONFIG="/var/tmp/cpansmoker-1023/2024090805/cpanreporter_000_config.ini"
    PERL_EXTUTILS_AUTOINSTALL="--defaultdeps"
    PERL_USE_UNSAFE_INC="1"
  @INC:
    /home/cpansand/.cpan/build/2024090805/Text-CleanFragment-0.08-3/blib/arch
    /home/cpansand/.cpan/build/2024090805/Text-CleanFragment-0.08-3/blib/lib
    /home/cpansand/.cpan/build/2024090805/MIME-Detect-0.12-3/blib/arch
    /home/cpansand/.cpan/build/2024090805/MIME-Detect-0.12-3/blib/lib
    /home/cpansand/.cpan/build/2024090805/Filter-signatures-0.19-3/blib/arch
    /home/cpansand/.cpan/build/2024090805/Filter-signatures-0.19-3/blib/lib
    /opt/perl-5.24.4D/lib/site_perl/5.24.4/x86_64-linux-ld
    /opt/perl-5.24.4D/lib/site_perl/5.24.4
    /opt/perl-5.24.4D/lib/5.24.4/x86_64-linux-ld
    /opt/perl-5.24.4D/lib/5.24.4
    .