Term-ProgressSpinner v1.01 Perl 5 v5.38.2 x86_64-linux-quadmath
- Status
- Pass
- From
- Andreas J. König (ANDK)
- Dist
-
Term-ProgressSpinner v1.01
- Platform
- Perl 5 v5.38.2 x86_64-linux-quadmath
- Date
- 2025-05-03 22:51:16
- ID
- 1ecab97c-2871-11f0-af1c-ed56423f8989
This distribution has been tested as part of the CPAN Testers
project, supporting the Perl programming language. See
http://wiki.cpantesters.org/ for more information or email
questions to cpan-testers-discuss@perl.org
--
Dear Robert Acock,
This is a computer-generated report for Term-ProgressSpinner-1.01
on perl 5.38.2, created by CPAN-Reporter-1.2019.
Thank you for uploading your work to CPAN. Congratulations!
All tests were successful.
Sections of this report:
* Tester comments
* Program output
* Prerequisites
* Environment and other context
------------------------------
TESTER COMMENTS
------------------------------
Additional comments from tester:
this report is from an automated smoke testing program
and was not reviewed by a human for accuracy
------------------------------
PROGRAM OUTPUT
------------------------------
Output from '/usr/bin/make test':
PERL_DL_NONLAZY=1 "/home/sand/src/perl/repoperls/installed-perls/host/k93msid/v5.38.2/ec94/bin/perl" "-MExtUtils::Command::MM" "-MTest::Harness" "-e" "undef *Test::Harness::Switches; test_harness(0, 'blib/lib', 'blib/arch')" t/*.t
# Testing Term::ProgressSpinner 1.01, Perl 5.038002, /home/sand/src/perl/repoperls/installed-perls/host/k93msid/v5.38.2/ec94/bin/perl
t/00-load.t ....... ok
[1;1f[2J
[2K[?25l
[3;1f
[2K[37mâÂÂâ âÂÂ[30;100m [37mâ Ââ Â[30;100m processed [37m5%[30;100m of [37m1[30;100m/[37m20[30;100m [37m0.1[30;100m/[37m1.9[30;100m[0m
[3;1f
[2K[37mâÂÂâÂÂâ âÂÂ[30;100m [37mâ¢Ââ Â[30;100m processed [37m10%[30;100m of [37m2[30;100m/[37m20[30;100m [37m0.2[30;100m/[37m1.8[30;100m[0m
[3;1f
[2K[37mâÂÂâÂÂâÂÂâ âÂÂ[30;100m [37mâ¡Ââ Â[30;100m processed [37m15%[30;100m of [37m3[30;100m/[37m20[30;100m [37m0.3[30;100m/[37m1.7[30;100m[0m
[3;1f
[2K[37mâÂÂâÂÂâÂÂâÂÂâ âÂÂ[30;100m [37mâ Â
â Â[30;100m processed [37m20%[30;100m of [37m4[30;100m/[37m20[30;100m [37m0.4[30;100m/[37m1.6[30;100m[0m
[3;1f
[2K[37mâÂÂâÂÂâÂÂâÂÂâÂÂâ âÂÂ[30;100m [37mâ¢Ââ Â[30;100m processed [37m25%[30;100m of [37m5[30;100m/[37m20[30;100m [37m0.51[30;100m/[37m1.53[30;100m[0m
[3;1f
[2K[37mâÂÂâÂÂâÂÂâÂÂâÂÂâÂÂâ âÂÂ[30;100m [37mâ¡Ââ Â[30;100m processed [37m30%[30;100m of [37m6[30;100m/[37m20[30;100m [37m0.61[30;100m/[37m1.42[30;100m[0m
[3;1f
[2K[37mâÂÂâÂÂâÂÂâÂÂâÂÂâÂÂâÂÂâ âÂÂ[30;100m [37mâ Ââ Â[30;100m processed [37m35%[30;100m of [37m7[30;100m/[37m20[30;100m [37m0.71[30;100m/[37m1.32[30;100m[0m
[3;1f
[2K[37mâÂÂâÂÂâÂÂâÂÂâÂÂâÂÂâÂÂâÂÂâ âÂÂ[30;100m [37mâ¢Ââ Â[30;100m processed [37m40%[30;100m of [37m8[30;100m/[37m20[30;100m [37m0.81[30;100m/[37m1.22[30;100m[0m
[3;1f
[2K[37mâÂÂâÂÂâÂÂâÂÂâÂÂâÂÂâÂÂâÂÂâÂÂâ âÂÂ[30;100m [37mâ¡Ââ Â[30;100m processed [37m45%[30;100m of [37m9[30;100m/[37m20[30;100m [37m0.91[30;100m/[37m1.11[30;100m[0m
[3;1f
[2K[37mâÂÂâÂÂâÂÂâÂÂâÂÂâÂÂâÂÂâÂÂâÂÂâÂÂâ âÂÂ[30;100m [37mâ Ââ Â[30;100m processed [37m50%[30;100m of [37m10[30;100m/[37m20[30;100m [37m1.02[30;100m/[37m1.02[30;100m[0m
[3;1f
[2K[37mâÂÂâÂÂâÂÂâÂÂâÂÂâÂÂâÂÂâÂÂâÂÂâÂÂâÂÂâ âÂÂ[30;100m [37mâ¢Ââ Â[30;100m processed [37m55%[30;100m of [37m11[30;100m/[37m20[30;100m [37m1.12[30;100m/[37m0.92[30;100m[0m
[3;1f
[2K[37mâÂÂâÂÂâÂÂâÂÂâÂÂâÂÂâÂÂâÂÂâÂÂâÂÂâÂÂâÂÂâ âÂÂ[30;100m [37mâ¡Ââ Â[30;100m processed [37m60%[30;100m of [37m12[30;100m/[37m20[30;100m [37m1.22[30;100m/[37m0.81[30;100m[0m
[3;1f
[2K[37mâÂÂâÂÂâÂÂâÂÂâÂÂâÂÂâÂÂâÂÂâÂÂâÂÂâÂÂâÂÂâÂÂâ âÂÂ[30;100m [37mâ Ââ Â[30;100m processed [37m65%[30;100m of [37m13[30;100m/[37m20[30;100m [37m1.32[30;100m/[37m0.71[30;100m[0m
[3;1f
[2K[37mâÂÂâÂÂâÂÂâÂÂâÂÂâÂÂâÂÂâÂÂâÂÂâÂÂâÂÂâÂÂâÂÂâÂÂâ âÂÂ[30;100m [37mâ Ââ Â[30;100m processed [37m70%[30;100m of [37m14[30;100m/[37m20[30;100m [37m1.42[30;100m/[37m0.61[30;100m[0m
[3;1f
[2K[37mâÂÂâÂÂâÂÂâÂÂâÂÂâÂÂâÂÂâÂÂâÂÂâÂÂâÂÂâÂÂâÂÂâÂÂâÂÂâ âÂÂ[30;100m [37mâ Ââ Â[30;100m processed [37m75%[30;100m of [37m15[30;100m/[37m20[30;100m [37m1.52[30;100m/[37m0.51[30;100m[0m
[3;1f
[2K[37mâÂÂâÂÂâÂÂâÂÂâÂÂâÂÂâÂÂâÂÂâÂÂâÂÂâÂÂâÂÂâÂÂâÂÂâÂÂâÂÂâ âÂÂ[30;100m [37mâ Ââ Â[30;100m processed [37m80%[30;100m of [37m16[30;100m/[37m20[30;100m [37m1.62[30;100m/[37m0.41[30;100m[0m
[3;1f
[2K[37mâÂÂâÂÂâÂÂâÂÂâÂÂâÂÂâÂÂâÂÂâÂÂâÂÂâÂÂâÂÂâÂÂâÂÂâÂÂâÂÂâÂÂâ âÂÂ[30;100m [37mâ Ââ Â[30;100m processed [37m85%[30;100m of [37m17[30;100m/[37m20[30;100m [37m1.73[30;100m/[37m0.31[30;100m[0m
[3;1f
[2K[37mâÂÂâÂÂâÂÂâÂÂâÂÂâÂÂâÂÂâÂÂâÂÂâÂÂâÂÂâÂÂâÂÂâÂÂâÂÂâÂÂâÂÂâÂÂâ âÂÂ[30;100m [37mâ Ââ ©[30;100m processed [37m90%[30;100m of [37m18[30;100m/[37m20[30;100m [37m1.83[30;100m/[37m0.2[30;100m[0m
[3;1f
[2K[37mâÂÂâÂÂâÂÂâÂÂâÂÂâÂÂâÂÂâÂÂâÂÂâÂÂâÂÂâÂÂâÂÂâÂÂâÂÂâÂÂâÂÂâÂÂâÂÂâ âÂÂ[30;100m [37mâ Ââ¢Â[30;100m processed [37m95%[30;100m of [37m19[30;100m/[37m20[30;100m [37m1.93[30;100m/[37m0.1[30;100m[0m
[3;1f
[2K[37mâÂÂâÂÂâÂÂâÂÂâÂÂâÂÂâÂÂâÂÂâÂÂâÂÂâÂÂâÂÂâÂÂâÂÂâÂÂâÂÂâÂÂâÂÂâÂÂâÂÂâÂÂâÂÂ[30;100m [37mâ Ââ¡Â[30;100m processed [37m100%[30;100m of [37m20[30;100m/[37m20[30;100m [37m2.03[30;100m/[37m0[30;100m[0m
[?25h
[2K[?25l
[5;1f
[2K[37mâÂÂâ âÂÂ[30;100m [37mâÂÂâÂÂâÂÂ[30;100m processed [37m5%[30;100m of [37m1[30;100m/[37m20[30;100m [37m0.1[30;100m/[37m1.9[30;100m[0m
[5;1f
[2K[37mâÂÂâÂÂâ âÂÂ[30;100m [37mâÂÂâÂÂ
âÂÂ[30;100m processed [37m10%[30;100m of [37m2[30;100m/[37m20[30;100m [37m0.2[30;100m/[37m1.8[30;100m[0m
[5;1f
[2K[37mâÂÂâÂÂâÂÂâ âÂÂ[30;100m [37mâÂÂâÂÂâÂÂ[30;100m processed [37m15%[30;100m of [37m3[30;100m/[37m20[30;100m [37m0.3[30;100m/[37m1.7[30;100m[0m
[5;1f
[2K[37mâÂÂâÂÂâÂÂâÂÂâ âÂÂ[30;100m [37mâÂÂâÂÂâÂÂ[30;100m processed [37m20%[30;100m of [37m4[30;100m/[37m20[30;100m [37m0.4[30;100m/[37m1.6[30;100m[0m
[5;1f
[2K[37mâÂÂâÂÂâÂÂâÂÂâÂÂâ âÂÂ[30;100m [37mâÂÂâÂÂâÂÂ[30;100m processed [37m25%[30;100m of [37m5[30;100m/[37m20[30;100m [37m0.51[30;100m/[37m1.53[30;100m[0m
[5;1f
[2K[37mâÂÂâÂÂâÂÂâÂÂâÂÂâÂÂâ âÂÂ[30;100m [37mâÂÂâÂÂâÂÂ
[30;100m processed [37m30%[30;100m of [37m6[30;100m/[37m20[30;100m [37m0.61[30;100m/[37m1.42[30;100m[0m
[5;1f
[2K[37mâÂÂâÂÂâÂÂâÂÂâÂÂâÂÂâÂÂâ âÂÂ[30;100m [37mâÂÂâÂÂâÂÂ[30;100m processed [37m35%[30;100m of [37m7[30;100m/[37m20[30;100m [37m0.71[30;100m/[37m1.32[30;100m[0m
[5;1f
[2K[37mâÂÂâÂÂâÂÂâÂÂâÂÂâÂÂâÂÂâÂÂâ âÂÂ[30;100m [37mâÂÂ
âÂÂâÂÂ[30;100m processed [37m40%[30;100m of [37m8[30;100m/[37m20[30;100m [37m0.81[30;100m/[37m1.22[30;100m[0m
[5;1f
[2K[37mâÂÂâÂÂâÂÂâÂÂâÂÂâÂÂâÂÂâÂÂâÂÂâ âÂÂ[30;100m [37mâÂÂâÂÂâÂÂ[30;100m processed [37m45%[30;100m of [37m9[30;100m/[37m20[30;100m [37m0.91[30;100m/[37m1.11[30;100m[0m
[5;1f
[2K[37mâÂÂâÂÂâÂÂâÂÂâÂÂâÂÂâÂÂâÂÂâÂÂâÂÂâ âÂÂ[30;100m [37mâÂÂâÂÂ
âÂÂ[30;100m processed [37m50%[30;100m of [37m10[30;100m/[37m20[30;100m [37m1.01[30;100m/[37m1.01[30;100m[0m
[5;1f
[2K[37mâÂÂâÂÂâÂÂâÂÂâÂÂâÂÂâÂÂâÂÂâÂÂâÂÂâÂÂâ âÂÂ[30;100m [37mâÂÂâÂÂâÂÂ[30;100m processed [37m55%[30;100m of [37m11[30;100m/[37m20[30;100m [37m1.11[30;100m/[37m0.91[30;100m[0m
[5;1f
[2K[37mâÂÂâÂÂâÂÂâÂÂâÂÂâÂÂâÂÂâÂÂâÂÂâÂÂâÂÂâÂÂâ âÂÂ[30;100m [37mâÂÂâÂÂâÂÂ[30;100m processed [37m60%[30;100m of [37m12[30;100m/[37m20[30;100m [37m1.21[30;100m/[37m0.81[30;100m[0m
[5;1f
[2K[37mâÂÂâÂÂâÂÂâÂÂâÂÂâÂÂâÂÂâÂÂâÂÂâÂÂâÂÂâÂÂâÂÂâ âÂÂ[30;100m [37mâÂÂâÂÂâÂÂ[30;100m processed [37m65%[30;100m of [37m13[30;100m/[37m20[30;100m [37m1.32[30;100m/[37m0.71[30;100m[0m
[5;1f
[2K[37mâÂÂâÂÂâÂÂâÂÂâÂÂâÂÂâÂÂâÂÂâÂÂâÂÂâÂÂâÂÂâÂÂâÂÂâ âÂÂ[30;100m [37mâÂÂâÂÂâÂÂ
[30;100m processed [37m70%[30;100m of [37m14[30;100m/[37m20[30;100m [37m1.42[30;100m/[37m0.61[30;100m[0m
[5;1f
[2K[37mâÂÂâÂÂâÂÂâÂÂâÂÂâÂÂâÂÂâÂÂâÂÂâÂÂâÂÂâÂÂâÂÂâÂÂâÂÂâ âÂÂ[30;100m [37mâÂÂâÂÂâÂÂ[30;100m processed [37m75%[30;100m of [37m15[30;100m/[37m20[30;100m [37m1.52[30;100m/[37m0.51[30;100m[0m
[5;1f
[2K[37mâÂÂâÂÂâÂÂâÂÂâÂÂâÂÂâÂÂâÂÂâÂÂâÂÂâÂÂâÂÂâÂÂâÂÂâÂÂâÂÂâ âÂÂ[30;100m [37mâÂÂ
âÂÂâÂÂ[30;100m processed [37m80%[30;100m of [37m16[30;100m/[37m20[30;100m [37m1.62[30;100m/[37m0.41[30;100m[0m
[5;1f
[2K[37mâÂÂâÂÂâÂÂâÂÂâÂÂâÂÂâÂÂâÂÂâÂÂâÂÂâÂÂâÂÂâÂÂâÂÂâÂÂâÂÂâÂÂâ âÂÂ[30;100m [37mâÂÂâÂÂâÂÂ[30;100m processed [37m85%[30;100m of [37m17[30;100m/[37m20[30;100m [37m1.72[30;100m/[37m0.3[30;100m[0m
[5;1f
[2K[37mâÂÂâÂÂâÂÂâÂÂâÂÂâÂÂâÂÂâÂÂâÂÂâÂÂâÂÂâÂÂâÂÂâÂÂâÂÂâÂÂâÂÂâÂÂâ âÂÂ[30;100m [37mâÂÂâÂÂ
âÂÂ[30;100m processed [37m90%[30;100m of [37m18[30;100m/[37m20[30;100m [37m1.82[30;100m/[37m0.2[30;100m[0m
[5;1f
[2K[37mâÂÂâÂÂâÂÂâÂÂâÂÂâÂÂâÂÂâÂÂâÂÂâÂÂâÂÂâÂÂâÂÂâÂÂâÂÂâÂÂâÂÂâÂÂâÂÂâ âÂÂ[30;100m [37mâÂÂâÂÂâÂÂ[30;100m processed [37m95%[30;100m of [37m19[30;100m/[37m20[30;100m [37m1.92[30;100m/[37m0.1[30;100m[0m
[5;1f
[2K[37mâÂÂâÂÂâÂÂâÂÂâÂÂâÂÂâÂÂâÂÂâÂÂâÂÂâÂÂâÂÂâÂÂâÂÂâÂÂâÂÂâÂÂâÂÂâÂÂâÂÂâÂÂâÂÂ[30;100m [37mâÂÂâÂÂâÂÂ[30;100m processed [37m100%[30;100m of [37m20[30;100m/[37m20[30;100m [37m2.03[30;100m/[37m0[30;100m[0m
[?25h
[2K[?25l
[7;1f
[2K[37mãÂÂ= ãÂÂ[30;100m [37mâÂÂ[30;100m processed [37m5%[30;100m of [37m1[30;100m/[37m20[30;100m [37m0.1[30;100m/[37m1.9[30;100m[0m
[7;1f
[2K[37mãÂÂ== ãÂÂ[30;100m [37mâÂÂ[30;100m processed [37m10%[30;100m of [37m2[30;100m/[37m20[30;100m [37m0.2[30;100m/[37m1.8[30;100m[0m
[7;1f
[2K[37mãÂÂ=== ãÂÂ[30;100m [37mâÂÂ[30;100m processed [37m15%[30;100m of [37m3[30;100m/[37m20[30;100m [37m0.3[30;100m/[37m1.7[30;100m[0m
[7;1f
[2K[37mãÂÂ==== ãÂÂ[30;100m [37mâÂÂ[30;100m processed [37m20%[30;100m of [37m4[30;100m/[37m20[30;100m [37m0.4[30;100m/[37m1.6[30;100m[0m
[7;1f
[2K[37mãÂÂ===== ãÂÂ[30;100m [37m⦿[30;100m processed [37m25%[30;100m of [37m5[30;100m/[37m20[30;100m [37m0.5[30;100m/[37m1.5[30;100m[0m
[7;1f
[2K[37mãÂÂ====== ãÂÂ[30;100m [37mâÂÂ[30;100m processed [37m30%[30;100m of [37m6[30;100m/[37m20[30;100m [37m0.61[30;100m/[37m1.42[30;100m[0m
[7;1f
[2K[37mãÂÂ======= ãÂÂ[30;100m [37mâÂÂ[30;100m processed [37m35%[30;100m of [37m7[30;100m/[37m20[30;100m [37m0.71[30;100m/[37m1.32[30;100m[0m
[7;1f
[2K[37mãÂÂ======== ãÂÂ[30;100m [37mâÂÂ[30;100m processed [37m40%[30;100m of [37m8[30;100m/[37m20[30;100m [37m0.81[30;100m/[37m1.22[30;100m[0m
[7;1f
[2K[37mãÂÂ========= ãÂÂ[30;100m [37mâ¦[30;100m processed [37m45%[30;100m of [37m9[30;100m/[37m20[30;100m [37m0.91[30;100m/[37m1.11[30;100m[0m
[7;1f
[2K[37mãÂÂ========== ãÂÂ[30;100m [37mã»[30;100m processed [37m50%[30;100m of [37m10[30;100m/[37m20[30;100m [37m1.01[30;100m/[37m1.01[30;100m[0m
[7;1f
[2K[37mãÂÂ=========== ãÂÂ[30;100m [37mã»[30;100m processed [37m55%[30;100m of [37m11[30;100m/[37m20[30;100m [37m1.12[30;100m/[37m0.92[30;100m[0m
[7;1f
[2K[37mãÂÂ============ ãÂÂ[30;100m [37mâ¦[30;100m processed [37m60%[30;100m of [37m12[30;100m/[37m20[30;100m [37m1.22[30;100m/[37m0.81[30;100m[0m
[7;1f
[2K[37mãÂÂ============= ãÂÂ[30;100m [37mâÂÂ[30;100m processed [37m65%[30;100m of [37m13[30;100m/[37m20[30;100m [37m1.32[30;100m/[37m0.71[30;100m[0m
[7;1f
[2K[37mãÂÂ============== ãÂÂ[30;100m [37mâÂÂ[30;100m processed [37m70%[30;100m of [37m14[30;100m/[37m20[30;100m [37m1.42[30;100m/[37m0.61[30;100m[0m
[7;1f
[2K[37mãÂÂ=============== ãÂÂ[30;100m [37mâÂÂ[30;100m processed [37m75%[30;100m of [37m15[30;100m/[37m20[30;100m [37m1.52[30;100m/[37m0.51[30;100m[0m
[7;1f
[2K[37mãÂÂ================ ãÂÂ[30;100m [37mâÂÂ[30;100m processed [37m80%[30;100m of [37m16[30;100m/[37m20[30;100m [37m1.63[30;100m/[37m0.41[30;100m[0m
[7;1f
[2K[37mãÂÂ================= ãÂÂ[30;100m [37m⦿[30;100m processed [37m85%[30;100m of [37m17[30;100m/[37m20[30;100m [37m1.73[30;100m/[37m0.31[30;100m[0m
[7;1f
[2K[37mãÂÂ================== ãÂÂ[30;100m [37mâÂÂ[30;100m processed [37m90%[30;100m of [37m18[30;100m/[37m20[30;100m [37m1.83[30;100m/[37m0.2[30;100m[0m
[7;1f
[2K[37mãÂÂ=================== ãÂÂ[30;100m [37mâÂÂ[30;100m processed [37m95%[30;100m of [37m19[30;100m/[37m20[30;100m [37m1.93[30;100m/[37m0.1[30;100m[0m
[7;1f
[2K[37mãÂÂ====================ãÂÂ[30;100m [37mâÂÂ[30;100m processed [37m100%[30;100m of [37m20[30;100m/[37m20[30;100m [37m2.03[30;100m/[37m0[30;100m[0m
[?25h
[2K[?25l
[9;1f
[2K[37mâÂÂâ âÂÂ[30;100m [37mâÂÂ[30;100m processed [37m5%[30;100m of [37m1[30;100m/[37m20[30;100m [37m0.1[30;100m/[37m1.9[30;100m[0m
[9;1f
[2K[37mâÂÂâÂÂâ âÂÂ[30;100m [37mâÂÂ[30;100m processed [37m10%[30;100m of [37m2[30;100m/[37m20[30;100m [37m0.2[30;100m/[37m1.8[30;100m[0m
[9;1f
[2K[37mâÂÂâÂÂâÂÂâ âÂÂ[30;100m [37mâÂÂ[30;100m processed [37m15%[30;100m of [37m3[30;100m/[37m20[30;100m [37m0.3[30;100m/[37m1.7[30;100m[0m
[9;1f
[2K[37mâÂÂâÂÂâÂÂâÂÂâ âÂÂ[30;100m [37mâÂÂ[30;100m processed [37m20%[30;100m of [37m4[30;100m/[37m20[30;100m [37m0.4[30;100m/[37m1.6[30;100m[0m
[9;1f
[2K[37mâÂÂâÂÂâÂÂâÂÂâÂÂâ âÂÂ[30;100m [37mâÂÂ[30;100m processed [37m25%[30;100m of [37m5[30;100m/[37m20[30;100m [37m0.51[30;100m/[37m1.53[30;100m[0m
[9;1f
[2K[37mâÂÂâÂÂâÂÂâÂÂâÂÂâÂÂâ âÂÂ[30;100m [37mâÂÂ[30;100m processed [37m30%[30;100m of [37m6[30;100m/[37m20[30;100m [37m0.61[30;100m/[37m1.42[30;100m[0m
[9;1f
[2K[37mâÂÂâÂÂâÂÂâÂÂâÂÂâÂÂâÂÂâ âÂÂ[30;100m [37mâÂÂ[30;100m processed [37m35%[30;100m of [37m7[30;100m/[37m20[30;100m [37m0.71[30;100m/[37m1.32[30;100m[0m
[9;1f
[2K[37mâÂÂâÂÂâÂÂâÂÂâÂÂâÂÂâÂÂâÂÂâ âÂÂ[30;100m [37mâÂÂ[30;100m processed [37m40%[30;100m of [37m8[30;100m/[37m20[30;100m [37m0.81[30;100m/[37m1.22[30;100m[0m
[9;1f
[2K[37mâÂÂâÂÂâÂÂâÂÂâÂÂâÂÂâÂÂâÂÂâÂÂâ âÂÂ[30;100m [37mâÂÂ[30;100m processed [37m45%[30;100m of [37m9[30;100m/[37m20[30;100m [37m0.91[30;100m/[37m1.11[30;100m[0m
[9;1f
[2K[37mâÂÂâÂÂâÂÂâÂÂâÂÂâÂÂâÂÂâÂÂâÂÂâÂÂâ âÂÂ[30;100m [37mâÂÂ[30;100m processed [37m50%[30;100m of [37m10[30;100m/[37m20[30;100m [37m1.02[30;100m/[37m1.02[30;100m[0m
[9;1f
[2K[37mâÂÂâÂÂâÂÂâÂÂâÂÂâÂÂâÂÂâÂÂâÂÂâÂÂâÂÂâ âÂÂ[30;100m [37mâÂÂ[30;100m processed [37m55%[30;100m of [37m11[30;100m/[37m20[30;100m [37m1.12[30;100m/[37m0.92[30;100m[0m
[9;1f
[2K[37mâÂÂâÂÂâÂÂâÂÂâÂÂâÂÂâÂÂâÂÂâÂÂâÂÂâÂÂâÂÂâ âÂÂ[30;100m [37mâÂÂ[30;100m processed [37m60%[30;100m of [37m12[30;100m/[37m20[30;100m [37m1.22[30;100m/[37m0.81[30;100m[0m
[9;1f
[2K[37mâÂÂâÂÂâÂÂâÂÂâÂÂâÂÂâÂÂâÂÂâÂÂâÂÂâÂÂâÂÂâÂÂâ âÂÂ[30;100m [37mâÂÂ[30;100m processed [37m65%[30;100m of [37m13[30;100m/[37m20[30;100m [37m1.32[30;100m/[37m0.71[30;100m[0m
[9;1f
[2K[37mâÂÂâÂÂâÂÂâÂÂâÂÂâÂÂâÂÂâÂÂâÂÂâÂÂâÂÂâÂÂâÂÂâÂÂâ âÂÂ[30;100m [37mâÂÂ[30;100m processed [37m70%[30;100m of [37m14[30;100m/[37m20[30;100m [37m1.43[30;100m/[37m0.61[30;100m[0m
[9;1f
[2K[37mâÂÂâÂÂâÂÂâÂÂâÂÂâÂÂâÂÂâÂÂâÂÂâÂÂâÂÂâÂÂâÂÂâÂÂâÂÂâ âÂÂ[30;100m [37mâÂÂ[30;100m processed [37m75%[30;100m of [37m15[30;100m/[37m20[30;100m [37m1.53[30;100m/[37m0.51[30;100m[0m
[9;1f
[2K[37mâÂÂâÂÂâÂÂâÂÂâÂÂâÂÂâÂÂâÂÂâÂÂâÂÂâÂÂâÂÂâÂÂâÂÂâÂÂâÂÂâ âÂÂ[30;100m [37mâÂÂ[30;100m processed [37m80%[30;100m of [37m16[30;100m/[37m20[30;100m [37m1.63[30;100m/[37m0.41[30;100m[0m
[9;1f
[2K[37mâÂÂâÂÂâÂÂâÂÂâÂÂâÂÂâÂÂâÂÂâÂÂâÂÂâÂÂâÂÂâÂÂâÂÂâÂÂâÂÂâÂÂâ âÂÂ[30;100m [37mâÂÂ[30;100m processed [37m85%[30;100m of [37m17[30;100m/[37m20[30;100m [37m1.73[30;100m/[37m0.31[30;100m[0m
[9;1f
[2K[37mâÂÂâÂÂâÂÂâÂÂâÂÂâÂÂâÂÂâÂÂâÂÂâÂÂâÂÂâÂÂâÂÂâÂÂâÂÂâÂÂâÂÂâÂÂâ âÂÂ[30;100m [37mâÂÂ[30;100m processed [37m90%[30;100m of [37m18[30;100m/[37m20[30;100m [37m1.83[30;100m/[37m0.2[30;100m[0m
[9;1f
[2K[37mâÂÂâÂÂâÂÂâÂÂâÂÂâÂÂâÂÂâÂÂâÂÂâÂÂâÂÂâÂÂâÂÂâÂÂâÂÂâÂÂâÂÂâÂÂâÂÂâ âÂÂ[30;100m [37mâÂÂ[30;100m processed [37m95%[30;100m of [37m19[30;100m/[37m20[30;100m [37m1.94[30;100m/[37m0.1[30;100m[0m
[9;1f
[2K[37mâÂÂâÂÂâÂÂâÂÂâÂÂâÂÂâÂÂâÂÂâÂÂâÂÂâÂÂâÂÂâÂÂâÂÂâÂÂâÂÂâÂÂâÂÂâÂÂâÂÂâÂÂâÂÂ[30;100m [37mâÂÂ[30;100m processed [37m100%[30;100m of [37m20[30;100m/[37m20[30;100m [37m2.04[30;100m/[37m0[30;100m[0m
[?25h
[2K[?25l
[11;1f
[2K[37mâÂÂâ âÂÂ[30;100m [37mð [30;100m processed [37m5%[30;100m of [37m1[30;100m/[37m20[30;100m [37m0.1[30;100m/[37m1.9[30;100m[0m
[11;1f
[2K[37mâÂÂâÂÂâ âÂÂ[30;100m [37mð [30;100m processed [37m10%[30;100m of [37m2[30;100m/[37m20[30;100m [37m0.2[30;100m/[37m1.8[30;100m[0m
[11;1f
[2K[37mâÂÂâÂÂâÂÂâ âÂÂ[30;100m [37mð [30;100m processed [37m15%[30;100m of [37m3[30;100m/[37m20[30;100m [37m0.31[30;100m/[37m1.76[30;100m[0m
[11;1f
[2K[37mâÂÂâÂÂâÂÂâÂÂâ âÂÂ[30;100m [37mð [30;100m processed [37m20%[30;100m of [37m4[30;100m/[37m20[30;100m [37m0.41[30;100m/[37m1.64[30;100m[0m
[11;1f
[2K[37mâÂÂâÂÂâÂÂâÂÂâÂÂâ âÂÂ[30;100m [37mð [30;100m processed [37m25%[30;100m of [37m5[30;100m/[37m20[30;100m [37m0.51[30;100m/[37m1.53[30;100m[0m
[11;1f
[2K[37mâÂÂâÂÂâÂÂâÂÂâÂÂâÂÂâ âÂÂ[30;100m [37mð [30;100m processed [37m30%[30;100m of [37m6[30;100m/[37m20[30;100m [37m0.61[30;100m/[37m1.42[30;100m[0m
[11;1f
[2K[37mâÂÂâÂÂâÂÂâÂÂâÂÂâÂÂâÂÂâ âÂÂ[30;100m [37mð [30;100m processed [37m35%[30;100m of [37m7[30;100m/[37m20[30;100m [37m0.71[30;100m/[37m1.32[30;100m[0m
[11;1f
[2K[37mâÂÂâÂÂâÂÂâÂÂâÂÂâÂÂâÂÂâÂÂâ âÂÂ[30;100m [37mð [30;100m processed [37m40%[30;100m of [37m8[30;100m/[37m20[30;100m [37m0.82[30;100m/[37m1.23[30;100m[0m
[11;1f
[2K[37mâÂÂâÂÂâÂÂâÂÂâÂÂâÂÂâÂÂâÂÂâÂÂâ âÂÂ[30;100m [37mð [30;100m processed [37m45%[30;100m of [37m9[30;100m/[37m20[30;100m [37m0.92[30;100m/[37m1.12[30;100m[0m
[11;1f
[2K[37mâÂÂâÂÂâÂÂâÂÂâÂÂâÂÂâÂÂâÂÂâÂÂâÂÂâ âÂÂ[30;100m [37mð [30;100m processed [37m50%[30;100m of [37m10[30;100m/[37m20[30;100m [37m1.02[30;100m/[37m1.02[30;100m[0m
[11;1f
[2K[37mâÂÂâÂÂâÂÂâÂÂâÂÂâÂÂâÂÂâÂÂâÂÂâÂÂâÂÂâ âÂÂ[30;100m [37mð [30;100m processed [37m55%[30;100m of [37m11[30;100m/[37m20[30;100m [37m1.12[30;100m/[37m0.92[30;100m[0m
[11;1f
[2K[37mâÂÂâÂÂâÂÂâÂÂâÂÂâÂÂâÂÂâÂÂâÂÂâÂÂâÂÂâÂÂâ âÂÂ[30;100m [37mð [30;100m processed [37m60%[30;100m of [37m12[30;100m/[37m20[30;100m [37m1.22[30;100m/[37m0.81[30;100m[0m
[11;1f
[2K[37mâÂÂâÂÂâÂÂâÂÂâÂÂâÂÂâÂÂâÂÂâÂÂâÂÂâÂÂâÂÂâÂÂâ âÂÂ[30;100m [37mð [30;100m processed [37m65%[30;100m of [37m13[30;100m/[37m20[30;100m [37m1.33[30;100m/[37m0.72[30;100m[0m
[11;1f
[2K[37mâÂÂâÂÂâÂÂâÂÂâÂÂâÂÂâÂÂâÂÂâÂÂâÂÂâÂÂâÂÂâÂÂâÂÂâ âÂÂ[30;100m [37mð [30;100m processed [37m70%[30;100m of [37m14[30;100m/[37m20[30;100m [37m1.43[30;100m/[37m0.61[30;100m[0m
[11;1f
[2K[37mâÂÂâÂÂâÂÂâÂÂâÂÂâÂÂâÂÂâÂÂâÂÂâÂÂâÂÂâÂÂâÂÂâÂÂâÂÂâ âÂÂ[30;100m [37mð [30;100m processed [37m75%[30;100m of [37m15[30;100m/[37m20[30;100m [37m1.53[30;100m/[37m0.51[30;100m[0m
[11;1f
[2K[37mâÂÂâÂÂâÂÂâÂÂâÂÂâÂÂâÂÂâÂÂâÂÂâÂÂâÂÂâÂÂâÂÂâÂÂâÂÂâÂÂâ âÂÂ[30;100m [37mð [30;100m processed [37m80%[30;100m of [37m16[30;100m/[37m20[30;100m [37m1.63[30;100m/[37m0.41[30;100m[0m
[11;1f
[2K[37mâÂÂâÂÂâÂÂâÂÂâÂÂâÂÂâÂÂâÂÂâÂÂâÂÂâÂÂâÂÂâÂÂâÂÂâÂÂâÂÂâÂÂâ âÂÂ[30;100m [37mð [30;100m processed [37m85%[30;100m of [37m17[30;100m/[37m20[30;100m [37m1.73[30;100m/[37m0.31[30;100m[0m
[11;1f
[2K[37mâÂÂâÂÂâÂÂâÂÂâÂÂâÂÂâÂÂâÂÂâÂÂâÂÂâÂÂâÂÂâÂÂâÂÂâÂÂâÂÂâÂÂâÂÂâ âÂÂ[30;100m [37mð [30;100m processed [37m90%[30;100m of [37m18[30;100m/[37m20[30;100m [37m1.84[30;100m/[37m0.2[30;100m[0m
[11;1f
[2K[37mâÂÂâÂÂâÂÂâÂÂâÂÂâÂÂâÂÂâÂÂâÂÂâÂÂâÂÂâÂÂâÂÂâÂÂâÂÂâÂÂâÂÂâÂÂâÂÂâ âÂÂ[30;100m [37mð [30;100m processed [37m95%[30;100m of [37m19[30;100m/[37m20[30;100m [37m1.94[30;100m/[37m0.1[30;100m[0m
[11;1f
[2K[37mâÂÂâÂÂâÂÂâÂÂâÂÂâÂÂâÂÂâÂÂâÂÂâÂÂâÂÂâÂÂâÂÂâÂÂâÂÂâÂÂâÂÂâÂÂâÂÂâÂÂâÂÂâÂÂ[30;100m [37mð [30;100m processed [37m100%[30;100m of [37m20[30;100m/[37m20[30;100m [37m2.04[30;100m/[37m0[30;100m[0m
[?25h
[2K[?25l
[13;1f
[2K[37mâÂÂâ âÂÂ[30;100m [37mð¡[30;100m processed [37m5%[30;100m of [37m1[30;100m/[37m20[30;100m [37m0.1[30;100m/[37m1.9[30;100m[0m
[13;1f
[2K[37mâÂÂâÂÂâ âÂÂ[30;100m [37mð¢[30;100m processed [37m10%[30;100m of [37m2[30;100m/[37m20[30;100m [37m0.2[30;100m/[37m1.8[30;100m[0m
[13;1f
[2K[37mâÂÂâÂÂâÂÂâ âÂÂ[30;100m [37mðµ[30;100m processed [37m15%[30;100m of [37m3[30;100m/[37m20[30;100m [37m0.31[30;100m/[37m1.76[30;100m[0m
[13;1f
[2K[37mâÂÂâÂÂâÂÂâÂÂâ âÂÂ[30;100m [37mð£[30;100m processed [37m20%[30;100m of [37m4[30;100m/[37m20[30;100m [37m0.41[30;100m/[37m1.64[30;100m[0m
[13;1f
[2K[37mâÂÂâÂÂâÂÂâÂÂâÂÂâ âÂÂ[30;100m [37mâ«ï¸Â[30;100m processed [37m25%[30;100m of [37m5[30;100m/[37m20[30;100m [37m0.51[30;100m/[37m1.53[30;100m[0m
[13;1f
[2K[37mâÂÂâÂÂâÂÂâÂÂâÂÂâÂÂâ âÂÂ[30;100m [37mâªï¸Â[30;100m processed [37m30%[30;100m of [37m6[30;100m/[37m20[30;100m [37m0.61[30;100m/[37m1.42[30;100m[0m
[13;1f
[2K[37mâÂÂâÂÂâÂÂâÂÂâÂÂâÂÂâÂÂâ âÂÂ[30;100m [37mð¤[30;100m processed [37m35%[30;100m of [37m7[30;100m/[37m20[30;100m [37m0.71[30;100m/[37m1.32[30;100m[0m
[13;1f
[2K[37mâÂÂâÂÂâÂÂâÂÂâÂÂâÂÂâÂÂâÂÂâ âÂÂ[30;100m [37mð´[30;100m processed [37m40%[30;100m of [37m8[30;100m/[37m20[30;100m [37m0.82[30;100m/[37m1.23[30;100m[0m
[13;1f
[2K[37mâÂÂâÂÂâÂÂâÂÂâÂÂâÂÂâÂÂâÂÂâÂÂâ âÂÂ[30;100m [37mð [30;100m processed [37m45%[30;100m of [37m9[30;100m/[37m20[30;100m [37m0.92[30;100m/[37m1.12[30;100m[0m
[13;1f
[2K[37mâÂÂâÂÂâÂÂâÂÂâÂÂâÂÂâÂÂâÂÂâÂÂâÂÂâ âÂÂ[30;100m [37mð¡[30;100m processed [37m50%[30;100m of [37m10[30;100m/[37m20[30;100m [37m1.02[30;100m/[37m1.02[30;100m[0m
[13;1f
[2K[37mâÂÂâÂÂâÂÂâÂÂâÂÂâÂÂâÂÂâÂÂâÂÂâÂÂâÂÂâ âÂÂ[30;100m [37mð¢[30;100m processed [37m55%[30;100m of [37m11[30;100m/[37m20[30;100m [37m1.12[30;100m/[37m0.92[30;100m[0m
[13;1f
[2K[37mâÂÂâÂÂâÂÂâÂÂâÂÂâÂÂâÂÂâÂÂâÂÂâÂÂâÂÂâÂÂâ âÂÂ[30;100m [37mðµ[30;100m processed [37m60%[30;100m of [37m12[30;100m/[37m20[30;100m [37m1.22[30;100m/[37m0.81[30;100m[0m
[13;1f
[2K[37mâÂÂâÂÂâÂÂâÂÂâÂÂâÂÂâÂÂâÂÂâÂÂâÂÂâÂÂâÂÂâÂÂâ âÂÂ[30;100m [37mð£[30;100m processed [37m65%[30;100m of [37m13[30;100m/[37m20[30;100m [37m1.33[30;100m/[37m0.72[30;100m[0m
[13;1f
[2K[37mâÂÂâÂÂâÂÂâÂÂâÂÂâÂÂâÂÂâÂÂâÂÂâÂÂâÂÂâÂÂâÂÂâÂÂâ âÂÂ[30;100m [37mâ«ï¸Â[30;100m processed [37m70%[30;100m of [37m14[30;100m/[37m20[30;100m [37m1.43[30;100m/[37m0.61[30;100m[0m
[13;1f
[2K[37mâÂÂâÂÂâÂÂâÂÂâÂÂâÂÂâÂÂâÂÂâÂÂâÂÂâÂÂâÂÂâÂÂâÂÂâÂÂâ âÂÂ[30;100m [37mâªï¸Â[30;100m processed [37m75%[30;100m of [37m15[30;100m/[37m20[30;100m [37m1.53[30;100m/[37m0.51[30;100m[0m
[13;1f
[2K[37mâÂÂâÂÂâÂÂâÂÂâÂÂâÂÂâÂÂâÂÂâÂÂâÂÂâÂÂâÂÂâÂÂâÂÂâÂÂâÂÂâ âÂÂ[30;100m [37mð¤[30;100m processed [37m80%[30;100m of [37m16[30;100m/[37m20[30;100m [37m1.63[30;100m/[37m0.41[30;100m[0m
[13;1f
[2K[37mâÂÂâÂÂâÂÂâÂÂâÂÂâÂÂâÂÂâÂÂâÂÂâÂÂâÂÂâÂÂâÂÂâÂÂâÂÂâÂÂâÂÂâ âÂÂ[30;100m [37mð´[30;100m processed [37m85%[30;100m of [37m17[30;100m/[37m20[30;100m [37m1.74[30;100m/[37m0.31[30;100m[0m
[13;1f
[2K[37mâÂÂâÂÂâÂÂâÂÂâÂÂâÂÂâÂÂâÂÂâÂÂâÂÂâÂÂâÂÂâÂÂâÂÂâÂÂâÂÂâÂÂâÂÂâ âÂÂ[30;100m [37mð [30;100m processed [37m90%[30;100m of [37m18[30;100m/[37m20[30;100m [37m1.84[30;100m/[37m0.2[30;100m[0m
[13;1f
[2K[37mâÂÂâÂÂâÂÂâÂÂâÂÂâÂÂâÂÂâÂÂâÂÂâÂÂâÂÂâÂÂâÂÂâÂÂâÂÂâÂÂâÂÂâÂÂâÂÂâ âÂÂ[30;100m [37mð¡[30;100m processed [37m95%[30;100m of [37m19[30;100m/[37m20[30;100m [37m1.94[30;100m/[37m0.1[30;100m[0m
[13;1f
[2K[37mâÂÂâÂÂâÂÂâÂÂâÂÂâÂÂâÂÂâÂÂâÂÂâÂÂâÂÂâÂÂâÂÂâÂÂâÂÂâÂÂâÂÂâÂÂâÂÂâÂÂâÂÂâÂÂ[30;100m [37mð¢[30;100m processed [37m100%[30;100m of [37m20[30;100m/[37m20[30;100m [37m2.04[30;100m/[37m0[30;100m[0m
[?25h
[2K[?25l
[15;1f
[2K[37mâÂÂâÂÂ
âÂÂ[30;100m [37mð¡ð£ð¤[30;100m processed [37m5%[30;100m of [37m1[30;100m/[37m20[30;100m [37m0.11[30;100m/[37m2.09[30;100m[0m
[15;1f
[2K[37mâÂÂâÂÂ
âÂÂ
âÂÂ[30;100m [37mð¢â«ï¸Âð´[30;100m processed [37m10%[30;100m of [37m2[30;100m/[37m20[30;100m [37m0.21[30;100m/[37m1.89[30;100m[0m
[15;1f
[2K[37mâÂÂâÂÂ
âÂÂ
âÂÂ
âÂÂ[30;100m [37mðµâªï¸Âð [30;100m processed [37m15%[30;100m of [37m3[30;100m/[37m20[30;100m [37m0.31[30;100m/[37m1.76[30;100m[0m
[15;1f
[2K[37mâÂÂâÂÂ
âÂÂ
âÂÂ
âÂÂ
âÂÂ[30;100m [37mð£ð¤ð¡[30;100m processed [37m20%[30;100m of [37m4[30;100m/[37m20[30;100m [37m0.41[30;100m/[37m1.64[30;100m[0m
[15;1f
[2K[37mâÂÂâÂÂ
âÂÂ
âÂÂ
âÂÂ
âÂÂ
âÂÂ[30;100m [37mâ«ï¸Âð´ð¢[30;100m processed [37m25%[30;100m of [37m5[30;100m/[37m20[30;100m [37m0.51[30;100m/[37m1.53[30;100m[0m
[15;1f
[2K[37mâÂÂâÂÂ
âÂÂ
âÂÂ
âÂÂ
âÂÂ
âÂÂ
âÂÂ[30;100m [37mâªï¸Âð ðµ[30;100m processed [37m30%[30;100m of [37m6[30;100m/[37m20[30;100m [37m0.61[30;100m/[37m1.42[30;100m[0m
[15;1f
[2K[37mâÂÂâÂÂ
âÂÂ
âÂÂ
âÂÂ
âÂÂ
âÂÂ
âÂÂ
âÂÂ[30;100m [37mð¤ð¡ð£[30;100m processed [37m35%[30;100m of [37m7[30;100m/[37m20[30;100m [37m0.72[30;100m/[37m1.34[30;100m[0m
[15;1f
[2K[37mâÂÂâÂÂ
âÂÂ
âÂÂ
âÂÂ
âÂÂ
âÂÂ
âÂÂ
âÂÂ
âÂÂ[30;100m [37mð´ð¢â«ï¸Â[30;100m processed [37m40%[30;100m of [37m8[30;100m/[37m20[30;100m [37m0.82[30;100m/[37m1.23[30;100m[0m
[15;1f
[2K[37mâÂÂâÂÂ
âÂÂ
âÂÂ
âÂÂ
âÂÂ
âÂÂ
âÂÂ
âÂÂ
âÂÂ
âÂÂ[30;100m [37mð ðµâªï¸Â[30;100m processed [37m45%[30;100m of [37m9[30;100m/[37m20[30;100m [37m0.92[30;100m/[37m1.12[30;100m[0m
[15;1f
[2K[37mâÂÂâÂÂ
âÂÂ
âÂÂ
âÂÂ
âÂÂ
âÂÂ
âÂÂ
âÂÂ
âÂÂ
âÂÂ
âÂÂ[30;100m [37mð¡ð£ð¤[30;100m processed [37m50%[30;100m of [37m10[30;100m/[37m20[30;100m [37m1.02[30;100m/[37m1.02[30;100m[0m
[15;1f
[2K[37mâÂÂâÂÂ
âÂÂ
âÂÂ
âÂÂ
âÂÂ
âÂÂ
âÂÂ
âÂÂ
âÂÂ
âÂÂ
âÂÂ
âÂÂ[30;100m [37mð¢â«ï¸Âð´[30;100m processed [37m55%[30;100m of [37m11[30;100m/[37m20[30;100m [37m1.12[30;100m/[37m0.92[30;100m[0m
[15;1f
[2K[37mâÂÂâÂÂ
âÂÂ
âÂÂ
âÂÂ
âÂÂ
âÂÂ
âÂÂ
âÂÂ
âÂÂ
âÂÂ
âÂÂ
âÂÂ
âÂÂ[30;100m [37mðµâªï¸Âð [30;100m processed [37m60%[30;100m of [37m12[30;100m/[37m20[30;100m [37m1.23[30;100m/[37m0.82[30;100m[0m
[15;1f
[2K[37mâÂÂâÂÂ
âÂÂ
âÂÂ
âÂÂ
âÂÂ
âÂÂ
âÂÂ
âÂÂ
âÂÂ
âÂÂ
âÂÂ
âÂÂ
âÂÂ
âÂÂ[30;100m [37mð£ð¤ð¡[30;100m processed [37m65%[30;100m of [37m13[30;100m/[37m20[30;100m [37m1.33[30;100m/[37m0.72[30;100m[0m
[15;1f
[2K[37mâÂÂâÂÂ
âÂÂ
âÂÂ
âÂÂ
âÂÂ
âÂÂ
âÂÂ
âÂÂ
âÂÂ
âÂÂ
âÂÂ
âÂÂ
âÂÂ
âÂÂ
âÂÂ[30;100m [37mâ«ï¸Âð´ð¢[30;100m processed [37m70%[30;100m of [37m14[30;100m/[37m20[30;100m [37m1.43[30;100m/[37m0.61[30;100m[0m
[15;1f
[2K[37mâÂÂâÂÂ
âÂÂ
âÂÂ
âÂÂ
âÂÂ
âÂÂ
âÂÂ
âÂÂ
âÂÂ
âÂÂ
âÂÂ
âÂÂ
âÂÂ
âÂÂ
âÂÂ
âÂÂ[30;100m [37mâªï¸Âð ðµ[30;100m processed [37m75%[30;100m of [37m15[30;100m/[37m20[30;100m [37m1.53[30;100m/[37m0.51[30;100m[0m
[15;1f
[2K[37mâÂÂâÂÂ
âÂÂ
âÂÂ
âÂÂ
âÂÂ
âÂÂ
âÂÂ
âÂÂ
âÂÂ
âÂÂ
âÂÂ
âÂÂ
âÂÂ
âÂÂ
âÂÂ
âÂÂ
âÂÂ[30;100m [37mð¤ð¡ð£[30;100m processed [37m80%[30;100m of [37m16[30;100m/[37m20[30;100m [37m1.63[30;100m/[37m0.41[30;100m[0m
[15;1f
[2K[37mâÂÂâÂÂ
âÂÂ
âÂÂ
âÂÂ
âÂÂ
âÂÂ
âÂÂ
âÂÂ
âÂÂ
âÂÂ
âÂÂ
âÂÂ
âÂÂ
âÂÂ
âÂÂ
âÂÂ
âÂÂ
âÂÂ[30;100m [37mð´ð¢â«ï¸Â[30;100m processed [37m85%[30;100m of [37m17[30;100m/[37m20[30;100m [37m1.74[30;100m/[37m0.31[30;100m[0m
[15;1f
[2K[37mâÂÂâÂÂ
âÂÂ
âÂÂ
âÂÂ
âÂÂ
âÂÂ
âÂÂ
âÂÂ
âÂÂ
âÂÂ
âÂÂ
âÂÂ
âÂÂ
âÂÂ
âÂÂ
âÂÂ
âÂÂ
âÂÂ
âÂÂ[30;100m [37mð ðµâªï¸Â[30;100m processed [37m90%[30;100m of [37m18[30;100m/[37m20[30;100m [37m1.84[30;100m/[37m0.2[30;100m[0m
[15;1f
[2K[37mâÂÂâÂÂ
âÂÂ
âÂÂ
âÂÂ
âÂÂ
âÂÂ
âÂÂ
âÂÂ
âÂÂ
âÂÂ
âÂÂ
âÂÂ
âÂÂ
âÂÂ
âÂÂ
âÂÂ
âÂÂ
âÂÂ
âÂÂ
âÂÂ[30;100m [37mð¡ð£ð¤[30;100m processed [37m95%[30;100m of [37m19[30;100m/[37m20[30;100m [37m1.94[30;100m/[37m0.1[30;100m[0m
[15;1f
[2K[37mâÂÂâÂÂ
âÂÂ
âÂÂ
âÂÂ
âÂÂ
âÂÂ
âÂÂ
âÂÂ
âÂÂ
âÂÂ
âÂÂ
âÂÂ
âÂÂ
âÂÂ
âÂÂ
âÂÂ
âÂÂ
âÂÂ
âÂÂ
âÂÂ
âÂÂ[30;100m [37mð¢â«ï¸Âð´[30;100m processed [37m100%[30;100m of [37m20[30;100m/[37m20[30;100m [37m2.04[30;100m/[37m0[30;100m[0m
[?25h
[2K[?25l
[17;1f
[2K[37mâÂÂâ âÂÂ[30;100m [37mð¨[30;100m processed [37m5%[30;100m of [37m1[30;100m/[37m20[30;100m [37m0.11[30;100m/[37m2.09[30;100m[0m
[17;1f
[2K[37mâÂÂâÂÂâ âÂÂ[30;100m [37mð©[30;100m processed [37m10%[30;100m of [37m2[30;100m/[37m20[30;100m [37m0.21[30;100m/[37m1.89[30;100m[0m
[17;1f
[2K[37mâÂÂâÂÂâÂÂâ âÂÂ[30;100m [37mð¦[30;100m processed [37m15%[30;100m of [37m3[30;100m/[37m20[30;100m [37m0.31[30;100m/[37m1.76[30;100m[0m
[17;1f
[2K[37mâÂÂâÂÂâÂÂâÂÂâ âÂÂ[30;100m [37mðª[30;100m processed [37m20%[30;100m of [37m4[30;100m/[37m20[30;100m [37m0.41[30;100m/[37m1.64[30;100m[0m
[17;1f
[2K[37mâÂÂâÂÂâÂÂâÂÂâÂÂâ âÂÂ[30;100m [37mâ¬Âï¸Â[30;100m processed [37m25%[30;100m of [37m5[30;100m/[37m20[30;100m [37m0.51[30;100m/[37m1.53[30;100m[0m
[17;1f
[2K[37mâÂÂâÂÂâÂÂâÂÂâÂÂâÂÂâ âÂÂ[30;100m [37mâ¬Âï¸Â[30;100m processed [37m30%[30;100m of [37m6[30;100m/[37m20[30;100m [37m0.61[30;100m/[37m1.42[30;100m[0m
[17;1f
[2K[37mâÂÂâÂÂâÂÂâÂÂâÂÂâÂÂâÂÂâ âÂÂ[30;100m [37mð«[30;100m processed [37m35%[30;100m of [37m7[30;100m/[37m20[30;100m [37m0.72[30;100m/[37m1.34[30;100m[0m
[17;1f
[2K[37mâÂÂâÂÂâÂÂâÂÂâÂÂâÂÂâÂÂâÂÂâ âÂÂ[30;100m [37mðÂÂÂ¥[30;100m processed [37m40%[30;100m of [37m8[30;100m/[37m20[30;100m [37m0.82[30;100m/[37m1.23[30;100m[0m
[17;1f
[2K[37mâÂÂâÂÂâÂÂâÂÂâÂÂâÂÂâÂÂâÂÂâÂÂâ âÂÂ[30;100m [37mð§[30;100m processed [37m45%[30;100m of [37m9[30;100m/[37m20[30;100m [37m0.92[30;100m/[37m1.12[30;100m[0m
[17;1f
[2K[37mâÂÂâÂÂâÂÂâÂÂâÂÂâÂÂâÂÂâÂÂâÂÂâÂÂâ âÂÂ[30;100m [37mð¨[30;100m processed [37m50%[30;100m of [37m10[30;100m/[37m20[30;100m [37m1.02[30;100m/[37m1.02[30;100m[0m
[17;1f
[2K[37mâÂÂâÂÂâÂÂâÂÂâÂÂâÂÂâÂÂâÂÂâÂÂâÂÂâÂÂâ âÂÂ[30;100m [37mð©[30;100m processed [37m55%[30;100m of [37m11[30;100m/[37m20[30;100m [37m1.13[30;100m/[37m0.92[30;100m[0m
[17;1f
[2K[37mâÂÂâÂÂâÂÂâÂÂâÂÂâÂÂâÂÂâÂÂâÂÂâÂÂâÂÂâÂÂâ âÂÂ[30;100m [37mð¦[30;100m processed [37m60%[30;100m of [37m12[30;100m/[37m20[30;100m [37m1.23[30;100m/[37m0.82[30;100m[0m
[17;1f
[2K[37mâÂÂâÂÂâÂÂâÂÂâÂÂâÂÂâÂÂâÂÂâÂÂâÂÂâÂÂâÂÂâÂÂâ âÂÂ[30;100m [37mðª[30;100m processed [37m65%[30;100m of [37m13[30;100m/[37m20[30;100m [37m1.33[30;100m/[37m0.72[30;100m[0m
[17;1f
[2K[37mâÂÂâÂÂâÂÂâÂÂâÂÂâÂÂâÂÂâÂÂâÂÂâÂÂâÂÂâÂÂâÂÂâÂÂâ âÂÂ[30;100m [37mâ¬Âï¸Â[30;100m processed [37m70%[30;100m of [37m14[30;100m/[37m20[30;100m [37m1.43[30;100m/[37m0.61[30;100m[0m
[17;1f
[2K[37mâÂÂâÂÂâÂÂâÂÂâÂÂâÂÂâÂÂâÂÂâÂÂâÂÂâÂÂâÂÂâÂÂâÂÂâÂÂâ âÂÂ[30;100m [37mâ¬Âï¸Â[30;100m processed [37m75%[30;100m of [37m15[30;100m/[37m20[30;100m [37m1.53[30;100m/[37m0.51[30;100m[0m
[17;1f
[2K[37mâÂÂâÂÂâÂÂâÂÂâÂÂâÂÂâÂÂâÂÂâÂÂâÂÂâÂÂâÂÂâÂÂâÂÂâÂÂâÂÂâ âÂÂ[30;100m [37mð«[30;100m processed [37m80%[30;100m of [37m16[30;100m/[37m20[30;100m [37m1.64[30;100m/[37m0.41[30;100m[0m
[17;1f
[2K[37mâÂÂâÂÂâÂÂâÂÂâÂÂâÂÂâÂÂâÂÂâÂÂâÂÂâÂÂâÂÂâÂÂâÂÂâÂÂâÂÂâÂÂâ âÂÂ[30;100m [37mðÂÂÂ¥[30;100m processed [37m85%[30;100m of [37m17[30;100m/[37m20[30;100m [37m1.74[30;100m/[37m0.31[30;100m[0m
[17;1f
[2K[37mâÂÂâÂÂâÂÂâÂÂâÂÂâÂÂâÂÂâÂÂâÂÂâÂÂâÂÂâÂÂâÂÂâÂÂâÂÂâÂÂâÂÂâÂÂâ âÂÂ[30;100m [37mð§[30;100m processed [37m90%[30;100m of [37m18[30;100m/[37m20[30;100m [37m1.84[30;100m/[37m0.2[30;100m[0m
[17;1f
[2K[37mâÂÂâÂÂâÂÂâÂÂâÂÂâÂÂâÂÂâÂÂâÂÂâÂÂâÂÂâÂÂâÂÂâÂÂâÂÂâÂÂâÂÂâÂÂâÂÂâ âÂÂ[30;100m [37mð¨[30;100m processed [37m95%[30;100m of [37m19[30;100m/[37m20[30;100m [37m1.94[30;100m/[37m0.1[30;100m[0m
[17;1f
[2K[37mâÂÂâÂÂâÂÂâÂÂâÂÂâÂÂâÂÂâÂÂâÂÂâÂÂâÂÂâÂÂâÂÂâÂÂâÂÂâÂÂâÂÂâÂÂâÂÂâÂÂâÂÂâÂÂ[30;100m [37mð©[30;100m processed [37m100%[30;100m of [37m20[30;100m/[37m20[30;100m [37m2.04[30;100m/[37m0[30;100m[0m
[?25h
[2K[?25l
[19;1f
[2K[37m[= ][30;100m [37mð¨ð¦â¬Âï¸Â[30;100m processed [37m5%[30;100m of [37m1[30;100m/[37m20[30;100m [37m0.1[30;100m/[37m1.9[30;100m[0m
[19;1f
[2K[37m[== ][30;100m [37mð©ðªð«[30;100m processed [37m10%[30;100m of [37m2[30;100m/[37m20[30;100m [37m0.2[30;100m/[37m1.8[30;100m[0m
[19;1f
[2K[37m[=== ][30;100m [37mð¦â¬Âï¸ÂðÂÂÂ¥[30;100m processed [37m15%[30;100m of [37m3[30;100m/[37m20[30;100m [37m0.3[30;100m/[37m1.7[30;100m[0m
[19;1f
[2K[37m[==== ][30;100m [37mðªâ¬Âï¸Âð§[30;100m processed [37m20%[30;100m of [37m4[30;100m/[37m20[30;100m [37m0.4[30;100m/[37m1.6[30;100m[0m
[19;1f
[2K[37m[===== ][30;100m [37mâ¬Âï¸Âð«ð¨[30;100m processed [37m25%[30;100m of [37m5[30;100m/[37m20[30;100m [37m0.51[30;100m/[37m1.53[30;100m[0m
[19;1f
[2K[37m[====== ][30;100m [37mâ¬Âï¸ÂðÂÂ¥ð©[30;100m processed [37m30%[30;100m of [37m6[30;100m/[37m20[30;100m [37m0.61[30;100m/[37m1.42[30;100m[0m
[19;1f
[2K[37m[======= ][30;100m [37mð«ð§ð¦[30;100m processed [37m35%[30;100m of [37m7[30;100m/[37m20[30;100m [37m0.71[30;100m/[37m1.32[30;100m[0m
[19;1f
[2K[37m[======== ][30;100m [37mðÂÂ¥ð¨ðª[30;100m processed [37m40%[30;100m of [37m8[30;100m/[37m20[30;100m [37m0.81[30;100m/[37m1.22[30;100m[0m
[19;1f
[2K[37m[========= ][30;100m [37mð§ð©â¬Âï¸Â[30;100m processed [37m45%[30;100m of [37m9[30;100m/[37m20[30;100m [37m0.91[30;100m/[37m1.11[30;100m[0m
[19;1f
[2K[37m[========== ][30;100m [37mð¨ð¦â¬Âï¸Â[30;100m processed [37m50%[30;100m of [37m10[30;100m/[37m20[30;100m [37m1.02[30;100m/[37m1.02[30;100m[0m
[19;1f
[2K[37m[=========== ][30;100m [37mð©ðªð«[30;100m processed [37m55%[30;100m of [37m11[30;100m/[37m20[30;100m [37m1.12[30;100m/[37m0.92[30;100m[0m
[19;1f
[2K[37m[============ ][30;100m [37mð¦â¬Âï¸ÂðÂÂÂ¥[30;100m processed [37m60%[30;100m of [37m12[30;100m/[37m20[30;100m [37m1.22[30;100m/[37m0.81[30;100m[0m
[19;1f
[2K[37m[============= ][30;100m [37mðªâ¬Âï¸Âð§[30;100m processed [37m65%[30;100m of [37m13[30;100m/[37m20[30;100m [37m1.32[30;100m/[37m0.71[30;100m[0m
[19;1f
[2K[37m[============== ][30;100m [37mâ¬Âï¸Âð«ð¨[30;100m processed [37m70%[30;100m of [37m14[30;100m/[37m20[30;100m [37m1.42[30;100m/[37m0.61[30;100m[0m
[19;1f
[2K[37m[=============== ][30;100m [37mâ¬Âï¸ÂðÂÂ¥ð©[30;100m processed [37m75%[30;100m of [37m15[30;100m/[37m20[30;100m [37m1.53[30;100m/[37m0.51[30;100m[0m
[19;1f
[2K[37m[================ ][30;100m [37mð«ð§ð¦[30;100m processed [37m80%[30;100m of [37m16[30;100m/[37m20[30;100m [37m1.63[30;100m/[37m0.41[30;100m[0m
[19;1f
[2K[37m[================= ][30;100m [37mðÂÂ¥ð¨ðª[30;100m processed [37m85%[30;100m of [37m17[30;100m/[37m20[30;100m [37m1.73[30;100m/[37m0.31[30;100m[0m
[19;1f
[2K[37m[================== ][30;100m [37mð§ð©â¬Âï¸Â[30;100m processed [37m90%[30;100m of [37m18[30;100m/[37m20[30;100m [37m1.83[30;100m/[37m0.2[30;100m[0m
[19;1f
[2K[37m[=================== ][30;100m [37mð¨ð¦â¬Âï¸Â[30;100m processed [37m95%[30;100m of [37m19[30;100m/[37m20[30;100m [37m1.94[30;100m/[37m0.1[30;100m[0m
[19;1f
[2K[37m[====================][30;100m [37mð©ðªð«[30;100m processed [37m100%[30;100m of [37m20[30;100m/[37m20[30;100m [37m2.04[30;100m/[37m0[30;100m[0m
[?25h
[2K[?25l
[21;1f
[2K[37m[# ][30;100m [37mâ ¹[30;100m processed [37m5%[30;100m of [37m1[30;100m/[37m20[30;100m [37m0.1[30;100m/[37m1.9[30;100m[0m
[21;1f
[2K[37m[## ][30;100m [37mâ ¸[30;100m processed [37m10%[30;100m of [37m2[30;100m/[37m20[30;100m [37m0.2[30;100m/[37m1.8[30;100m[0m
[21;1f
[2K[37m[### ][30;100m [37mâ ¼[30;100m processed [37m15%[30;100m of [37m3[30;100m/[37m20[30;100m [37m0.31[30;100m/[37m1.76[30;100m[0m
[21;1f
[2K[37m[#### ][30;100m [37mâ ´[30;100m processed [37m20%[30;100m of [37m4[30;100m/[37m20[30;100m [37m0.41[30;100m/[37m1.64[30;100m[0m
[21;1f
[2K[37m[##### ][30;100m [37mâ ¦[30;100m processed [37m25%[30;100m of [37m5[30;100m/[37m20[30;100m [37m0.51[30;100m/[37m1.53[30;100m[0m
[21;1f
[2K[37m[###### ][30;100m [37mâ §[30;100m processed [37m30%[30;100m of [37m6[30;100m/[37m20[30;100m [37m0.61[30;100m/[37m1.42[30;100m[0m
[21;1f
[2K[37m[####### ][30;100m [37mâ Â[30;100m processed [37m35%[30;100m of [37m7[30;100m/[37m20[30;100m [37m0.71[30;100m/[37m1.32[30;100m[0m
[21;1f
[2K[37m[######## ][30;100m [37mâ Â[30;100m processed [37m40%[30;100m of [37m8[30;100m/[37m20[30;100m [37m0.82[30;100m/[37m1.23[30;100m[0m
[21;1f
[2K[37m[######### ][30;100m [37mâ Â[30;100m processed [37m45%[30;100m of [37m9[30;100m/[37m20[30;100m [37m0.92[30;100m/[37m1.12[30;100m[0m
[21;1f
[2K[37m[########## ][30;100m [37mâ Â[30;100m processed [37m50%[30;100m of [37m10[30;100m/[37m20[30;100m [37m1.02[30;100m/[37m1.02[30;100m[0m
[21;1f
[2K[37m[########### ][30;100m [37mâ ¹[30;100m processed [37m55%[30;100m of [37m11[30;100m/[37m20[30;100m [37m1.12[30;100m/[37m0.92[30;100m[0m
[21;1f
[2K[37m[############ ][30;100m [37mâ ¸[30;100m processed [37m60%[30;100m of [37m12[30;100m/[37m20[30;100m [37m1.22[30;100m/[37m0.81[30;100m[0m
[21;1f
[2K[37m[############# ][30;100m [37mâ ¼[30;100m processed [37m65%[30;100m of [37m13[30;100m/[37m20[30;100m [37m1.33[30;100m/[37m0.72[30;100m[0m
[21;1f
[2K[37m[############## ][30;100m [37mâ ´[30;100m processed [37m70%[30;100m of [37m14[30;100m/[37m20[30;100m [37m1.43[30;100m/[37m0.61[30;100m[0m
[21;1f
[2K[37m[############### ][30;100m [37mâ ¦[30;100m processed [37m75%[30;100m of [37m15[30;100m/[37m20[30;100m [37m1.53[30;100m/[37m0.51[30;100m[0m
[21;1f
[2K[37m[################ ][30;100m [37mâ §[30;100m processed [37m80%[30;100m of [37m16[30;100m/[37m20[30;100m [37m1.63[30;100m/[37m0.41[30;100m[0m
[21;1f
[2K[37m[################# ][30;100m [37mâ Â[30;100m processed [37m85%[30;100m of [37m17[30;100m/[37m20[30;100m [37m1.73[30;100m/[37m0.31[30;100m[0m
[21;1f
[2K[37m[################## ][30;100m [37mâ Â[30;100m processed [37m90%[30;100m of [37m18[30;100m/[37m20[30;100m [37m1.84[30;100m/[37m0.2[30;100m[0m
[21;1f
[2K[37m[################### ][30;100m [37mâ Â[30;100m processed [37m95%[30;100m of [37m19[30;100m/[37m20[30;100m [37m1.94[30;100m/[37m0.1[30;100m[0m
[21;1f
[2K[37m[####################][30;100m [37mâ Â[30;100m processed [37m100%[30;100m of [37m20[30;100m/[37m20[30;100m [37m2.04[30;100m/[37m0[30;100m[0m
[?25h
[2K[?25l
[23;1f
[2K[37mâÂÂ⤠âÂÂ[30;100m [37mðÂÂÂ[30;100m processed [37m5%[30;100m of [37m1[30;100m/[37m20[30;100m [37m0.1[30;100m/[37m1.9[30;100m[0m
[23;1f
[2K[37mâÂÂâ¤â¤ âÂÂ[30;100m [37mðÂÂÂ[30;100m processed [37m10%[30;100m of [37m2[30;100m/[37m20[30;100m [37m0.2[30;100m/[37m1.8[30;100m[0m
[23;1f
[2K[37mâÂÂâ¤â¤â¤ âÂÂ[30;100m [37mðÂÂÂ[30;100m processed [37m15%[30;100m of [37m3[30;100m/[37m20[30;100m [37m0.31[30;100m/[37m1.76[30;100m[0m
[23;1f
[2K[37mâÂÂâ¤â¤â¤â¤ âÂÂ[30;100m [37mðÂÂÂ[30;100m processed [37m20%[30;100m of [37m4[30;100m/[37m20[30;100m [37m0.41[30;100m/[37m1.64[30;100m[0m
[23;1f
[2K[37mâÂÂâ¤â¤â¤â¤â¤ âÂÂ[30;100m [37mðÂÂÂ[30;100m processed [37m25%[30;100m of [37m5[30;100m/[37m20[30;100m [37m0.51[30;100m/[37m1.53[30;100m[0m
[23;1f
[2K[37mâÂÂâ¤â¤â¤â¤â¤â¤ âÂÂ[30;100m [37mðÂÂÂ[30;100m processed [37m30%[30;100m of [37m6[30;100m/[37m20[30;100m [37m0.61[30;100m/[37m1.42[30;100m[0m
[23;1f
[2K[37mâÂÂâ¤â¤â¤â¤â¤â¤â¤ âÂÂ[30;100m [37mðÂÂÂ[30;100m processed [37m35%[30;100m of [37m7[30;100m/[37m20[30;100m [37m0.71[30;100m/[37m1.32[30;100m[0m
[23;1f
[2K[37mâÂÂâ¤â¤â¤â¤â¤â¤â¤â¤ âÂÂ[30;100m [37mðÂÂÂ[30;100m processed [37m40%[30;100m of [37m8[30;100m/[37m20[30;100m [37m0.82[30;100m/[37m1.23[30;100m[0m
[23;1f
[2K[37mâÂÂâ¤â¤â¤â¤â¤â¤â¤â¤â¤ âÂÂ[30;100m [37mðÂÂÂ[30;100m processed [37m45%[30;100m of [37m9[30;100m/[37m20[30;100m [37m0.92[30;100m/[37m1.12[30;100m[0m
[23;1f
[2K[37mâÂÂâ¤â¤â¤â¤â¤â¤â¤â¤â¤â¤ âÂÂ[30;100m [37mðÂÂÂ[30;100m processed [37m50%[30;100m of [37m10[30;100m/[37m20[30;100m [37m1.02[30;100m/[37m1.02[30;100m[0m
[23;1f
[2K[37mâÂÂâ¤â¤â¤â¤â¤â¤â¤â¤â¤â¤â¤ âÂÂ[30;100m [37mðÂÂÂ[30;100m processed [37m55%[30;100m of [37m11[30;100m/[37m20[30;100m [37m1.12[30;100m/[37m0.92[30;100m[0m
[23;1f
[2K[37mâÂÂâ¤â¤â¤â¤â¤â¤â¤â¤â¤â¤â¤â¤ âÂÂ[30;100m [37mðÂÂÂ[30;100m processed [37m60%[30;100m of [37m12[30;100m/[37m20[30;100m [37m1.22[30;100m/[37m0.81[30;100m[0m
[23;1f
[2K[37mâÂÂâ¤â¤â¤â¤â¤â¤â¤â¤â¤â¤â¤â¤â¤ âÂÂ[30;100m [37mðÂÂÂ[30;100m processed [37m65%[30;100m of [37m13[30;100m/[37m20[30;100m [37m1.32[30;100m/[37m0.71[30;100m[0m
[23;1f
[2K[37mâÂÂâ¤â¤â¤â¤â¤â¤â¤â¤â¤â¤â¤â¤â¤â¤ âÂÂ[30;100m [37mðÂÂÂ[30;100m processed [37m70%[30;100m of [37m14[30;100m/[37m20[30;100m [37m1.43[30;100m/[37m0.61[30;100m[0m
[23;1f
[2K[37mâÂÂâ¤â¤â¤â¤â¤â¤â¤â¤â¤â¤â¤â¤â¤â¤â¤ âÂÂ[30;100m [37mðÂÂÂ[30;100m processed [37m75%[30;100m of [37m15[30;100m/[37m20[30;100m [37m1.53[30;100m/[37m0.51[30;100m[0m
[23;1f
[2K[37mâÂÂâ¤â¤â¤â¤â¤â¤â¤â¤â¤â¤â¤â¤â¤â¤â¤â¤ âÂÂ[30;100m [37mðÂÂÂ[30;100m processed [37m80%[30;100m of [37m16[30;100m/[37m20[30;100m [37m1.63[30;100m/[37m0.41[30;100m[0m
[23;1f
[2K[37mâÂÂâ¤â¤â¤â¤â¤â¤â¤â¤â¤â¤â¤â¤â¤â¤â¤â¤â¤ âÂÂ[30;100m [37mðÂÂÂ[30;100m processed [37m85%[30;100m of [37m17[30;100m/[37m20[30;100m [37m1.73[30;100m/[37m0.31[30;100m[0m
[23;1f
[2K[37mâÂÂâ¤â¤â¤â¤â¤â¤â¤â¤â¤â¤â¤â¤â¤â¤â¤â¤â¤â¤ âÂÂ[30;100m [37mðÂÂÂ[30;100m processed [37m90%[30;100m of [37m18[30;100m/[37m20[30;100m [37m1.83[30;100m/[37m0.2[30;100m[0m
[23;1f
[2K[37mâÂÂâ¤â¤â¤â¤â¤â¤â¤â¤â¤â¤â¤â¤â¤â¤â¤â¤â¤â¤â¤ âÂÂ[30;100m [37mðÂÂÂ[30;100m processed [37m95%[30;100m of [37m19[30;100m/[37m20[30;100m [37m1.93[30;100m/[37m0.1[30;100m[0m
[23;1f
[2K[37mâÂÂâ¤â¤â¤â¤â¤â¤â¤â¤â¤â¤â¤â¤â¤â¤â¤â¤â¤â¤â¤â¤âÂÂ[30;100m [37mðÂÂÂ[30;100m processed [37m100%[30;100m of [37m20[30;100m/[37m20[30;100m [37m2.04[30;100m/[37m0[30;100m[0m
[?25h
[2K[?25l
[25;1f
[2K[37mâÂÂâ¡ âÂÂ[30;100m [37mâÂÂâÂÂâÂÂâÂÂâÂÂâÂÂâÂÂâÂÂâÂÂâÂÂâÂÂâÂÂâÂÂâÂÂâÂÂâÂÂâÂÂâÂÂâÂÂâÂÂ[30;100m processed [37m5%[30;100m of [37m1[30;100m/[37m20[30;100m [37m0.1[30;100m/[37m1.9[30;100m[0m
[25;1f
[2K[37mâÂÂâ¡â¡ âÂÂ[30;100m [37mâÂÂâÂÂâÂÂâÂÂâÂÂâÂÂâÂÂâÂÂâÂÂâÂÂâÂÂâÂÂâÂÂâÂÂâÂÂâÂÂâÂÂâÂÂâÂÂâÂÂ[30;100m processed [37m10%[30;100m of [37m2[30;100m/[37m20[30;100m [37m0.2[30;100m/[37m1.8[30;100m[0m
[25;1f
[2K[37mâÂÂâ¡â¡â¡ âÂÂ[30;100m [37mâÂÂâÂÂâÂÂâÂÂâÂÂâÂÂâÂÂâÂÂâÂÂâÂÂâÂÂâÂÂâÂÂâÂÂâÂÂâÂÂâÂÂâÂÂâÂÂâÂÂ[30;100m processed [37m15%[30;100m of [37m3[30;100m/[37m20[30;100m [37m0.3[30;100m/[37m1.7[30;100m[0m
[25;1f
[2K[37mâÂÂâ¡â¡â¡â¡ âÂÂ[30;100m [37mâÂÂâÂÂâÂÂâÂÂâÂÂâÂÂâÂÂâÂÂâÂÂâÂÂâÂÂâÂÂâÂÂâÂÂâÂÂâÂÂâÂÂâÂÂâÂÂâÂÂ[30;100m processed [37m20%[30;100m of [37m4[30;100m/[37m20[30;100m [37m0.41[30;100m/[37m1.64[30;100m[0m
[25;1f
[2K[37mâÂÂâ¡â¡â¡â¡â¡ âÂÂ[30;100m [37mâÂÂâÂÂâÂÂâÂÂâÂÂâÂÂâÂÂâÂÂâÂÂâÂÂâÂÂâÂÂâÂÂâÂÂâÂÂâÂÂâÂÂâÂÂâÂÂâÂÂ[30;100m processed [37m25%[30;100m of [37m5[30;100m/[37m20[30;100m [37m0.51[30;100m/[37m1.53[30;100m[0m
[25;1f
[2K[37mâÂÂâ¡â¡â¡â¡â¡â¡ âÂÂ[30;100m [37mâÂÂâÂÂâÂÂâÂÂâÂÂâÂÂâÂÂâÂÂâÂÂâÂÂâÂÂâÂÂâÂÂâÂÂâÂÂâÂÂâÂÂâÂÂâÂÂâÂÂ[30;100m processed [37m30%[30;100m of [37m6[30;100m/[37m20[30;100m [37m0.61[30;100m/[37m1.42[30;100m[0m
[25;1f
[2K[37mâÂÂâ¡â¡â¡â¡â¡â¡â¡ âÂÂ[30;100m [37mâÂÂâÂÂâÂÂâÂÂâÂÂâÂÂâÂÂâÂÂâÂÂâÂÂâÂÂâÂÂâÂÂâÂÂâÂÂâÂÂâÂÂâÂÂâÂÂâÂÂ[30;100m processed [37m35%[30;100m of [37m7[30;100m/[37m20[30;100m [37m0.71[30;100m/[37m1.32[30;100m[0m
[25;1f
[2K[37mâÂÂâ¡â¡â¡â¡â¡â¡â¡â¡ âÂÂ[30;100m [37mâÂÂâÂÂâÂÂâÂÂâÂÂâÂÂâÂÂâÂÂâÂÂâÂÂâÂÂâÂÂâÂÂâÂÂâÂÂâÂÂâÂÂâÂÂâÂÂâÂÂ[30;100m processed [37m40%[30;100m of [37m8[30;100m/[37m20[30;100m [37m0.81[30;100m/[37m1.22[30;100m[0m
[25;1f
[2K[37mâÂÂâ¡â¡â¡â¡â¡â¡â¡â¡â¡ âÂÂ[30;100m [37mâÂÂâÂÂâÂÂâÂÂâÂÂâÂÂâÂÂâÂÂâÂÂâÂÂâÂÂâÂÂâÂÂâÂÂâÂÂâÂÂâÂÂâÂÂâÂÂâÂÂ[30;100m processed [37m45%[30;100m of [37m9[30;100m/[37m20[30;100m [37m0.92[30;100m/[37m1.12[30;100m[0m
[25;1f
[2K[37mâÂÂâ¡â¡â¡â¡â¡â¡â¡â¡â¡â¡ âÂÂ[30;100m [37mâÂÂâÂÂâÂÂâÂÂâÂÂâÂÂâÂÂâÂÂâÂÂâÂÂâÂÂâÂÂâÂÂâÂÂâÂÂâÂÂâÂÂâÂÂâÂÂâÂÂ[30;100m processed [37m50%[30;100m of [37m10[30;100m/[37m20[30;100m [37m1.02[30;100m/[37m1.02[30;100m[0m
[25;1f
[2K[37mâÂÂâ¡â¡â¡â¡â¡â¡â¡â¡â¡â¡â¡ âÂÂ[30;100m [37mâÂÂâÂÂâÂÂâÂÂâÂÂâÂÂâÂÂâÂÂâÂÂâÂÂâÂÂâÂÂâÂÂâÂÂâÂÂâÂÂâÂÂâÂÂâÂÂâÂÂ[30;100m processed [37m55%[30;100m of [37m11[30;100m/[37m20[30;100m [37m1.12[30;100m/[37m0.92[30;100m[0m
[25;1f
[2K[37mâÂÂâ¡â¡â¡â¡â¡â¡â¡â¡â¡â¡â¡â¡ âÂÂ[30;100m [37mâÂÂâÂÂâÂÂâÂÂâÂÂâÂÂâÂÂâÂÂâÂÂâÂÂâÂÂâÂÂâÂÂâÂÂâÂÂâÂÂâÂÂâÂÂâÂÂâÂÂ[30;100m processed [37m60%[30;100m of [37m12[30;100m/[37m20[30;100m [37m1.22[30;100m/[37m0.81[30;100m[0m
[25;1f
[2K[37mâÂÂâ¡â¡â¡â¡â¡â¡â¡â¡â¡â¡â¡â¡â¡ âÂÂ[30;100m [37mâÂÂâÂÂâÂÂâÂÂâÂÂâÂÂâÂÂâÂÂâÂÂâÂÂâÂÂâÂÂâÂÂâÂÂâÂÂâÂÂâÂÂâÂÂâÂÂâÂÂ[30;100m processed [37m65%[30;100m of [37m13[30;100m/[37m20[30;100m [37m1.33[30;100m/[37m0.72[30;100m[0m
[25;1f
[2K[37mâÂÂâ¡â¡â¡â¡â¡â¡â¡â¡â¡â¡â¡â¡â¡â¡ âÂÂ[30;100m [37mâÂÂâÂÂâÂÂâÂÂâÂÂâÂÂâÂÂâÂÂâÂÂâÂÂâÂÂâÂÂâÂÂâÂÂâÂÂâÂÂâÂÂâÂÂâÂÂâÂÂ[30;100m processed [37m70%[30;100m of [37m14[30;100m/[37m20[30;100m [37m1.43[30;100m/[37m0.61[30;100m[0m
[25;1f
[2K[37mâÂÂâ¡â¡â¡â¡â¡â¡â¡â¡â¡â¡â¡â¡â¡â¡â¡ âÂÂ[30;100m [37mâÂÂâÂÂâÂÂâÂÂâÂÂâÂÂâÂÂâÂÂâÂÂâÂÂâÂÂâÂÂâÂÂâÂÂâÂÂâÂÂâÂÂâÂÂâÂÂâÂÂ[30;100m processed [37m75%[30;100m of [37m15[30;100m/[37m20[30;100m [37m1.53[30;100m/[37m0.51[30;100m[0m
[25;1f
[2K[37mâÂÂâ¡â¡â¡â¡â¡â¡â¡â¡â¡â¡â¡â¡â¡â¡â¡â¡ âÂÂ[30;100m [37mâÂÂâÂÂâÂÂâÂÂâÂÂâÂÂâÂÂâÂÂâÂÂâÂÂâÂÂâÂÂâÂÂâÂÂâÂÂâÂÂâÂÂâÂÂâÂÂâÂÂ[30;100m processed [37m80%[30;100m of [37m16[30;100m/[37m20[30;100m [37m1.63[30;100m/[37m0.41[30;100m[0m
[25;1f
[2K[37mâÂÂâ¡â¡â¡â¡â¡â¡â¡â¡â¡â¡â¡â¡â¡â¡â¡â¡â¡ âÂÂ[30;100m [37mâÂÂâÂÂâÂÂâÂÂâÂÂâÂÂâÂÂâÂÂâÂÂâÂÂâÂÂâÂÂâÂÂâÂÂâÂÂâÂÂâÂÂâÂÂâÂÂâÂÂ[30;100m processed [37m85%[30;100m of [37m17[30;100m/[37m20[30;100m [37m1.73[30;100m/[37m0.31[30;100m[0m
[25;1f
[2K[37mâÂÂâ¡â¡â¡â¡â¡â¡â¡â¡â¡â¡â¡â¡â¡â¡â¡â¡â¡â¡ âÂÂ[30;100m [37mâÂÂâÂÂâÂÂâÂÂâÂÂâÂÂâÂÂâÂÂâÂÂâÂÂâÂÂâÂÂâÂÂâÂÂâÂÂâÂÂâÂÂâÂÂâÂÂâÂÂ[30;100m processed [37m90%[30;100m of [37m18[30;100m/[37m20[30;100m [37m1.84[30;100m/[37m0.2[30;100m[0m
[25;1f
[2K[37mâÂÂâ¡â¡â¡â¡â¡â¡â¡â¡â¡â¡â¡â¡â¡â¡â¡â¡â¡â¡â¡ âÂÂ[30;100m [37mâÂÂâÂÂâÂÂâÂÂâÂÂâÂÂâÂÂâÂÂâÂÂâÂÂâÂÂâÂÂâÂÂâÂÂâÂÂâÂÂâÂÂâÂÂâÂÂâÂÂ[30;100m processed [37m95%[30;100m of [37m19[30;100m/[37m20[30;100m [37m1.94[30;100m/[37m0.1[30;100m[0m
[25;1f
[2K[37mâÂÂâ¡â¡â¡â¡â¡â¡â¡â¡â¡â¡â¡â¡â¡â¡â¡â¡â¡â¡â¡â¡âÂÂ[30;100m [37mâÂÂâÂÂâÂÂâÂÂâÂÂâÂÂâÂÂâÂÂâÂÂâÂÂâÂÂâÂÂâÂÂâÂÂâÂÂâÂÂâÂÂâÂÂâÂÂâÂÂ[30;100m processed [37m100%[30;100m of [37m20[30;100m/[37m20[30;100m [37m2.04[30;100m/[37m0[30;100m[0m
[?25h
[2K[?25l
[27;1f
[2K[37mâÂÂ⪠âÂÂ[30;100m [37mð [30;100m processed [37m5%[30;100m of [37m1[30;100m/[37m20[30;100m [37m0.1[30;100m/[37m1.9[30;100m[0m
[27;1f
[2K[37mâÂÂâªâª âÂÂ[30;100m [37mð [30;100m processed [37m10%[30;100m of [37m2[30;100m/[37m20[30;100m [37m0.21[30;100m/[37m1.89[30;100m[0m
[27;1f
[2K[37mâÂÂâªâªâª âÂÂ[30;100m [37mð [30;100m processed [37m15%[30;100m of [37m3[30;100m/[37m20[30;100m [37m0.31[30;100m/[37m1.76[30;100m[0m
[27;1f
[2K[37mâÂÂâªâªâªâª âÂÂ[30;100m [37mð [30;100m processed [37m20%[30;100m of [37m4[30;100m/[37m20[30;100m [37m0.41[30;100m/[37m1.64[30;100m[0m
[27;1f
[2K[37mâÂÂâªâªâªâªâª âÂÂ[30;100m [37mð [30;100m processed [37m25%[30;100m of [37m5[30;100m/[37m20[30;100m [37m0.51[30;100m/[37m1.53[30;100m[0m
[27;1f
[2K[37mâÂÂâªâªâªâªâªâª âÂÂ[30;100m [37mð [30;100m processed [37m30%[30;100m of [37m6[30;100m/[37m20[30;100m [37m0.61[30;100m/[37m1.42[30;100m[0m
[27;1f
[2K[37mâÂÂâªâªâªâªâªâªâª âÂÂ[30;100m [37mð [30;100m processed [37m35%[30;100m of [37m7[30;100m/[37m20[30;100m [37m0.72[30;100m/[37m1.34[30;100m[0m
[27;1f
[2K[37mâÂÂâªâªâªâªâªâªâªâª âÂÂ[30;100m [37mð [30;100m processed [37m40%[30;100m of [37m8[30;100m/[37m20[30;100m [37m0.82[30;100m/[37m1.23[30;100m[0m
[27;1f
[2K[37mâÂÂâªâªâªâªâªâªâªâªâª âÂÂ[30;100m [37mð [30;100m processed [37m45%[30;100m of [37m9[30;100m/[37m20[30;100m [37m0.92[30;100m/[37m1.12[30;100m[0m
[27;1f
[2K[37mâÂÂâªâªâªâªâªâªâªâªâªâª âÂÂ[30;100m [37mð [30;100m processed [37m50%[30;100m of [37m10[30;100m/[37m20[30;100m [37m1.02[30;100m/[37m1.02[30;100m[0m
[27;1f
[2K[37mâÂÂâªâªâªâªâªâªâªâªâªâªâª âÂÂ[30;100m [37mð [30;100m processed [37m55%[30;100m of [37m11[30;100m/[37m20[30;100m [37m1.12[30;100m/[37m0.92[30;100m[0m
[27;1f
[2K[37mâÂÂâªâªâªâªâªâªâªâªâªâªâªâª âÂÂ[30;100m [37mð [30;100m processed [37m60%[30;100m of [37m12[30;100m/[37m20[30;100m [37m1.23[30;100m/[37m0.82[30;100m[0m
[27;1f
[2K[37mâÂÂâªâªâªâªâªâªâªâªâªâªâªâªâª âÂÂ[30;100m [37mð [30;100m processed [37m65%[30;100m of [37m13[30;100m/[37m20[30;100m [37m1.33[30;100m/[37m0.72[30;100m[0m
[27;1f
[2K[37mâÂÂâªâªâªâªâªâªâªâªâªâªâªâªâªâª âÂÂ[30;100m [37mð [30;100m processed [37m70%[30;100m of [37m14[30;100m/[37m20[30;100m [37m1.43[30;100m/[37m0.61[30;100m[0m
[27;1f
[2K[37mâÂÂâªâªâªâªâªâªâªâªâªâªâªâªâªâªâª âÂÂ[30;100m [37mð [30;100m processed [37m75%[30;100m of [37m15[30;100m/[37m20[30;100m [37m1.53[30;100m/[37m0.51[30;100m[0m
[27;1f
[2K[37mâÂÂâªâªâªâªâªâªâªâªâªâªâªâªâªâªâªâª âÂÂ[30;100m [37mð [30;100m processed [37m80%[30;100m of [37m16[30;100m/[37m20[30;100m [37m1.63[30;100m/[37m0.41[30;100m[0m
[27;1f
[2K[37mâÂÂâªâªâªâªâªâªâªâªâªâªâªâªâªâªâªâªâª âÂÂ[30;100m [37mð [30;100m processed [37m85%[30;100m of [37m17[30;100m/[37m20[30;100m [37m1.74[30;100m/[37m0.31[30;100m[0m
[27;1f
[2K[37mâÂÂâªâªâªâªâªâªâªâªâªâªâªâªâªâªâªâªâªâª âÂÂ[30;100m [37mð [30;100m processed [37m90%[30;100m of [37m18[30;100m/[37m20[30;100m [37m1.84[30;100m/[37m0.2[30;100m[0m
[27;1f
[2K[37mâÂÂâªâªâªâªâªâªâªâªâªâªâªâªâªâªâªâªâªâªâª âÂÂ[30;100m [37mð [30;100m processed [37m95%[30;100m of [37m19[30;100m/[37m20[30;100m [37m1.94[30;100m/[37m0.1[30;100m[0m
[27;1f
[2K[37mâÂÂâªâªâªâªâªâªâªâªâªâªâªâªâªâªâªâªâªâªâªâªâÂÂ[30;100m [37mð [30;100m processed [37m100%[30;100m of [37m20[30;100m/[37m20[30;100m [37m2.04[30;100m/[37m0[30;100m[0m
[?25h
[2K[?25l
[29;1f
[2K[37mâÂÂâ âÂÂ[30;100m [37mâ´[30;100m processed [37m5%[30;100m of [37m1[30;100m/[37m20[30;100m [37m0.1[30;100m/[37m1.9[30;100m[0m
[29;1f
[2K[37mâÂÂâ â âÂÂ[30;100m [37mâÂÂ[30;100m processed [37m10%[30;100m of [37m2[30;100m/[37m20[30;100m [37m0.21[30;100m/[37m1.89[30;100m[0m
[29;1f
[2K[37mâÂÂâ â â âÂÂ[30;100m [37mâÂÂ[30;100m processed [37m15%[30;100m of [37m3[30;100m/[37m20[30;100m [37m0.31[30;100m/[37m1.76[30;100m[0m
[29;1f
[2K[37mâÂÂâ â â â âÂÂ[30;100m [37mâÂÂ[30;100m processed [37m20%[30;100m of [37m4[30;100m/[37m20[30;100m [37m0.41[30;100m/[37m1.64[30;100m[0m
[29;1f
[2K[37mâÂÂâ â â â â âÂÂ[30;100m [37mâ¬[30;100m processed [37m25%[30;100m of [37m5[30;100m/[37m20[30;100m [37m0.51[30;100m/[37m1.53[30;100m[0m
[29;1f
[2K[37mâÂÂâ â â â â â âÂÂ[30;100m [37mâÂÂ[30;100m processed [37m30%[30;100m of [37m6[30;100m/[37m20[30;100m [37m0.61[30;100m/[37m1.42[30;100m[0m
[29;1f
[2K[37mâÂÂâ â â â â â â âÂÂ[30;100m [37mâ¤[30;100m processed [37m35%[30;100m of [37m7[30;100m/[37m20[30;100m [37m0.72[30;100m/[37m1.34[30;100m[0m
[29;1f
[2K[37mâÂÂâ â â â â â â â âÂÂ[30;100m [37mâÂÂ[30;100m processed [37m40%[30;100m of [37m8[30;100m/[37m20[30;100m [37m0.82[30;100m/[37m1.23[30;100m[0m
[29;1f
[2K[37mâÂÂâ â â â â â â â â âÂÂ[30;100m [37mâ´[30;100m processed [37m45%[30;100m of [37m9[30;100m/[37m20[30;100m [37m0.92[30;100m/[37m1.12[30;100m[0m
[29;1f
[2K[37mâÂÂâ â â â â â â â â â âÂÂ[30;100m [37mâÂÂ[30;100m processed [37m50%[30;100m of [37m10[30;100m/[37m20[30;100m [37m1.02[30;100m/[37m1.02[30;100m[0m
[29;1f
[2K[37mâÂÂâ â â â â â â â â â â âÂÂ[30;100m [37mâÂÂ[30;100m processed [37m55%[30;100m of [37m11[30;100m/[37m20[30;100m [37m1.12[30;100m/[37m0.92[30;100m[0m
[29;1f
[2K[37mâÂÂâ â â â â â â â â â â â âÂÂ[30;100m [37mâÂÂ[30;100m processed [37m60%[30;100m of [37m12[30;100m/[37m20[30;100m [37m1.23[30;100m/[37m0.82[30;100m[0m
[29;1f
[2K[37mâÂÂâ â â â â â â â â â â â â âÂÂ[30;100m [37mâ¬[30;100m processed [37m65%[30;100m of [37m13[30;100m/[37m20[30;100m [37m1.33[30;100m/[37m0.72[30;100m[0m
[29;1f
[2K[37mâÂÂâ â â â â â â â â â â â â â âÂÂ[30;100m [37mâÂÂ[30;100m processed [37m70%[30;100m of [37m14[30;100m/[37m20[30;100m [37m1.43[30;100m/[37m0.61[30;100m[0m
[29;1f
[2K[37mâÂÂâ â â â â â â â â â â â â â â âÂÂ[30;100m [37mâ¤[30;100m processed [37m75%[30;100m of [37m15[30;100m/[37m20[30;100m [37m1.53[30;100m/[37m0.51[30;100m[0m
[29;1f
[2K[37mâÂÂâ â â â â â â â â â â â â â â â âÂÂ[30;100m [37mâÂÂ[30;100m processed [37m80%[30;100m of [37m16[30;100m/[37m20[30;100m [37m1.63[30;100m/[37m0.41[30;100m[0m
[29;1f
[2K[37mâÂÂâ â â â â â â â â â â â â â â â â âÂÂ[30;100m [37mâ´[30;100m processed [37m85%[30;100m of [37m17[30;100m/[37m20[30;100m [37m1.74[30;100m/[37m0.31[30;100m[0m
[29;1f
[2K[37mâÂÂâ â â â â â â â â â â â â â â â â â âÂÂ[30;100m [37mâÂÂ[30;100m processed [37m90%[30;100m of [37m18[30;100m/[37m20[30;100m [37m1.84[30;100m/[37m0.2[30;100m[0m
[29;1f
[2K[37mâÂÂâ â â â â â â â â â â â â â â â â â â âÂÂ[30;100m [37mâÂÂ[30;100m processed [37m95%[30;100m of [37m19[30;100m/[37m20[30;100m [37m1.94[30;100m/[37m0.1[30;100m[0m
[29;1f
[2K[37mâÂÂâ â â â â â â â â â â â â â â â â â â â âÂÂ[30;100m [37mâÂÂ[30;100m processed [37m100%[30;100m of [37m20[30;100m/[37m20[30;100m [37m2.04[30;100m/[37m0[30;100m[0m
[?25h
[2K[?25l
[31;1f
[2K[37mâÂÂâ¶︠âÂÂ[30;100m [37mâ ⠠âÂÂ[30;100m processed [37m5%[30;100m of [37m1[30;100m/[37m20[30;100m [37m0.11[30;100m/[37m2.09[30;100m[0m
[31;1f
[2K[37mâÂÂâ¶ï¸Ââ¶︠âÂÂ[30;100m [37mâ ⠠âÂÂ[30;100m processed [37m10%[30;100m of [37m2[30;100m/[37m20[30;100m [37m0.21[30;100m/[37m1.89[30;100m[0m
[31;1f
[2K[37mâÂÂâ¶ï¸Ââ¶ï¸Ââ¶︠âÂÂ[30;100m [37mâ ⡠âÂÂ[30;100m processed [37m15%[30;100m of [37m3[30;100m/[37m20[30;100m [37m0.31[30;100m/[37m1.76[30;100m[0m
[31;1f
[2K[37mâÂÂâ¶ï¸Ââ¶ï¸Ââ¶ï¸Ââ¶︠âÂÂ[30;100m [37mâ ⠠âÂÂ[30;100m processed [37m20%[30;100m of [37m4[30;100m/[37m20[30;100m [37m0.41[30;100m/[37m1.64[30;100m[0m
[31;1f
[2K[37mâÂÂâ¶ï¸Ââ¶ï¸Ââ¶ï¸Ââ¶ï¸Ââ¶︠âÂÂ[30;100m [37mâ ⠠âÂÂ[30;100m processed [37m25%[30;100m of [37m5[30;100m/[37m20[30;100m [37m0.51[30;100m/[37m1.53[30;100m[0m
[31;1f
[2K[37mâÂÂâ¶ï¸Ââ¶ï¸Ââ¶ï¸Ââ¶ï¸Ââ¶ï¸Ââ¶︠âÂÂ[30;100m [37mâ ⠠âÂÂ[30;100m processed [37m30%[30;100m of [37m6[30;100m/[37m20[30;100m [37m0.62[30;100m/[37m1.45[30;100m[0m
[31;1f
[2K[37mâÂÂâ¶ï¸Ââ¶ï¸Ââ¶ï¸Ââ¶ï¸Ââ¶ï¸Ââ¶ï¸Ââ¶︠âÂÂ[30;100m [37mâ ⠠âÂÂ[30;100m processed [37m35%[30;100m of [37m7[30;100m/[37m20[30;100m [37m0.72[30;100m/[37m1.34[30;100m[0m
[31;1f
[2K[37mâÂÂâ¶ï¸Ââ¶ï¸Ââ¶ï¸Ââ¶ï¸Ââ¶ï¸Ââ¶ï¸Ââ¶ï¸Ââ¶︠âÂÂ[30;100m [37mâ ⠠âÂÂ[30;100m processed [37m40%[30;100m of [37m8[30;100m/[37m20[30;100m [37m0.82[30;100m/[37m1.23[30;100m[0m
[31;1f
[2K[37mâÂÂâ¶ï¸Ââ¶ï¸Ââ¶ï¸Ââ¶ï¸Ââ¶ï¸Ââ¶ï¸Ââ¶ï¸Ââ¶ï¸Ââ¶︠âÂÂ[30;100m [37mâ ⡠âÂÂ[30;100m processed [37m45%[30;100m of [37m9[30;100m/[37m20[30;100m [37m0.92[30;100m/[37m1.12[30;100m[0m
[31;1f
[2K[37mâÂÂâ¶ï¸Ââ¶ï¸Ââ¶ï¸Ââ¶ï¸Ââ¶ï¸Ââ¶ï¸Ââ¶ï¸Ââ¶ï¸Ââ¶ï¸Ââ¶︠âÂÂ[30;100m [37mâ ⠠âÂÂ[30;100m processed [37m50%[30;100m of [37m10[30;100m/[37m20[30;100m [37m1.02[30;100m/[37m1.02[30;100m[0m
[31;1f
[2K[37mâÂÂâ¶ï¸Ââ¶ï¸Ââ¶ï¸Ââ¶ï¸Ââ¶ï¸Ââ¶ï¸Ââ¶ï¸Ââ¶ï¸Ââ¶ï¸Ââ¶ï¸Ââ¶︠âÂÂ[30;100m [37mâ ⠠âÂÂ[30;100m processed [37m55%[30;100m of [37m11[30;100m/[37m20[30;100m [37m1.13[30;100m/[37m0.92[30;100m[0m
[31;1f
[2K[37mâÂÂâ¶ï¸Ââ¶ï¸Ââ¶ï¸Ââ¶ï¸Ââ¶ï¸Ââ¶ï¸Ââ¶ï¸Ââ¶ï¸Ââ¶ï¸Ââ¶ï¸Ââ¶ï¸Ââ¶︠âÂÂ[30;100m [37mâ ⠠âÂÂ[30;100m processed [37m60%[30;100m of [37m12[30;100m/[37m20[30;100m [37m1.23[30;100m/[37m0.82[30;100m[0m
[31;1f
[2K[37mâÂÂâ¶ï¸Ââ¶ï¸Ââ¶ï¸Ââ¶ï¸Ââ¶ï¸Ââ¶ï¸Ââ¶ï¸Ââ¶ï¸Ââ¶ï¸Ââ¶ï¸Ââ¶ï¸Ââ¶ï¸Ââ¶︠âÂÂ[30;100m [37mâ â ÂâÂÂ[30;100m processed [37m65%[30;100m of [37m13[30;100m/[37m20[30;100m [37m1.33[30;100m/[37m0.72[30;100m[0m
[31;1f
[2K[37mâÂÂâ¶ï¸Ââ¶ï¸Ââ¶ï¸Ââ¶ï¸Ââ¶ï¸Ââ¶ï¸Ââ¶ï¸Ââ¶ï¸Ââ¶ï¸Ââ¶ï¸Ââ¶ï¸Ââ¶ï¸Ââ¶ï¸Ââ¶︠âÂÂ[30;100m [37mâ ⠠âÂÂ[30;100m processed [37m70%[30;100m of [37m14[30;100m/[37m20[30;100m [37m1.43[30;100m/[37m0.61[30;100m[0m
[31;1f
[2K[37mâÂÂâ¶ï¸Ââ¶ï¸Ââ¶ï¸Ââ¶ï¸Ââ¶ï¸Ââ¶ï¸Ââ¶ï¸Ââ¶ï¸Ââ¶ï¸Ââ¶ï¸Ââ¶ï¸Ââ¶ï¸Ââ¶ï¸Ââ¶ï¸Ââ¶︠âÂÂ[30;100m [37mâ â¡ÂâÂÂ[30;100m processed [37m75%[30;100m of [37m15[30;100m/[37m20[30;100m [37m1.53[30;100m/[37m0.51[30;100m[0m
[31;1f
[2K[37mâÂÂâ¶ï¸Ââ¶ï¸Ââ¶ï¸Ââ¶ï¸Ââ¶ï¸Ââ¶ï¸Ââ¶ï¸Ââ¶ï¸Ââ¶ï¸Ââ¶ï¸Ââ¶ï¸Ââ¶ï¸Ââ¶ï¸Ââ¶ï¸Ââ¶ï¸Ââ¶︠âÂÂ[30;100m [37mâ ⠠âÂÂ[30;100m processed [37m80%[30;100m of [37m16[30;100m/[37m20[30;100m [37m1.64[30;100m/[37m0.41[30;100m[0m
[31;1f
[2K[37mâÂÂâ¶ï¸Ââ¶ï¸Ââ¶ï¸Ââ¶ï¸Ââ¶ï¸Ââ¶ï¸Ââ¶ï¸Ââ¶ï¸Ââ¶ï¸Ââ¶ï¸Ââ¶ï¸Ââ¶ï¸Ââ¶ï¸Ââ¶ï¸Ââ¶ï¸Ââ¶ï¸Ââ¶︠âÂÂ[30;100m [37mâ ⠠âÂÂ[30;100m processed [37m85%[30;100m of [37m17[30;100m/[37m20[30;100m [37m1.74[30;100m/[37m0.31[30;100m[0m
[31;1f
[2K[37mâÂÂâ¶ï¸Ââ¶ï¸Ââ¶ï¸Ââ¶ï¸Ââ¶ï¸Ââ¶ï¸Ââ¶ï¸Ââ¶ï¸Ââ¶ï¸Ââ¶ï¸Ââ¶ï¸Ââ¶ï¸Ââ¶ï¸Ââ¶ï¸Ââ¶ï¸Ââ¶ï¸Ââ¶ï¸Ââ¶︠âÂÂ[30;100m [37mâ ⠠âÂÂ[30;100m processed [37m90%[30;100m of [37m18[30;100m/[37m20[30;100m [37m1.84[30;100m/[37m0.2[30;100m[0m
[31;1f
[2K[37mâÂÂâ¶ï¸Ââ¶ï¸Ââ¶ï¸Ââ¶ï¸Ââ¶ï¸Ââ¶ï¸Ââ¶ï¸Ââ¶ï¸Ââ¶ï¸Ââ¶ï¸Ââ¶ï¸Ââ¶ï¸Ââ¶ï¸Ââ¶ï¸Ââ¶ï¸Ââ¶ï¸Ââ¶ï¸Ââ¶ï¸Ââ¶︠âÂÂ[30;100m [37mâ ⠠âÂÂ[30;100m processed [37m95%[30;100m of [37m19[30;100m/[37m20[30;100m [37m1.94[30;100m/[37m0.1[30;100m[0m
[31;1f
[2K[37mâÂÂâ¶ï¸Ââ¶ï¸Ââ¶ï¸Ââ¶ï¸Ââ¶ï¸Ââ¶ï¸Ââ¶ï¸Ââ¶ï¸Ââ¶ï¸Ââ¶ï¸Ââ¶ï¸Ââ¶ï¸Ââ¶ï¸Ââ¶ï¸Ââ¶ï¸Ââ¶ï¸Ââ¶ï¸Ââ¶ï¸Ââ¶ï¸Ââ¶ï¸ÂâÂÂ[30;100m [37mâ ⠠âÂÂ[30;100m processed [37m100%[30;100m of [37m20[30;100m/[37m20[30;100m [37m2.04[30;100m/[37m0[30;100m[0m
[?25h[2J[1;1ft/01-test.t ....... ok
[1;1f[2J[?25l
[?25l
[?25l
[?25l
[1;1f
[2K[37mâÂÂâ âÂÂ[37m [37mâÂÂâÂÂâÂÂ[37m processed [37m5%[37m of [37m1[37m/[37m20[37m [37m0.101[37m/[37m1.919[37m[0m
[2;1f
[2K[37mâ âÂÂ[37m [37mâÂÂâÂÂâÂÂ[37m processed [37m0%[37m of [37m0[37m/[37m10[37m [37m0.103[37m/[37m0[37m[0m
[3;1f
[2K[37mâ âÂÂ[37m [37mâÂÂâÂÂâÂÂ[37m processed [37m0%[37m of [37m0[37m/[37m50[37m [37m0.103[37m/[37m0[37m[0m
[4;1f
[2K[37mâ âÂÂ[37m [37mâÂÂâÂÂâÂÂ[37m processed [37m0%[37m of [37m0[37m/[37m30[37m [37m0.104[37m/[37m0[37m[0m
[1;1f
[2K[37mâÂÂâ âÂÂ[37m [37mâÂÂâÂÂ
âÂÂ[37m processed [37m5%[37m of [37m1[37m/[37m20[37m [37m0.205[37m/[37m3.895[37m[0m
[2;1f
[2K[37mâÂÂâÂÂâ âÂÂ[37m [37mâÂÂâÂÂ
âÂÂ[37m processed [37m10%[37m of [37m1[37m/[37m10[37m [37m0.206[37m/[37m1.854[37m[0m
[3;1f
[2K[37mâ âÂÂ[37m [37mâÂÂâÂÂ
âÂÂ[37m processed [37m0%[37m of [37m0[37m/[37m50[37m [37m0.207[37m/[37m0[37m[0m
[4;1f
[2K[37mâ âÂÂ[37m [37mâÂÂâÂÂ
âÂÂ[37m processed [37m0%[37m of [37m0[37m/[37m30[37m [37m0.207[37m/[37m0[37m[0m
[1;1f
[2K[37mâÂÂâ âÂÂ[37m [37mâÂÂâÂÂâÂÂ[37m processed [37m5%[37m of [37m1[37m/[37m20[37m [37m0.309[37m/[37m5.871[37m[0m
[2;1f
[2K[37mâÂÂâÂÂâ âÂÂ[37m [37mâÂÂâÂÂâÂÂ[37m processed [37m10%[37m of [37m1[37m/[37m10[37m [37m0.309[37m/[37m2.781[37m[0m
[3;1f
[2K[37mâ âÂÂ[37m [37mâÂÂâÂÂâÂÂ[37m processed [37m2%[37m of [37m1[37m/[37m50[37m [37m0.31[37m/[37m15.19[37m[0m
[4;1f
[2K[37mâ âÂÂ[37m [37mâÂÂâÂÂâÂÂ[37m processed [37m0%[37m of [37m0[37m/[37m30[37m [37m0.311[37m/[37m0[37m[0m
[1;1f
[2K[37mâÂÂâ âÂÂ[37m [37mâÂÂâÂÂâÂÂ[37m processed [37m5%[37m of [37m1[37m/[37m20[37m [37m0.412[37m/[37m7.828[37m[0m
[2;1f
[2K[37mâÂÂâÂÂâ âÂÂ[37m [37mâÂÂâÂÂâÂÂ[37m processed [37m10%[37m of [37m1[37m/[37m10[37m [37m0.413[37m/[37m3.717[37m[0m
[3;1f
[2K[37mâ âÂÂ[37m [37mâÂÂâÂÂâÂÂ[37m processed [37m2%[37m of [37m1[37m/[37m50[37m [37m0.414[37m/[37m20.286[37m[0m
[4;1f
[2K[37mâÂÂâ âÂÂ[37m [37mâÂÂâÂÂâÂÂ[37m processed [37m3%[37m of [37m1[37m/[37m30[37m [37m0.414[37m/[37m13.386[37m[0m
[1;1f
[2K[37mâÂÂâÂÂâ âÂÂ[37m [37mâÂÂâÂÂâÂÂ[37m processed [37m10%[37m of [37m2[37m/[37m20[37m [37m0.516[37m/[37m4.644[37m[0m
[2;1f
[2K[37mâÂÂâÂÂâ âÂÂ[37m [37mâÂÂâÂÂâÂÂ[37m processed [37m10%[37m of [37m1[37m/[37m10[37m [37m0.516[37m/[37m4.644[37m[0m
[3;1f
[2K[37mâ âÂÂ[37m [37mâÂÂâÂÂâÂÂ[37m processed [37m2%[37m of [37m1[37m/[37m50[37m [37m0.517[37m/[37m25.333[37m[0m
[4;1f
[2K[37mâÂÂâ âÂÂ[37m [37mâÂÂâÂÂâÂÂ[37m processed [37m3%[37m of [37m1[37m/[37m30[37m [37m0.518[37m/[37m16.749[37m[0m
[1;1f
[2K[37mâÂÂâÂÂâ âÂÂ[37m [37mâÂÂâÂÂâÂÂ
[37m processed [37m10%[37m of [37m2[37m/[37m20[37m [37m0.619[37m/[37m5.571[37m[0m
[2;1f
[2K[37mâÂÂâÂÂâÂÂâÂÂâ âÂÂ[37m [37mâÂÂâÂÂâÂÂ
[37m processed [37m20%[37m of [37m2[37m/[37m10[37m [37m0.62[37m/[37m2.48[37m[0m
[3;1f
[2K[37mâ âÂÂ[37m [37mâÂÂâÂÂâÂÂ
[37m processed [37m2%[37m of [37m1[37m/[37m50[37m [37m0.621[37m/[37m30.429[37m[0m
[4;1f
[2K[37mâÂÂâ âÂÂ[37m [37mâÂÂâÂÂâÂÂ
[37m processed [37m3%[37m of [37m1[37m/[37m30[37m [37m0.621[37m/[37m20.079[37m[0m
[1;1f
[2K[37mâÂÂâÂÂâ âÂÂ[37m [37mâÂÂâÂÂâÂÂ[37m processed [37m10%[37m of [37m2[37m/[37m20[37m [37m0.723[37m/[37m6.507[37m[0m
[2;1f
[2K[37mâÂÂâÂÂâÂÂâÂÂâ âÂÂ[37m [37mâÂÂâÂÂâÂÂ[37m processed [37m20%[37m of [37m2[37m/[37m10[37m [37m0.724[37m/[37m2.896[37m[0m
[3;1f
[2K[37mâÂÂâ âÂÂ[37m [37mâÂÂâÂÂâÂÂ[37m processed [37m4%[37m of [37m2[37m/[37m50[37m [37m0.724[37m/[37m17.376[37m[0m
[4;1f
[2K[37mâÂÂâ âÂÂ[37m [37mâÂÂâÂÂâÂÂ[37m processed [37m3%[37m of [37m1[37m/[37m30[37m [37m0.725[37m/[37m23.442[37m[0m
[1;1f
[2K[37mâÂÂâÂÂâ âÂÂ[37m [37mâÂÂ
âÂÂâÂÂ[37m processed [37m10%[37m of [37m2[37m/[37m20[37m [37m0.826[37m/[37m7.434[37m[0m
[2;1f
[2K[37mâÂÂâÂÂâÂÂâÂÂâ âÂÂ[37m [37mâÂÂ
âÂÂâÂÂ[37m processed [37m20%[37m of [37m2[37m/[37m10[37m [37m0.827[37m/[37m3.308[37m[0m
[3;1f
[2K[37mâÂÂâ âÂÂ[37m [37mâÂÂ
âÂÂâÂÂ[37m processed [37m4%[37m of [37m2[37m/[37m50[37m [37m0.828[37m/[37m19.872[37m[0m
[4;1f
[2K[37mâÂÂâ âÂÂ[37m [37mâÂÂ
âÂÂâÂÂ[37m processed [37m6%[37m of [37m2[37m/[37m30[37m [37m0.828[37m/[37m12.972[37m[0m
[1;1f
[2K[37mâÂÂâÂÂâÂÂâ âÂÂ[37m [37mâÂÂâÂÂâÂÂ[37m processed [37m15%[37m of [37m3[37m/[37m20[37m [37m0.93[37m/[37m5.27[37m[0m
[2;1f
[2K[37mâÂÂâÂÂâÂÂâÂÂâ âÂÂ[37m [37mâÂÂâÂÂâÂÂ[37m processed [37m20%[37m of [37m2[37m/[37m10[37m [37m0.931[37m/[37m3.724[37m[0m
[3;1f
[2K[37mâÂÂâ âÂÂ[37m [37mâÂÂâÂÂâÂÂ[37m processed [37m4%[37m of [37m2[37m/[37m50[37m [37m0.931[37m/[37m22.344[37m[0m
[4;1f
[2K[37mâÂÂâ âÂÂ[37m [37mâÂÂâÂÂâÂÂ[37m processed [37m6%[37m of [37m2[37m/[37m30[37m [37m0.932[37m/[37m14.601[37m[0m
[1;1f
[2K[37mâÂÂâÂÂâÂÂâ âÂÂ[37m [37mâÂÂâÂÂ
âÂÂ[37m processed [37m15%[37m of [37m3[37m/[37m20[37m [37m1.033[37m/[37m5.854[37m[0m
[2;1f
[2K[37mâÂÂâÂÂâÂÂâÂÂâÂÂâÂÂâ âÂÂ[37m [37mâÂÂâÂÂ
âÂÂ[37m processed [37m30%[37m of [37m3[37m/[37m10[37m [37m1.034[37m/[37m2.413[37m[0m
[3;1f
[2K[37mâÂÂâ âÂÂ[37m [37mâÂÂâÂÂ
âÂÂ[37m processed [37m4%[37m of [37m2[37m/[37m50[37m [37m1.035[37m/[37m24.84[37m[0m
[4;1f
[2K[37mâÂÂâ âÂÂ[37m [37mâÂÂâÂÂ
âÂÂ[37m processed [37m6%[37m of [37m2[37m/[37m30[37m [37m1.035[37m/[37m16.215[37m[0m
[1;1f
[2K[37mâÂÂâÂÂâÂÂâ âÂÂ[37m [37mâÂÂâÂÂâÂÂ[37m processed [37m15%[37m of [37m3[37m/[37m20[37m [37m1.137[37m/[37m6.443[37m[0m
[2;1f
[2K[37mâÂÂâÂÂâÂÂâÂÂâÂÂâÂÂâ âÂÂ[37m [37mâÂÂâÂÂâÂÂ[37m processed [37m30%[37m of [37m3[37m/[37m10[37m [37m1.138[37m/[37m2.655[37m[0m
[3;1f
[2K[37mâÂÂâ âÂÂ[37m [37mâÂÂâÂÂâÂÂ[37m processed [37m6%[37m of [37m3[37m/[37m50[37m [37m1.139[37m/[37m17.844[37m[0m
[4;1f
[2K[37mâÂÂâ âÂÂ[37m [37mâÂÂâÂÂâÂÂ[37m processed [37m6%[37m of [37m2[37m/[37m30[37m [37m1.14[37m/[37m17.86[37m[0m
[1;1f
[2K[37mâÂÂâÂÂâÂÂâ âÂÂ[37m [37mâÂÂâÂÂâÂÂ[37m processed [37m15%[37m of [37m3[37m/[37m20[37m [37m1.241[37m/[37m7.032[37m[0m
[2;1f
[2K[37mâÂÂâÂÂâÂÂâÂÂâÂÂâÂÂâ âÂÂ[37m [37mâÂÂâÂÂâÂÂ[37m processed [37m30%[37m of [37m3[37m/[37m10[37m [37m1.242[37m/[37m2.898[37m[0m
[3;1f
[2K[37mâÂÂâ âÂÂ[37m [37mâÂÂâÂÂâÂÂ[37m processed [37m6%[37m of [37m3[37m/[37m50[37m [37m1.243[37m/[37m19.474[37m[0m
[4;1f
[2K[37mâÂÂâÂÂâ âÂÂ[37m [37mâÂÂâÂÂâÂÂ[37m processed [37m10%[37m of [37m3[37m/[37m30[37m [37m1.244[37m/[37m11.196[37m[0m
[1;1f
[2K[37mâÂÂâÂÂâÂÂâÂÂâ âÂÂ[37m [37mâÂÂâÂÂâÂÂ[37m processed [37m20%[37m of [37m4[37m/[37m20[37m [37m1.346[37m/[37m5.384[37m[0m
[2;1f
[2K[37mâÂÂâÂÂâÂÂâÂÂâÂÂâÂÂâ âÂÂ[37m [37mâÂÂâÂÂâÂÂ[37m processed [37m30%[37m of [37m3[37m/[37m10[37m [37m1.347[37m/[37m3.143[37m[0m
[3;1f
[2K[37mâÂÂâ âÂÂ[37m [37mâÂÂâÂÂâÂÂ[37m processed [37m6%[37m of [37m3[37m/[37m50[37m [37m1.348[37m/[37m21.119[37m[0m
[4;1f
[2K[37mâÂÂâÂÂâ âÂÂ[37m [37mâÂÂâÂÂâÂÂ[37m processed [37m10%[37m of [37m3[37m/[37m30[37m [37m1.349[37m/[37m12.141[37m[0m
[1;1f
[2K[37mâÂÂâÂÂâÂÂâÂÂâ âÂÂ[37m [37mâÂÂâÂÂâÂÂ
[37m processed [37m20%[37m of [37m4[37m/[37m20[37m [37m1.45[37m/[37m5.8[37m[0m
[2;1f
[2K[37mâÂÂâÂÂâÂÂâÂÂâÂÂâÂÂâÂÂâÂÂâ âÂÂ[37m [37mâÂÂâÂÂâÂÂ
[37m processed [37m40%[37m of [37m4[37m/[37m10[37m [37m1.452[37m/[37m2.178[37m[0m
[3;1f
[2K[37mâÂÂâ âÂÂ[37m [37mâÂÂâÂÂâÂÂ
[37m processed [37m6%[37m of [37m3[37m/[37m50[37m [37m1.453[37m/[37m22.764[37m[0m
[4;1f
[2K[37mâÂÂâÂÂâ âÂÂ[37m [37mâÂÂâÂÂâÂÂ
[37m processed [37m10%[37m of [37m3[37m/[37m30[37m [37m1.453[37m/[37m13.077[37m[0m
[1;1f
[2K[37mâÂÂâÂÂâÂÂâÂÂâ âÂÂ[37m [37mâÂÂâÂÂâÂÂ[37m processed [37m20%[37m of [37m4[37m/[37m20[37m [37m1.555[37m/[37m6.22[37m[0m
[2;1f
[2K[37mâÂÂâÂÂâÂÂâÂÂâÂÂâÂÂâÂÂâÂÂâ âÂÂ[37m [37mâÂÂâÂÂâÂÂ[37m processed [37m40%[37m of [37m4[37m/[37m10[37m [37m1.557[37m/[37m2.335[37m[0m
[3;1f
[2K[37mâÂÂâÂÂâ âÂÂ[37m [37mâÂÂâÂÂâÂÂ[37m processed [37m8%[37m of [37m4[37m/[37m50[37m [37m1.558[37m/[37m17.917[37m[0m
[4;1f
[2K[37mâÂÂâÂÂâ âÂÂ[37m [37mâÂÂâÂÂâÂÂ[37m processed [37m10%[37m of [37m3[37m/[37m30[37m [37m1.559[37m/[37m14.031[37m[0m
[1;1f
[2K[37mâÂÂâÂÂâÂÂâÂÂâ âÂÂ[37m [37mâÂÂ
âÂÂâÂÂ[37m processed [37m20%[37m of [37m4[37m/[37m20[37m [37m1.661[37m/[37m6.644[37m[0m
[2;1f
[2K[37mâÂÂâÂÂâÂÂâÂÂâÂÂâÂÂâÂÂâÂÂâ âÂÂ[37m [37mâÂÂ
âÂÂâÂÂ[37m processed [37m40%[37m of [37m4[37m/[37m10[37m [37m1.662[37m/[37m2.493[37m[0m
[3;1f
[2K[37mâÂÂâÂÂâ âÂÂ[37m [37mâÂÂ
âÂÂâÂÂ[37m processed [37m8%[37m of [37m4[37m/[37m50[37m [37m1.663[37m/[37m19.125[37m[0m
[4;1f
[2K[37mâÂÂâÂÂâÂÂâ âÂÂ[37m [37mâÂÂ
âÂÂâÂÂ[37m processed [37m13%[37m of [37m4[37m/[37m30[37m [37m1.663[37m/[37m11.129[37m[0m
[1;1f
[2K[37mâÂÂâÂÂâÂÂâÂÂâÂÂâ âÂÂ[37m [37mâÂÂâÂÂâÂÂ[37m processed [37m25%[37m of [37m5[37m/[37m20[37m [37m1.765[37m/[37m5.295[37m[0m
[2;1f
[2K[37mâÂÂâÂÂâÂÂâÂÂâÂÂâÂÂâÂÂâÂÂâ âÂÂ[37m [37mâÂÂâÂÂâÂÂ[37m processed [37m40%[37m of [37m4[37m/[37m10[37m [37m1.766[37m/[37m2.649[37m[0m
[3;1f
[2K[37mâÂÂâÂÂâ âÂÂ[37m [37mâÂÂâÂÂâÂÂ[37m processed [37m8%[37m of [37m4[37m/[37m50[37m [37m1.767[37m/[37m20.321[37m[0m
[4;1f
[2K[37mâÂÂâÂÂâÂÂâ âÂÂ[37m [37mâÂÂâÂÂâÂÂ[37m processed [37m13%[37m of [37m4[37m/[37m30[37m [37m1.768[37m/[37m11.832[37m[0m
[1;1f
[2K[37mâÂÂâÂÂâÂÂâÂÂâÂÂâ âÂÂ[37m [37mâÂÂâÂÂ
âÂÂ[37m processed [37m25%[37m of [37m5[37m/[37m20[37m [37m1.87[37m/[37m5.61[37m[0m
[2;1f
[2K[37mâÂÂâÂÂâÂÂâÂÂâÂÂâÂÂâÂÂâÂÂâÂÂâÂÂâ âÂÂ[37m [37mâÂÂâÂÂ
âÂÂ[37m processed [37m50%[37m of [37m5[37m/[37m10[37m [37m1.871[37m/[37m1.871[37m[0m
[3;1f
[2K[37mâÂÂâÂÂâ âÂÂ[37m [37mâÂÂâÂÂ
âÂÂ[37m processed [37m8%[37m of [37m4[37m/[37m50[37m [37m1.872[37m/[37m21.528[37m[0m
[4;1f
[2K[37mâÂÂâÂÂâÂÂâ âÂÂ[37m [37mâÂÂâÂÂ
âÂÂ[37m processed [37m13%[37m of [37m4[37m/[37m30[37m [37m1.873[37m/[37m12.535[37m[0m
[1;1f
[2K[37mâÂÂâÂÂâÂÂâÂÂâÂÂâ âÂÂ[37m [37mâÂÂâÂÂâÂÂ[37m processed [37m25%[37m of [37m5[37m/[37m20[37m [37m1.975[37m/[37m5.925[37m[0m
[2;1f
[2K[37mâÂÂâÂÂâÂÂâÂÂâÂÂâÂÂâÂÂâÂÂâÂÂâÂÂâ âÂÂ[37m [37mâÂÂâÂÂâÂÂ[37m processed [37m50%[37m of [37m5[37m/[37m10[37m [37m1.975[37m/[37m1.975[37m[0m
[3;1f
[2K[37mâÂÂâÂÂâ âÂÂ[37m [37mâÂÂâÂÂâÂÂ[37m processed [37m10%[37m of [37m5[37m/[37m50[37m [37m1.976[37m/[37m17.784[37m[0m
[4;1f
[2K[37mâÂÂâÂÂâÂÂâ âÂÂ[37m [37mâÂÂâÂÂâÂÂ[37m processed [37m13%[37m of [37m4[37m/[37m30[37m [37m1.977[37m/[37m13.231[37m[0m
[1;1f
[2K[37mâÂÂâÂÂâÂÂâÂÂâÂÂâ âÂÂ[37m [37mâÂÂâÂÂâÂÂ[37m processed [37m25%[37m of [37m5[37m/[37m20[37m [37m2.079[37m/[37m6.237[37m[0m
[2;1f
[2K[37mâÂÂâÂÂâÂÂâÂÂâÂÂâÂÂâÂÂâÂÂâÂÂâÂÂâ âÂÂ[37m [37mâÂÂâÂÂâÂÂ[37m processed [37m50%[37m of [37m5[37m/[37m10[37m [37m2.08[37m/[37m2.08[37m[0m
[3;1f
[2K[37mâÂÂâÂÂâ âÂÂ[37m [37mâÂÂâÂÂâÂÂ[37m processed [37m10%[37m of [37m5[37m/[37m50[37m [37m2.081[37m/[37m18.729[37m[0m
[4;1f
[2K[37mâÂÂâÂÂâÂÂâ âÂÂ[37m [37mâÂÂâÂÂâÂÂ[37m processed [37m16%[37m of [37m5[37m/[37m30[37m [37m2.082[37m/[37m10.93[37m[0m
[1;1f
[2K[37mâÂÂâÂÂâÂÂâÂÂâÂÂâÂÂâ âÂÂ[37m [37mâÂÂâÂÂâÂÂ[37m processed [37m30%[37m of [37m6[37m/[37m20[37m [37m2.183[37m/[37m5.094[37m[0m
[2;1f
[2K[37mâÂÂâÂÂâÂÂâÂÂâÂÂâÂÂâÂÂâÂÂâÂÂâÂÂâ âÂÂ[37m [37mâÂÂâÂÂâÂÂ[37m processed [37m50%[37m of [37m5[37m/[37m10[37m [37m2.184[37m/[37m2.184[37m[0m
[3;1f
[2K[37mâÂÂâÂÂâ âÂÂ[37m [37mâÂÂâÂÂâÂÂ[37m processed [37m10%[37m of [37m5[37m/[37m50[37m [37m2.184[37m/[37m19.656[37m[0m
[4;1f
[2K[37mâÂÂâÂÂâÂÂâ âÂÂ[37m [37mâÂÂâÂÂâÂÂ[37m processed [37m16%[37m of [37m5[37m/[37m30[37m [37m2.185[37m/[37m11.471[37m[0m
[1;1f
[2K[37mâÂÂâÂÂâÂÂâÂÂâÂÂâÂÂâ âÂÂ[37m [37mâÂÂâÂÂâÂÂ
[37m processed [37m30%[37m of [37m6[37m/[37m20[37m [37m2.287[37m/[37m5.336[37m[0m
[2;1f
[2K[37mâÂÂâÂÂâÂÂâÂÂâÂÂâÂÂâÂÂâÂÂâÂÂâÂÂâÂÂâÂÂâ âÂÂ[37m [37mâÂÂâÂÂâÂÂ
[37m processed [37m60%[37m of [37m6[37m/[37m10[37m [37m2.288[37m/[37m1.525[37m[0m
[3;1f
[2K[37mâÂÂâÂÂâ âÂÂ[37m [37mâÂÂâÂÂâÂÂ
[37m processed [37m10%[37m of [37m5[37m/[37m50[37m [37m2.288[37m/[37m20.592[37m[0m
[4;1f
[2K[37mâÂÂâÂÂâÂÂâ âÂÂ[37m [37mâÂÂâÂÂâÂÂ
[37m processed [37m16%[37m of [37m5[37m/[37m30[37m [37m2.289[37m/[37m12.017[37m[0m
[1;1f
[2K[37mâÂÂâÂÂâÂÂâÂÂâÂÂâÂÂâ âÂÂ[37m [37mâÂÂâÂÂâÂÂ[37m processed [37m30%[37m of [37m6[37m/[37m20[37m [37m2.391[37m/[37m5.579[37m[0m
[2;1f
[2K[37mâÂÂâÂÂâÂÂâÂÂâÂÂâÂÂâÂÂâÂÂâÂÂâÂÂâÂÂâÂÂâ âÂÂ[37m [37mâÂÂâÂÂâÂÂ[37m processed [37m60%[37m of [37m6[37m/[37m10[37m [37m2.393[37m/[37m1.595[37m[0m
[3;1f
[2K[37mâÂÂâÂÂâ âÂÂ[37m [37mâÂÂâÂÂâÂÂ[37m processed [37m12%[37m of [37m6[37m/[37m50[37m [37m2.394[37m/[37m17.556[37m[0m
[4;1f
[2K[37mâÂÂâÂÂâÂÂâ âÂÂ[37m [37mâÂÂâÂÂâÂÂ[37m processed [37m16%[37m of [37m5[37m/[37m30[37m [37m2.395[37m/[37m12.574[37m[0m
[1;1f
[2K[37mâÂÂâÂÂâÂÂâÂÂâÂÂâÂÂâ âÂÂ[37m [37mâÂÂ
âÂÂâÂÂ[37m processed [37m30%[37m of [37m6[37m/[37m20[37m [37m2.497[37m/[37m5.826[37m[0m
[2;1f
[2K[37mâÂÂâÂÂâÂÂâÂÂâÂÂâÂÂâÂÂâÂÂâÂÂâÂÂâÂÂâÂÂâ âÂÂ[37m [37mâÂÂ
âÂÂâÂÂ[37m processed [37m60%[37m of [37m6[37m/[37m10[37m [37m2.499[37m/[37m1.666[37m[0m
[3;1f
[2K[37mâÂÂâÂÂâ âÂÂ[37m [37mâÂÂ
âÂÂâÂÂ[37m processed [37m12%[37m of [37m6[37m/[37m50[37m [37m2.5[37m/[37m18.333[37m[0m
[4;1f
[2K[37mâÂÂâÂÂâÂÂâÂÂâ âÂÂ[37m [37mâÂÂ
âÂÂâÂÂ[37m processed [37m20%[37m of [37m6[37m/[37m30[37m [37m2.502[37m/[37m10.008[37m[0m
[1;1f
[2K[37mâÂÂâÂÂâÂÂâÂÂâÂÂâÂÂâÂÂâ âÂÂ[37m [37mâÂÂâÂÂâÂÂ[37m processed [37m35%[37m of [37m7[37m/[37m20[37m [37m2.604[37m/[37m4.836[37m[0m
[2;1f
[2K[37mâÂÂâÂÂâÂÂâÂÂâÂÂâÂÂâÂÂâÂÂâÂÂâÂÂâÂÂâÂÂâ âÂÂ[37m [37mâÂÂâÂÂâÂÂ[37m processed [37m60%[37m of [37m6[37m/[37m10[37m [37m2.605[37m/[37m1.737[37m[0m
[3;1f
[2K[37mâÂÂâÂÂâ âÂÂ[37m [37mâÂÂâÂÂâÂÂ[37m processed [37m12%[37m of [37m6[37m/[37m50[37m [37m2.605[37m/[37m19.103[37m[0m
[4;1f
[2K[37mâÂÂâÂÂâÂÂâÂÂâ âÂÂ[37m [37mâÂÂâÂÂâÂÂ[37m processed [37m20%[37m of [37m6[37m/[37m30[37m [37m2.606[37m/[37m10.424[37m[0m
[1;1f
[2K[37mâÂÂâÂÂâÂÂâÂÂâÂÂâÂÂâÂÂâ âÂÂ[37m [37mâÂÂâÂÂ
âÂÂ[37m processed [37m35%[37m of [37m7[37m/[37m20[37m [37m2.708[37m/[37m5.029[37m[0m
[2;1f
[2K[37mâÂÂâÂÂâÂÂâÂÂâÂÂâÂÂâÂÂâÂÂâÂÂâÂÂâÂÂâÂÂâÂÂâÂÂâ âÂÂ[37m [37mâÂÂâÂÂ
âÂÂ[37m processed [37m70%[37m of [37m7[37m/[37m10[37m [37m2.709[37m/[37m1.161[37m[0m
[3;1f
[2K[37mâÂÂâÂÂâ âÂÂ[37m [37mâÂÂâÂÂ
âÂÂ[37m processed [37m12%[37m of [37m6[37m/[37m50[37m [37m2.71[37m/[37m19.873[37m[0m
[4;1f
[2K[37mâÂÂâÂÂâÂÂâÂÂâ âÂÂ[37m [37mâÂÂâÂÂ
âÂÂ[37m processed [37m20%[37m of [37m6[37m/[37m30[37m [37m2.712[37m/[37m10.848[37m[0m
[1;1f
[2K[37mâÂÂâÂÂâÂÂâÂÂâÂÂâÂÂâÂÂâ âÂÂ[37m [37mâÂÂâÂÂâÂÂ[37m processed [37m35%[37m of [37m7[37m/[37m20[37m [37m2.813[37m/[37m5.224[37m[0m
[2;1f
[2K[37mâÂÂâÂÂâÂÂâÂÂâÂÂâÂÂâÂÂâÂÂâÂÂâÂÂâÂÂâÂÂâÂÂâÂÂâ âÂÂ[37m [37mâÂÂâÂÂâÂÂ[37m processed [37m70%[37m of [37m7[37m/[37m10[37m [37m2.815[37m/[37m1.206[37m[0m
[3;1f
[2K[37mâÂÂâÂÂâÂÂâ âÂÂ[37m [37mâÂÂâÂÂâÂÂ[37m processed [37m14%[37m of [37m7[37m/[37m50[37m [37m2.815[37m/[37m17.292[37m[0m
[4;1f
[2K[37mâÂÂâÂÂâÂÂâÂÂâ âÂÂ[37m [37mâÂÂâÂÂâÂÂ[37m processed [37m20%[37m of [37m6[37m/[37m30[37m [37m2.816[37m/[37m11.264[37m[0m
[1;1f
[2K[37mâÂÂâÂÂâÂÂâÂÂâÂÂâÂÂâÂÂâ âÂÂ[37m [37mâÂÂâÂÂâÂÂ[37m processed [37m35%[37m of [37m7[37m/[37m20[37m [37m2.918[37m/[37m5.419[37m[0m
[2;1f
[2K[37mâÂÂâÂÂâÂÂâÂÂâÂÂâÂÂâÂÂâÂÂâÂÂâÂÂâÂÂâÂÂâÂÂâÂÂâ âÂÂ[37m [37mâÂÂâÂÂâÂÂ[37m processed [37m70%[37m of [37m7[37m/[37m10[37m [37m2.919[37m/[37m1.251[37m[0m
[3;1f
[2K[37mâÂÂâÂÂâÂÂâ âÂÂ[37m [37mâÂÂâÂÂâÂÂ[37m processed [37m14%[37m of [37m7[37m/[37m50[37m [37m2.92[37m/[37m17.937[37m[0m
[4;1f
[2K[37mâÂÂâÂÂâÂÂâÂÂâÂÂâ âÂÂ[37m [37mâÂÂâÂÂâÂÂ[37m processed [37m23%[37m of [37m7[37m/[37m30[37m [37m2.921[37m/[37m9.779[37m[0m
[1;1f
[2K[37mâÂÂâÂÂâÂÂâÂÂâÂÂâÂÂâÂÂâÂÂâ âÂÂ[37m [37mâÂÂâÂÂâÂÂ[37m processed [37m40%[37m of [37m8[37m/[37m20[37m [37m3.023[37m/[37m4.535[37m[0m
[2;1f
[2K[37mâÂÂâÂÂâÂÂâÂÂâÂÂâÂÂâÂÂâÂÂâÂÂâÂÂâÂÂâÂÂâÂÂâÂÂâ âÂÂ[37m [37mâÂÂâÂÂâÂÂ[37m processed [37m70%[37m of [37m7[37m/[37m10[37m [37m3.024[37m/[37m1.296[37m[0m
[3;1f
[2K[37mâÂÂâÂÂâÂÂâ âÂÂ[37m [37mâÂÂâÂÂâÂÂ[37m processed [37m14%[37m of [37m7[37m/[37m50[37m [37m3.025[37m/[37m18.582[37m[0m
[4;1f
[2K[37mâÂÂâÂÂâÂÂâÂÂâÂÂâ âÂÂ[37m [37mâÂÂâÂÂâÂÂ[37m processed [37m23%[37m of [37m7[37m/[37m30[37m [37m3.026[37m/[37m10.131[37m[0m
[1;1f
[2K[37mâÂÂâÂÂâÂÂâÂÂâÂÂâÂÂâÂÂâÂÂâ âÂÂ[37m [37mâÂÂâÂÂâÂÂ
[37m processed [37m40%[37m of [37m8[37m/[37m20[37m [37m3.127[37m/[37m4.69[37m[0m
[2;1f
[2K[37mâÂÂâÂÂâÂÂâÂÂâÂÂâÂÂâÂÂâÂÂâÂÂâÂÂâÂÂâÂÂâÂÂâÂÂâÂÂâÂÂâ âÂÂ[37m [37mâÂÂâÂÂâÂÂ
[37m processed [37m80%[37m of [37m8[37m/[37m10[37m [37m3.129[37m/[37m0.782[37m[0m
[3;1f
[2K[37mâÂÂâÂÂâÂÂâ âÂÂ[37m [37mâÂÂâÂÂâÂÂ
[37m processed [37m14%[37m of [37m7[37m/[37m50[37m [37m3.13[37m/[37m19.227[37m[0m
[4;1f
[2K[37mâÂÂâÂÂâÂÂâÂÂâÂÂâ âÂÂ[37m [37mâÂÂâÂÂâÂÂ
[37m processed [37m23%[37m of [37m7[37m/[37m30[37m [37m3.13[37m/[37m10.479[37m[0m
[1;1f
[2K[37mâÂÂâÂÂâÂÂâÂÂâÂÂâÂÂâÂÂâÂÂâ âÂÂ[37m [37mâÂÂâÂÂâÂÂ[37m processed [37m40%[37m of [37m8[37m/[37m20[37m [37m3.232[37m/[37m4.848[37m[0m
[2;1f
[2K[37mâÂÂâÂÂâÂÂâÂÂâÂÂâÂÂâÂÂâÂÂâÂÂâÂÂâÂÂâÂÂâÂÂâÂÂâÂÂâÂÂâ âÂÂ[37m [37mâÂÂâÂÂâÂÂ[37m processed [37m80%[37m of [37m8[37m/[37m10[37m [37m3.233[37m/[37m0.808[37m[0m
[3;1f
[2K[37mâÂÂâÂÂâÂÂâ âÂÂ[37m [37mâÂÂâÂÂâÂÂ[37m processed [37m16%[37m of [37m8[37m/[37m50[37m [37m3.234[37m/[37m16.978[37m[0m
[4;1f
[2K[37mâÂÂâÂÂâÂÂâÂÂâÂÂâ âÂÂ[37m [37mâÂÂâÂÂâÂÂ[37m processed [37m23%[37m of [37m7[37m/[37m30[37m [37m3.235[37m/[37m10.83[37m[0m
[1;1f
[2K[37mâÂÂâÂÂâÂÂâÂÂâÂÂâÂÂâÂÂâÂÂâ âÂÂ[37m [37mâÂÂ
âÂÂâÂÂ[37m processed [37m40%[37m of [37m8[37m/[37m20[37m [37m3.337[37m/[37m5.005[37m[0m
[2;1f
[2K[37mâÂÂâÂÂâÂÂâÂÂâÂÂâÂÂâÂÂâÂÂâÂÂâÂÂâÂÂâÂÂâÂÂâÂÂâÂÂâÂÂâ âÂÂ[37m [37mâÂÂ
âÂÂâÂÂ[37m processed [37m80%[37m of [37m8[37m/[37m10[37m [37m3.339[37m/[37m0.835[37m[0m
[3;1f
[2K[37mâÂÂâÂÂâÂÂâ âÂÂ[37m [37mâÂÂ
âÂÂâÂÂ[37m processed [37m16%[37m of [37m8[37m/[37m50[37m [37m3.339[37m/[37m17.53[37m[0m
[4;1f
[2K[37mâÂÂâÂÂâÂÂâÂÂâÂÂâ âÂÂ[37m [37mâÂÂ
âÂÂâÂÂ[37m processed [37m26%[37m of [37m8[37m/[37m30[37m [37m3.34[37m/[37m9.506[37m[0m
[1;1f
[2K[37mâÂÂâÂÂâÂÂâÂÂâÂÂâÂÂâÂÂâÂÂâÂÂâ âÂÂ[37m [37mâÂÂâÂÂâÂÂ[37m processed [37m45%[37m of [37m9[37m/[37m20[37m [37m3.442[37m/[37m4.207[37m[0m
[2;1f
[2K[37mâÂÂâÂÂâÂÂâÂÂâÂÂâÂÂâÂÂâÂÂâÂÂâÂÂâÂÂâÂÂâÂÂâÂÂâÂÂâÂÂâ âÂÂ[37m [37mâÂÂâÂÂâÂÂ[37m processed [37m80%[37m of [37m8[37m/[37m10[37m [37m3.443[37m/[37m0.861[37m[0m
[3;1f
[2K[37mâÂÂâÂÂâÂÂâ âÂÂ[37m [37mâÂÂâÂÂâÂÂ[37m processed [37m16%[37m of [37m8[37m/[37m50[37m [37m3.444[37m/[37m18.081[37m[0m
[4;1f
[2K[37mâÂÂâÂÂâÂÂâÂÂâÂÂâ âÂÂ[37m [37mâÂÂâÂÂâÂÂ[37m processed [37m26%[37m of [37m8[37m/[37m30[37m [37m3.445[37m/[37m9.805[37m[0m
[1;1f
[2K[37mâÂÂâÂÂâÂÂâÂÂâÂÂâÂÂâÂÂâÂÂâÂÂâ âÂÂ[37m [37mâÂÂâÂÂ
âÂÂ[37m processed [37m45%[37m of [37m9[37m/[37m20[37m [37m3.546[37m/[37m4.334[37m[0m
[2;1f
[2K[37mâÂÂâÂÂâÂÂâÂÂâÂÂâÂÂâÂÂâÂÂâÂÂâÂÂâÂÂâÂÂâÂÂâÂÂâÂÂâÂÂâÂÂâÂÂâ âÂÂ[37m [37mâÂÂâÂÂ
âÂÂ[37m processed [37m90%[37m of [37m9[37m/[37m10[37m [37m3.548[37m/[37m0.394[37m[0m
[3;1f
[2K[37mâÂÂâÂÂâÂÂâ âÂÂ[37m [37mâÂÂâÂÂ
âÂÂ[37m processed [37m16%[37m of [37m8[37m/[37m50[37m [37m3.548[37m/[37m18.627[37m[0m
[4;1f
[2K[37mâÂÂâÂÂâÂÂâÂÂâÂÂâ âÂÂ[37m [37mâÂÂâÂÂ
âÂÂ[37m processed [37m26%[37m of [37m8[37m/[37m30[37m [37m3.549[37m/[37m10.101[37m[0m
[1;1f
[2K[37mâÂÂâÂÂâÂÂâÂÂâÂÂâÂÂâÂÂâÂÂâÂÂâ âÂÂ[37m [37mâÂÂâÂÂâÂÂ[37m processed [37m45%[37m of [37m9[37m/[37m20[37m [37m3.651[37m/[37m4.462[37m[0m
[2;1f
[2K[37mâÂÂâÂÂâÂÂâÂÂâÂÂâÂÂâÂÂâÂÂâÂÂâÂÂâÂÂâÂÂâÂÂâÂÂâÂÂâÂÂâÂÂâÂÂâ âÂÂ[37m [37mâÂÂâÂÂâÂÂ[37m processed [37m90%[37m of [37m9[37m/[37m10[37m [37m3.652[37m/[37m0.406[37m[0m
[3;1f
[2K[37mâÂÂâÂÂâÂÂâÂÂâ âÂÂ[37m [37mâÂÂâÂÂâÂÂ[37m processed [37m18%[37m of [37m9[37m/[37m50[37m [37m3.653[37m/[37m16.641[37m[0m
[4;1f
[2K[37mâÂÂâÂÂâÂÂâÂÂâÂÂâ âÂÂ[37m [37mâÂÂâÂÂâÂÂ[37m processed [37m26%[37m of [37m8[37m/[37m30[37m [37m3.654[37m/[37m10.4[37m[0m
[1;1f
[2K[37mâÂÂâÂÂâÂÂâÂÂâÂÂâÂÂâÂÂâÂÂâÂÂâ âÂÂ[37m [37mâÂÂâÂÂâÂÂ[37m processed [37m45%[37m of [37m9[37m/[37m20[37m [37m3.756[37m/[37m4.591[37m[0m
[2;1f
[2K[37mâÂÂâÂÂâÂÂâÂÂâÂÂâÂÂâÂÂâÂÂâÂÂâÂÂâÂÂâÂÂâÂÂâÂÂâÂÂâÂÂâÂÂâÂÂâ âÂÂ[37m [37mâÂÂâÂÂâÂÂ[37m processed [37m90%[37m of [37m9[37m/[37m10[37m [37m3.757[37m/[37m0.417[37m[0m
[3;1f
[2K[37mâÂÂâÂÂâÂÂâÂÂâ âÂÂ[37m [37mâÂÂâÂÂâÂÂ[37m processed [37m18%[37m of [37m9[37m/[37m50[37m [37m3.758[37m/[37m17.12[37m[0m
[4;1f
[2K[37mâÂÂâÂÂâÂÂâÂÂâÂÂâÂÂâ âÂÂ[37m [37mâÂÂâÂÂâÂÂ[37m processed [37m30%[37m of [37m9[37m/[37m30[37m [37m3.76[37m/[37m8.773[37m[0m
[1;1f
[2K[37mâÂÂâÂÂâÂÂâÂÂâÂÂâÂÂâÂÂâÂÂâÂÂâÂÂâ âÂÂ[37m [37mâÂÂâÂÂâÂÂ[37m processed [37m50%[37m of [37m10[37m/[37m20[37m [37m3.861[37m/[37m3.861[37m[0m
[2;1f
[2K[37mâÂÂâÂÂâÂÂâÂÂâÂÂâÂÂâÂÂâÂÂâÂÂâÂÂâÂÂâÂÂâÂÂâÂÂâÂÂâÂÂâÂÂâÂÂâ âÂÂ[37m [37mâÂÂâÂÂâÂÂ[37m processed [37m90%[37m of [37m9[37m/[37m10[37m [37m3.862[37m/[37m0.429[37m[0m
[3;1f
[2K[37mâÂÂâÂÂâÂÂâÂÂâ âÂÂ[37m [37mâÂÂâÂÂâÂÂ[37m processed [37m18%[37m of [37m9[37m/[37m50[37m [37m3.863[37m/[37m17.598[37m[0m
[4;1f
[2K[37mâÂÂâÂÂâÂÂâÂÂâÂÂâÂÂâ âÂÂ[37m [37mâÂÂâÂÂâÂÂ[37m processed [37m30%[37m of [37m9[37m/[37m30[37m [37m3.863[37m/[37m9.014[37m[0m
[1;1f
[2K[37mâÂÂâÂÂâÂÂâÂÂâÂÂâÂÂâÂÂâÂÂâÂÂâÂÂâ âÂÂ[37m [37mâÂÂâÂÂâÂÂ
[37m processed [37m50%[37m of [37m10[37m/[37m20[37m [37m3.965[37m/[37m3.965[37m[0m
[2;1f
[2K[37mâÂÂâÂÂâÂÂâÂÂâÂÂâÂÂâÂÂâÂÂâÂÂâÂÂâÂÂâÂÂâÂÂâÂÂâÂÂâÂÂâÂÂâÂÂâÂÂâÂÂâÂÂâÂÂ[37m [37mâÂÂâÂÂâÂÂ
[37m processed [37m100%[37m of [37m10[37m/[37m10[37m [37m3.966[37m/[37m0[37m[0m
[3;1f
[2K[37mâÂÂâÂÂâÂÂâÂÂâ âÂÂ[37m [37mâÂÂâÂÂâÂÂ
[37m processed [37m18%[37m of [37m9[37m/[37m50[37m [37m3.966[37m/[37m18.067[37m[0m
[4;1f
[2K[37mâÂÂâÂÂâÂÂâÂÂâÂÂâÂÂâ âÂÂ[37m [37mâÂÂâÂÂâÂÂ
[37m processed [37m30%[37m of [37m9[37m/[37m30[37m [37m3.968[37m/[37m9.259[37m[0m
[1;1f
[2K[37mâÂÂâÂÂâÂÂâÂÂâÂÂâÂÂâÂÂâÂÂâÂÂâÂÂâ âÂÂ[37m [37mâÂÂâÂÂâÂÂ[37m processed [37m50%[37m of [37m10[37m/[37m20[37m [37m4.07[37m/[37m4.07[37m[0m
[2;1f
[2K[37mâÂÂâÂÂâÂÂâÂÂâÂÂâÂÂâÂÂâÂÂâÂÂâÂÂâÂÂâÂÂâÂÂâÂÂâÂÂâÂÂâÂÂâÂÂâÂÂâÂÂâÂÂâÂÂ[37m [37mâÂÂâÂÂâÂÂ[37m processed [37m100%[37m of [37m10[37m/[37m10[37m [37m4.071[37m/[37m0[37m[0m
[3;1f
[2K[37mâÂÂâÂÂâÂÂâÂÂâ âÂÂ[37m [37mâÂÂâÂÂâÂÂ[37m processed [37m20%[37m of [37m10[37m/[37m50[37m [37m4.072[37m/[37m16.288[37m[0m
[4;1f
[2K[37mâÂÂâÂÂâÂÂâÂÂâÂÂâÂÂâ âÂÂ[37m [37mâÂÂâÂÂâÂÂ[37m processed [37m30%[37m of [37m9[37m/[37m30[37m [37m4.072[37m/[37m9.501[37m[0m
[1;1f
[2K[37mâÂÂâÂÂâÂÂâÂÂâÂÂâÂÂâÂÂâÂÂâÂÂâÂÂâ âÂÂ[37m [37mâÂÂ
âÂÂâÂÂ[37m processed [37m50%[37m of [37m10[37m/[37m20[37m [37m4.174[37m/[37m4.174[37m[0m
[2;1f
[2K[37mâÂÂâÂÂâÂÂâÂÂâÂÂâÂÂâÂÂâÂÂâÂÂâÂÂâÂÂâÂÂâÂÂâÂÂâÂÂâÂÂâÂÂâÂÂâÂÂâÂÂâÂÂâÂÂ[37m [37mâÂÂ
âÂÂâÂÂ[37m processed [37m100%[37m of [37m10[37m/[37m10[37m [37m4.176[37m/[37m0[37m[0m
[3;1f
[2K[37mâÂÂâÂÂâÂÂâÂÂâ âÂÂ[37m [37mâÂÂ
âÂÂâÂÂ[37m processed [37m20%[37m of [37m10[37m/[37m50[37m [37m4.177[37m/[37m16.708[37m[0m
[4;1f
[2K[37mâÂÂâÂÂâÂÂâÂÂâÂÂâÂÂâÂÂâ âÂÂ[37m [37mâÂÂ
âÂÂâÂÂ[37m processed [37m33%[37m of [37m10[37m/[37m30[37m [37m4.178[37m/[37m8.483[37m[0m
[1;1f
[2K[37mâÂÂâÂÂâÂÂâÂÂâÂÂâÂÂâÂÂâÂÂâÂÂâÂÂâÂÂâ âÂÂ[37m [37mâÂÂâÂÂâÂÂ[37m processed [37m55%[37m of [37m11[37m/[37m20[37m [37m4.279[37m/[37m3.501[37m[0m
[2;1f
[2K[37mâÂÂâÂÂâÂÂâÂÂâÂÂâÂÂâÂÂâÂÂâÂÂâÂÂâÂÂâÂÂâÂÂâÂÂâÂÂâÂÂâÂÂâÂÂâÂÂâÂÂâÂÂâÂÂ[37m [37mâÂÂâÂÂâÂÂ[37m processed [37m100%[37m of [37m10[37m/[37m10[37m [37m4.28[37m/[37m0[37m[0m
[3;1f
[2K[37mâÂÂâÂÂâÂÂâÂÂâ âÂÂ[37m [37mâÂÂâÂÂâÂÂ[37m processed [37m20%[37m of [37m10[37m/[37m50[37m [37m4.281[37m/[37m17.124[37m[0m
[4;1f
[2K[37mâÂÂâÂÂâÂÂâÂÂâÂÂâÂÂâÂÂâ âÂÂ[37m [37mâÂÂâÂÂâÂÂ[37m processed [37m33%[37m of [37m10[37m/[37m30[37m [37m4.281[37m/[37m8.692[37m[0m
[1;1f
[2K[37mâÂÂâÂÂâÂÂâÂÂâÂÂâÂÂâÂÂâÂÂâÂÂâÂÂâÂÂâ âÂÂ[37m [37mâÂÂâÂÂ
âÂÂ[37m processed [37m55%[37m of [37m11[37m/[37m20[37m [37m4.383[37m/[37m3.586[37m[0m
[3;1f
[2K[37mâÂÂâÂÂâÂÂâÂÂâ âÂÂ[37m [37mâÂÂâÂÂ
âÂÂ[37m processed [37m22%[37m of [37m11[37m/[37m50[37m [37m4.384[37m/[37m15.543[37m[0m
[4;1f
[2K[37mâÂÂâÂÂâÂÂâÂÂâÂÂâÂÂâÂÂâ âÂÂ[37m [37mâÂÂâÂÂ
âÂÂ[37m processed [37m33%[37m of [37m10[37m/[37m30[37m [37m4.384[37m/[37m8.901[37m[0m
[1;1f
[2K[37mâÂÂâÂÂâÂÂâÂÂâÂÂâÂÂâÂÂâÂÂâÂÂâÂÂâÂÂâ âÂÂ[37m [37mâÂÂâÂÂâÂÂ[37m processed [37m55%[37m of [37m11[37m/[37m20[37m [37m4.486[37m/[37m3.67[37m[0m
[3;1f
[2K[37mâÂÂâÂÂâÂÂâÂÂâ âÂÂ[37m [37mâÂÂâÂÂâÂÂ[37m processed [37m22%[37m of [37m11[37m/[37m50[37m [37m4.487[37m/[37m15.908[37m[0m
[4;1f
[2K[37mâÂÂâÂÂâÂÂâÂÂâÂÂâÂÂâÂÂâ âÂÂ[37m [37mâÂÂâÂÂâÂÂ[37m processed [37m36%[37m of [37m11[37m/[37m30[37m [37m4.489[37m/[37m7.98[37m[0m
[1;1f
[2K[37mâÂÂâÂÂâÂÂâÂÂâÂÂâÂÂâÂÂâÂÂâÂÂâÂÂâÂÂâÂÂâ âÂÂ[37m [37mâÂÂâÂÂâÂÂ[37m processed [37m60%[37m of [37m12[37m/[37m20[37m [37m4.591[37m/[37m3.061[37m[0m
[3;1f
[2K[37mâÂÂâÂÂâÂÂâÂÂâ âÂÂ[37m [37mâÂÂâÂÂâÂÂ[37m processed [37m22%[37m of [37m11[37m/[37m50[37m [37m4.592[37m/[37m16.281[37m[0m
[4;1f
[2K[37mâÂÂâÂÂâÂÂâÂÂâÂÂâÂÂâÂÂâ âÂÂ[37m [37mâÂÂâÂÂâÂÂ[37m processed [37m36%[37m of [37m11[37m/[37m30[37m [37m4.592[37m/[37m8.164[37m[0m
[1;1f
[2K[37mâÂÂâÂÂâÂÂâÂÂâÂÂâÂÂâÂÂâÂÂâÂÂâÂÂâÂÂâÂÂâ âÂÂ[37m [37mâÂÂâÂÂâÂÂ[37m processed [37m60%[37m of [37m12[37m/[37m20[37m [37m4.694[37m/[37m3.129[37m[0m
[3;1f
[2K[37mâÂÂâÂÂâÂÂâÂÂâÂÂâ âÂÂ[37m [37mâÂÂâÂÂâÂÂ[37m processed [37m24%[37m of [37m12[37m/[37m50[37m [37m4.696[37m/[37m14.871[37m[0m
[4;1f
[2K[37mâÂÂâÂÂâÂÂâÂÂâÂÂâÂÂâÂÂâ âÂÂ[37m [37mâÂÂâÂÂâÂÂ[37m processed [37m36%[37m of [37m11[37m/[37m30[37m [37m4.697[37m/[37m8.35[37m[0m
[1;1f
[2K[37mâÂÂâÂÂâÂÂâÂÂâÂÂâÂÂâÂÂâÂÂâÂÂâÂÂâÂÂâÂÂâ âÂÂ[37m [37mâÂÂâÂÂâÂÂ
[37m processed [37m60%[37m of [37m12[37m/[37m20[37m [37m4.799[37m/[37m3.199[37m[0m
[3;1f
[2K[37mâÂÂâÂÂâÂÂâÂÂâÂÂâ âÂÂ[37m [37mâÂÂâÂÂâÂÂ
[37m processed [37m24%[37m of [37m12[37m/[37m50[37m [37m4.801[37m/[37m15.203[37m[0m
[4;1f
[2K[37mâÂÂâÂÂâÂÂâÂÂâÂÂâÂÂâÂÂâÂÂâ âÂÂ[37m [37mâÂÂâÂÂâÂÂ
[37m processed [37m40%[37m of [37m12[37m/[37m30[37m [37m4.802[37m/[37m7.203[37m[0m
[1;1f
[2K[37mâÂÂâÂÂâÂÂâÂÂâÂÂâÂÂâÂÂâÂÂâÂÂâÂÂâÂÂâÂÂâÂÂâ âÂÂ[37m [37mâÂÂâÂÂâÂÂ[37m processed [37m65%[37m of [37m13[37m/[37m20[37m [37m4.903[37m/[37m2.64[37m[0m
[3;1f
[2K[37mâÂÂâÂÂâÂÂâÂÂâÂÂâ âÂÂ[37m [37mâÂÂâÂÂâÂÂ[37m processed [37m24%[37m of [37m12[37m/[37m50[37m [37m4.904[37m/[37m15.529[37m[0m
[4;1f
[2K[37mâÂÂâÂÂâÂÂâÂÂâÂÂâÂÂâÂÂâÂÂâ âÂÂ[37m [37mâÂÂâÂÂâÂÂ[37m processed [37m40%[37m of [37m12[37m/[37m30[37m [37m4.905[37m/[37m7.358[37m[0m
[1;1f
[2K[37mâÂÂâÂÂâÂÂâÂÂâÂÂâÂÂâÂÂâÂÂâÂÂâÂÂâÂÂâÂÂâÂÂâ âÂÂ[37m [37mâÂÂ
âÂÂâÂÂ[37m processed [37m65%[37m of [37m13[37m/[37m20[37m [37m5.007[37m/[37m2.696[37m[0m
[3;1f
[2K[37mâÂÂâÂÂâÂÂâÂÂâÂÂâ âÂÂ[37m [37mâÂÂ
âÂÂâÂÂ[37m processed [37m26%[37m of [37m13[37m/[37m50[37m [37m5.009[37m/[37m14.256[37m[0m
[4;1f
[2K[37mâÂÂâÂÂâÂÂâÂÂâÂÂâÂÂâÂÂâÂÂâ âÂÂ[37m [37mâÂÂ
âÂÂâÂÂ[37m processed [37m40%[37m of [37m12[37m/[37m30[37m [37m5.01[37m/[37m7.515[37m[0m
[1;1f
[2K[37mâÂÂâÂÂâÂÂâÂÂâÂÂâÂÂâÂÂâÂÂâÂÂâÂÂâÂÂâÂÂâÂÂâ âÂÂ[37m [37mâÂÂâÂÂâÂÂ[37m processed [37m65%[37m of [37m13[37m/[37m20[37m [37m5.112[37m/[37m2.753[37m[0m
[3;1f
[2K[37mâÂÂâÂÂâÂÂâÂÂâÂÂâ âÂÂ[37m [37mâÂÂâÂÂâÂÂ[37m processed [37m26%[37m of [37m13[37m/[37m50[37m [37m5.113[37m/[37m14.552[37m[0m
[4;1f
[2K[37mâÂÂâÂÂâÂÂâÂÂâÂÂâÂÂâÂÂâÂÂâÂÂâ âÂÂ[37m [37mâÂÂâÂÂâÂÂ[37m processed [37m43%[37m of [37m13[37m/[37m30[37m [37m5.114[37m/[37m6.779[37m[0m
[1;1f
[2K[37mâÂÂâÂÂâÂÂâÂÂâÂÂâÂÂâÂÂâÂÂâÂÂâÂÂâÂÂâÂÂâÂÂâÂÂâ âÂÂ[37m [37mâÂÂâÂÂ
âÂÂ[37m processed [37m70%[37m of [37m14[37m/[37m20[37m [37m5.216[37m/[37m2.235[37m[0m
[3;1f
[2K[37mâÂÂâÂÂâÂÂâÂÂâÂÂâ âÂÂ[37m [37mâÂÂâÂÂ
âÂÂ[37m processed [37m26%[37m of [37m13[37m/[37m50[37m [37m5.216[37m/[37m14.846[37m[0m
[4;1f
[2K[37mâÂÂâÂÂâÂÂâÂÂâÂÂâÂÂâÂÂâÂÂâÂÂâ âÂÂ[37m [37mâÂÂâÂÂ
âÂÂ[37m processed [37m43%[37m of [37m13[37m/[37m30[37m [37m5.217[37m/[37m6.916[37m[0m
[1;1f
[2K[37mâÂÂâÂÂâÂÂâÂÂâÂÂâÂÂâÂÂâÂÂâÂÂâÂÂâÂÂâÂÂâÂÂâÂÂâ âÂÂ[37m [37mâÂÂâÂÂâÂÂ[37m processed [37m70%[37m of [37m14[37m/[37m20[37m [37m5.318[37m/[37m2.279[37m[0m
[3;1f
[2K[37mâÂÂâÂÂâÂÂâÂÂâÂÂâÂÂâ âÂÂ[37m [37mâÂÂâÂÂâÂÂ[37m processed [37m28%[37m of [37m14[37m/[37m50[37m [37m5.32[37m/[37m13.68[37m[0m
[4;1f
[2K[37mâÂÂâÂÂâÂÂâÂÂâÂÂâÂÂâÂÂâÂÂâÂÂâ âÂÂ[37m [37mâÂÂâÂÂâÂÂ[37m processed [37m43%[37m of [37m13[37m/[37m30[37m [37m5.321[37m/[37m7.053[37m[0m
[1;1f
[2K[37mâÂÂâÂÂâÂÂâÂÂâÂÂâÂÂâÂÂâÂÂâÂÂâÂÂâÂÂâÂÂâÂÂâÂÂâ âÂÂ[37m [37mâÂÂâÂÂâÂÂ[37m processed [37m70%[37m of [37m14[37m/[37m20[37m [37m5.423[37m/[37m2.324[37m[0m
[3;1f
[2K[37mâÂÂâÂÂâÂÂâÂÂâÂÂâÂÂâ âÂÂ[37m [37mâÂÂâÂÂâÂÂ[37m processed [37m28%[37m of [37m14[37m/[37m50[37m [37m5.424[37m/[37m13.947[37m[0m
[4;1f
[2K[37mâÂÂâÂÂâÂÂâÂÂâÂÂâÂÂâÂÂâÂÂâÂÂâ âÂÂ[37m [37mâÂÂâÂÂâÂÂ[37m processed [37m46%[37m of [37m14[37m/[37m30[37m [37m5.424[37m/[37m6.367[37m[0m
[1;1f
[2K[37mâÂÂâÂÂâÂÂâÂÂâÂÂâÂÂâÂÂâÂÂâÂÂâÂÂâÂÂâÂÂâÂÂâÂÂâÂÂâ âÂÂ[37m [37mâÂÂâÂÂâÂÂ[37m processed [37m75%[37m of [37m15[37m/[37m20[37m [37m5.526[37m/[37m1.842[37m[0m
[3;1f
[2K[37mâÂÂâÂÂâÂÂâÂÂâÂÂâÂÂâ âÂÂ[37m [37mâÂÂâÂÂâÂÂ[37m processed [37m28%[37m of [37m14[37m/[37m50[37m [37m5.527[37m/[37m14.212[37m[0m
[4;1f
[2K[37mâÂÂâÂÂâÂÂâÂÂâÂÂâÂÂâÂÂâÂÂâÂÂâ âÂÂ[37m [37mâÂÂâÂÂâÂÂ[37m processed [37m46%[37m of [37m14[37m/[37m30[37m [37m5.528[37m/[37m6.489[37m[0m
[1;1f
[2K[37mâÂÂâÂÂâÂÂâÂÂâÂÂâÂÂâÂÂâÂÂâÂÂâÂÂâÂÂâÂÂâÂÂâÂÂâÂÂâ âÂÂ[37m [37mâÂÂâÂÂâÂÂ
[37m processed [37m75%[37m of [37m15[37m/[37m20[37m [37m5.63[37m/[37m1.877[37m[0m
[3;1f
[2K[37mâÂÂâÂÂâÂÂâÂÂâÂÂâÂÂâ âÂÂ[37m [37mâÂÂâÂÂâÂÂ
[37m processed [37m30%[37m of [37m15[37m/[37m50[37m [37m5.632[37m/[37m13.141[37m[0m
[4;1f
[2K[37mâÂÂâÂÂâÂÂâÂÂâÂÂâÂÂâÂÂâÂÂâÂÂâ âÂÂ[37m [37mâÂÂâÂÂâÂÂ
[37m processed [37m46%[37m of [37m14[37m/[37m30[37m [37m5.633[37m/[37m6.613[37m[0m
[1;1f
[2K[37mâÂÂâÂÂâÂÂâÂÂâÂÂâÂÂâÂÂâÂÂâÂÂâÂÂâÂÂâÂÂâÂÂâÂÂâÂÂâ âÂÂ[37m [37mâÂÂâÂÂâÂÂ[37m processed [37m75%[37m of [37m15[37m/[37m20[37m [37m5.736[37m/[37m1.912[37m[0m
[3;1f
[2K[37mâÂÂâÂÂâÂÂâÂÂâÂÂâÂÂâ âÂÂ[37m [37mâÂÂâÂÂâÂÂ[37m processed [37m30%[37m of [37m15[37m/[37m50[37m [37m5.737[37m/[37m13.386[37m[0m
[4;1f
[2K[37mâÂÂâÂÂâÂÂâÂÂâÂÂâÂÂâÂÂâÂÂâÂÂâÂÂâ âÂÂ[37m [37mâÂÂâÂÂâÂÂ[37m processed [37m50%[37m of [37m15[37m/[37m30[37m [37m5.738[37m/[37m5.738[37m[0m
[1;1f
[2K[37mâÂÂâÂÂâÂÂâÂÂâÂÂâÂÂâÂÂâÂÂâÂÂâÂÂâÂÂâÂÂâÂÂâÂÂâÂÂâÂÂâ âÂÂ[37m [37mâÂÂ
âÂÂâÂÂ[37m processed [37m80%[37m of [37m16[37m/[37m20[37m [37m5.84[37m/[37m1.46[37m[0m
[3;1f
[2K[37mâÂÂâÂÂâÂÂâÂÂâÂÂâÂÂâ âÂÂ[37m [37mâÂÂ
âÂÂâÂÂ[37m processed [37m30%[37m of [37m15[37m/[37m50[37m [37m5.841[37m/[37m13.629[37m[0m
[4;1f
[2K[37mâÂÂâÂÂâÂÂâÂÂâÂÂâÂÂâÂÂâÂÂâÂÂâÂÂâ âÂÂ[37m [37mâÂÂ
âÂÂâÂÂ[37m processed [37m50%[37m of [37m15[37m/[37m30[37m [37m5.842[37m/[37m5.842[37m[0m
[1;1f
[2K[37mâÂÂâÂÂâÂÂâÂÂâÂÂâÂÂâÂÂâÂÂâÂÂâÂÂâÂÂâÂÂâÂÂâÂÂâÂÂâÂÂâ âÂÂ[37m [37mâÂÂâÂÂâÂÂ[37m processed [37m80%[37m of [37m16[37m/[37m20[37m [37m5.944[37m/[37m1.486[37m[0m
[3;1f
[2K[37mâÂÂâÂÂâÂÂâÂÂâÂÂâÂÂâ âÂÂ[37m [37mâÂÂâÂÂâÂÂ[37m processed [37m32%[37m of [37m16[37m/[37m50[37m [37m5.945[37m/[37m12.633[37m[0m
[4;1f
[2K[37mâÂÂâÂÂâÂÂâÂÂâÂÂâÂÂâÂÂâÂÂâÂÂâÂÂâ âÂÂ[37m [37mâÂÂâÂÂâÂÂ[37m processed [37m50%[37m of [37m15[37m/[37m30[37m [37m5.945[37m/[37m5.945[37m[0m
[1;1f
[2K[37mâÂÂâÂÂâÂÂâÂÂâÂÂâÂÂâÂÂâÂÂâÂÂâÂÂâÂÂâÂÂâÂÂâÂÂâÂÂâÂÂâ âÂÂ[37m [37mâÂÂâÂÂ
âÂÂ[37m processed [37m80%[37m of [37m16[37m/[37m20[37m [37m6.047[37m/[37m1.512[37m[0m
[3;1f
[2K[37mâÂÂâÂÂâÂÂâÂÂâÂÂâÂÂâ âÂÂ[37m [37mâÂÂâÂÂ
âÂÂ[37m processed [37m32%[37m of [37m16[37m/[37m50[37m [37m6.048[37m/[37m12.852[37m[0m
[4;1f
[2K[37mâÂÂâÂÂâÂÂâÂÂâÂÂâÂÂâÂÂâÂÂâÂÂâÂÂâÂÂâ âÂÂ[37m [37mâÂÂâÂÂ
âÂÂ[37m processed [37m53%[37m of [37m16[37m/[37m30[37m [37m6.05[37m/[37m5.365[37m[0m
[1;1f
[2K[37mâÂÂâÂÂâÂÂâÂÂâÂÂâÂÂâÂÂâÂÂâÂÂâÂÂâÂÂâÂÂâÂÂâÂÂâÂÂâÂÂâÂÂâ âÂÂ[37m [37mâÂÂâÂÂâÂÂ[37m processed [37m85%[37m of [37m17[37m/[37m20[37m [37m6.152[37m/[37m1.086[37m[0m
[3;1f
[2K[37mâÂÂâÂÂâÂÂâÂÂâÂÂâÂÂâ âÂÂ[37m [37mâÂÂâÂÂâÂÂ[37m processed [37m32%[37m of [37m16[37m/[37m50[37m [37m6.153[37m/[37m13.075[37m[0m
[4;1f
[2K[37mâÂÂâÂÂâÂÂâÂÂâÂÂâÂÂâÂÂâÂÂâÂÂâÂÂâÂÂâ âÂÂ[37m [37mâÂÂâÂÂâÂÂ[37m processed [37m53%[37m of [37m16[37m/[37m30[37m [37m6.154[37m/[37m5.457[37m[0m
[1;1f
[2K[37mâÂÂâÂÂâÂÂâÂÂâÂÂâÂÂâÂÂâÂÂâÂÂâÂÂâÂÂâÂÂâÂÂâÂÂâÂÂâÂÂâÂÂâ âÂÂ[37m [37mâÂÂâÂÂâÂÂ[37m processed [37m85%[37m of [37m17[37m/[37m20[37m [37m6.256[37m/[37m1.104[37m[0m
[3;1f
[2K[37mâÂÂâÂÂâÂÂâÂÂâÂÂâÂÂâÂÂâ âÂÂ[37m [37mâÂÂâÂÂâÂÂ[37m processed [37m34%[37m of [37m17[37m/[37m50[37m [37m6.257[37m/[37m12.146[37m[0m
[4;1f
[2K[37mâÂÂâÂÂâÂÂâÂÂâÂÂâÂÂâÂÂâÂÂâÂÂâÂÂâÂÂâ âÂÂ[37m [37mâÂÂâÂÂâÂÂ[37m processed [37m53%[37m of [37m16[37m/[37m30[37m [37m6.258[37m/[37m5.55[37m[0m
[1;1f
[2K[37mâÂÂâÂÂâÂÂâÂÂâÂÂâÂÂâÂÂâÂÂâÂÂâÂÂâÂÂâÂÂâÂÂâÂÂâÂÂâÂÂâÂÂâ âÂÂ[37m [37mâÂÂâÂÂâÂÂ[37m processed [37m85%[37m of [37m17[37m/[37m20[37m [37m6.36[37m/[37m1.122[37m[0m
[3;1f
[2K[37mâÂÂâÂÂâÂÂâÂÂâÂÂâÂÂâÂÂâ âÂÂ[37m [37mâÂÂâÂÂâÂÂ[37m processed [37m34%[37m of [37m17[37m/[37m50[37m [37m6.362[37m/[37m12.35[37m[0m
[4;1f
[2K[37mâÂÂâÂÂâÂÂâÂÂâÂÂâÂÂâÂÂâÂÂâÂÂâÂÂâÂÂâ âÂÂ[37m [37mâÂÂâÂÂâÂÂ[37m processed [37m56%[37m of [37m17[37m/[37m30[37m [37m6.363[37m/[37m5[37m[0m
[1;1f
[2K[37mâÂÂâÂÂâÂÂâÂÂâÂÂâÂÂâÂÂâÂÂâÂÂâÂÂâÂÂâÂÂâÂÂâÂÂâÂÂâÂÂâÂÂâÂÂâ âÂÂ[37m [37mâÂÂâÂÂâÂÂ
[37m processed [37m90%[37m of [37m18[37m/[37m20[37m [37m6.464[37m/[37m0.718[37m[0m
[3;1f
[2K[37mâÂÂâÂÂâÂÂâÂÂâÂÂâÂÂâÂÂâ âÂÂ[37m [37mâÂÂâÂÂâÂÂ
[37m processed [37m34%[37m of [37m17[37m/[37m50[37m [37m6.465[37m/[37m12.55[37m[0m
[4;1f
[2K[37mâÂÂâÂÂâÂÂâÂÂâÂÂâÂÂâÂÂâÂÂâÂÂâÂÂâÂÂâ âÂÂ[37m [37mâÂÂâÂÂâÂÂ
[37m processed [37m56%[37m of [37m17[37m/[37m30[37m [37m6.466[37m/[37m5.08[37m[0m
[1;1f
[2K[37mâÂÂâÂÂâÂÂâÂÂâÂÂâÂÂâÂÂâÂÂâÂÂâÂÂâÂÂâÂÂâÂÂâÂÂâÂÂâÂÂâÂÂâÂÂâ âÂÂ[37m [37mâÂÂâÂÂâÂÂ[37m processed [37m90%[37m of [37m18[37m/[37m20[37m [37m6.567[37m/[37m0.73[37m[0m
[3;1f
[2K[37mâÂÂâÂÂâÂÂâÂÂâÂÂâÂÂâÂÂâ âÂÂ[37m [37mâÂÂâÂÂâÂÂ[37m processed [37m36%[37m of [37m18[37m/[37m50[37m [37m6.568[37m/[37m11.676[37m[0m
[4;1f
[2K[37mâÂÂâÂÂâÂÂâÂÂâÂÂâÂÂâÂÂâÂÂâÂÂâÂÂâÂÂâ âÂÂ[37m [37mâÂÂâÂÂâÂÂ[37m processed [37m56%[37m of [37m17[37m/[37m30[37m [37m6.569[37m/[37m5.161[37m[0m
[1;1f
[2K[37mâÂÂâÂÂâÂÂâÂÂâÂÂâÂÂâÂÂâÂÂâÂÂâÂÂâÂÂâÂÂâÂÂâÂÂâÂÂâÂÂâÂÂâÂÂâ âÂÂ[37m [37mâÂÂ
âÂÂâÂÂ[37m processed [37m90%[37m of [37m18[37m/[37m20[37m [37m6.671[37m/[37m0.741[37m[0m
[3;1f
[2K[37mâÂÂâÂÂâÂÂâÂÂâÂÂâÂÂâÂÂâ âÂÂ[37m [37mâÂÂ
âÂÂâÂÂ[37m processed [37m36%[37m of [37m18[37m/[37m50[37m [37m6.672[37m/[37m11.861[37m[0m
[4;1f
[2K[37mâÂÂâÂÂâÂÂâÂÂâÂÂâÂÂâÂÂâÂÂâÂÂâÂÂâÂÂâÂÂâ âÂÂ[37m [37mâÂÂ
âÂÂâÂÂ[37m processed [37m60%[37m of [37m18[37m/[37m30[37m [37m6.673[37m/[37m4.449[37m[0m
[1;1f
[2K[37mâÂÂâÂÂâÂÂâÂÂâÂÂâÂÂâÂÂâÂÂâÂÂâÂÂâÂÂâÂÂâÂÂâÂÂâÂÂâÂÂâÂÂâÂÂâÂÂâ âÂÂ[37m [37mâÂÂâÂÂâÂÂ[37m processed [37m95%[37m of [37m19[37m/[37m20[37m [37m6.775[37m/[37m0.357[37m[0m
[3;1f
[2K[37mâÂÂâÂÂâÂÂâÂÂâÂÂâÂÂâÂÂâ âÂÂ[37m [37mâÂÂâÂÂâÂÂ[37m processed [37m36%[37m of [37m18[37m/[37m50[37m [37m6.776[37m/[37m12.046[37m[0m
[4;1f
[2K[37mâÂÂâÂÂâÂÂâÂÂâÂÂâÂÂâÂÂâÂÂâÂÂâÂÂâÂÂâÂÂâ âÂÂ[37m [37mâÂÂâÂÂâÂÂ[37m processed [37m60%[37m of [37m18[37m/[37m30[37m [37m6.777[37m/[37m4.518[37m[0m
[1;1f
[2K[37mâÂÂâÂÂâÂÂâÂÂâÂÂâÂÂâÂÂâÂÂâÂÂâÂÂâÂÂâÂÂâÂÂâÂÂâÂÂâÂÂâÂÂâÂÂâÂÂâ âÂÂ[37m [37mâÂÂâÂÂ
âÂÂ[37m processed [37m95%[37m of [37m19[37m/[37m20[37m [37m6.878[37m/[37m0.362[37m[0m
[3;1f
[2K[37mâÂÂâÂÂâÂÂâÂÂâÂÂâÂÂâÂÂâÂÂâ âÂÂ[37m [37mâÂÂâÂÂ
âÂÂ[37m processed [37m38%[37m of [37m19[37m/[37m50[37m [37m6.879[37m/[37m11.224[37m[0m
[4;1f
[2K[37mâÂÂâÂÂâÂÂâÂÂâÂÂâÂÂâÂÂâÂÂâÂÂâÂÂâÂÂâÂÂâ âÂÂ[37m [37mâÂÂâÂÂ
âÂÂ[37m processed [37m60%[37m of [37m18[37m/[37m30[37m [37m6.88[37m/[37m4.587[37m[0m
[1;1f
[2K[37mâÂÂâÂÂâÂÂâÂÂâÂÂâÂÂâÂÂâÂÂâÂÂâÂÂâÂÂâÂÂâÂÂâÂÂâÂÂâÂÂâÂÂâÂÂâÂÂâ âÂÂ[37m [37mâÂÂâÂÂâÂÂ[37m processed [37m95%[37m of [37m19[37m/[37m20[37m [37m6.982[37m/[37m0.367[37m[0m
[3;1f
[2K[37mâÂÂâÂÂâÂÂâÂÂâÂÂâÂÂâÂÂâÂÂâ âÂÂ[37m [37mâÂÂâÂÂâÂÂ[37m processed [37m38%[37m of [37m19[37m/[37m50[37m [37m6.983[37m/[37m11.393[37m[0m
[4;1f
[2K[37mâÂÂâÂÂâÂÂâÂÂâÂÂâÂÂâÂÂâÂÂâÂÂâÂÂâÂÂâÂÂâÂÂâ âÂÂ[37m [37mâÂÂâÂÂâÂÂ[37m processed [37m63%[37m of [37m19[37m/[37m30[37m [37m6.984[37m/[37m4.102[37m[0m
[1;1f
[2K[37mâÂÂâÂÂâÂÂâÂÂâÂÂâÂÂâÂÂâÂÂâÂÂâÂÂâÂÂâÂÂâÂÂâÂÂâÂÂâÂÂâÂÂâÂÂâÂÂâÂÂâÂÂâÂÂ[37m [37mâÂÂâÂÂâÂÂ[37m processed [37m100%[37m of [37m20[37m/[37m20[37m [37m7.085[37m/[37m0[37m[0m
[3;1f
[2K[37mâÂÂâÂÂâÂÂâÂÂâÂÂâÂÂâÂÂâÂÂâ âÂÂ[37m [37mâÂÂâÂÂâÂÂ[37m processed [37m38%[37m of [37m19[37m/[37m50[37m [37m7.087[37m/[37m11.563[37m[0m
[4;1f
[2K[37mâÂÂâÂÂâÂÂâÂÂâÂÂâÂÂâÂÂâÂÂâÂÂâÂÂâÂÂâÂÂâÂÂâ âÂÂ[37m [37mâÂÂâÂÂâÂÂ[37m processed [37m63%[37m of [37m19[37m/[37m30[37m [37m7.087[37m/[37m4.162[37m[0m
[1;1f
[2K[37mâÂÂâÂÂâÂÂâÂÂâÂÂâÂÂâÂÂâÂÂâÂÂâÂÂâÂÂâÂÂâÂÂâÂÂâÂÂâÂÂâÂÂâÂÂâÂÂâÂÂâÂÂâÂÂ[37m [37mâÂÂâÂÂâÂÂ[37m processed [37m100%[37m of [37m20[37m/[37m20[37m [37m7.189[37m/[37m0[37m[0m
[3;1f
[2K[37mâÂÂâÂÂâÂÂâÂÂâÂÂâÂÂâÂÂâÂÂâ âÂÂ[37m [37mâÂÂâÂÂâÂÂ[37m processed [37m40%[37m of [37m20[37m/[37m50[37m [37m7.191[37m/[37m10.786[37m[0m
[4;1f
[2K[37mâÂÂâÂÂâÂÂâÂÂâÂÂâÂÂâÂÂâÂÂâÂÂâÂÂâÂÂâÂÂâÂÂâ âÂÂ[37m [37mâÂÂâÂÂâÂÂ[37m processed [37m63%[37m of [37m19[37m/[37m30[37m [37m7.191[37m/[37m4.223[37m[0m
[1;1f
[2K[37mâÂÂâÂÂâÂÂâÂÂâÂÂâÂÂâÂÂâÂÂâÂÂâÂÂâÂÂâÂÂâÂÂâÂÂâÂÂâÂÂâÂÂâÂÂâÂÂâÂÂâÂÂâÂÂ[37m [37mâÂÂâÂÂâÂÂ
[37m processed [37m100%[37m of [37m20[37m/[37m20[37m [37m7.293[37m/[37m0[37m[0m
[3;1f
[2K[37mâÂÂâÂÂâÂÂâÂÂâÂÂâÂÂâÂÂâÂÂâ âÂÂ[37m [37mâÂÂâÂÂâÂÂ
[37m processed [37m40%[37m of [37m20[37m/[37m50[37m [37m7.294[37m/[37m10.941[37m[0m
[4;1f
[2K[37mâÂÂâÂÂâÂÂâÂÂâÂÂâÂÂâÂÂâÂÂâÂÂâÂÂâÂÂâÂÂâÂÂâ âÂÂ[37m [37mâÂÂâÂÂâÂÂ
[37m processed [37m66%[37m of [37m20[37m/[37m30[37m [37m7.295[37m/[37m3.758[37m[0m
[3;1f
[2K[37mâÂÂâÂÂâÂÂâÂÂâÂÂâÂÂâÂÂâÂÂâ âÂÂ[37m [37mâÂÂâÂÂâÂÂ[37m processed [37m42%[37m of [37m21[37m/[37m50[37m [37m7.398[37m/[37m10.216[37m[0m
[4;1f
[2K[37mâÂÂâÂÂâÂÂâÂÂâÂÂâÂÂâÂÂâÂÂâÂÂâÂÂâÂÂâÂÂâÂÂâ âÂÂ[37m [37mâÂÂâÂÂâÂÂ[37m processed [37m66%[37m of [37m20[37m/[37m30[37m [37m7.399[37m/[37m3.812[37m[0m
[3;1f
[2K[37mâÂÂâÂÂâÂÂâÂÂâÂÂâÂÂâÂÂâÂÂâ âÂÂ[37m [37mâÂÂ
âÂÂâÂÂ[37m processed [37m42%[37m of [37m21[37m/[37m50[37m [37m7.5[37m/[37m10.357[37m[0m
[4;1f
[2K[37mâÂÂâÂÂâÂÂâÂÂâÂÂâÂÂâÂÂâÂÂâÂÂâÂÂâÂÂâÂÂâÂÂâÂÂâ âÂÂ[37m [37mâÂÂ
âÂÂâÂÂ[37m processed [37m70%[37m of [37m21[37m/[37m30[37m [37m7.501[37m/[37m3.215[37m[0m
[3;1f
[2K[37mâÂÂâÂÂâÂÂâÂÂâÂÂâÂÂâÂÂâÂÂâÂÂâ âÂÂ[37m [37mâÂÂâÂÂâÂÂ[37m processed [37m44%[37m of [37m22[37m/[37m50[37m [37m7.603[37m/[37m9.677[37m[0m
[4;1f
[2K[37mâÂÂâÂÂâÂÂâÂÂâÂÂâÂÂâÂÂâÂÂâÂÂâÂÂâÂÂâÂÂâÂÂâÂÂâ âÂÂ[37m [37mâÂÂâÂÂâÂÂ[37m processed [37m70%[37m of [37m21[37m/[37m30[37m [37m7.603[37m/[37m3.258[37m[0m
[3;1f
[2K[37mâÂÂâÂÂâÂÂâÂÂâÂÂâÂÂâÂÂâÂÂâÂÂâ âÂÂ[37m [37mâÂÂâÂÂ
âÂÂ[37m processed [37m44%[37m of [37m22[37m/[37m50[37m [37m7.705[37m/[37m9.806[37m[0m
[4;1f
[2K[37mâÂÂâÂÂâÂÂâÂÂâÂÂâÂÂâÂÂâÂÂâÂÂâÂÂâÂÂâÂÂâÂÂâÂÂâÂÂâ âÂÂ[37m [37mâÂÂâÂÂ
âÂÂ[37m processed [37m73%[37m of [37m22[37m/[37m30[37m [37m7.706[37m/[37m2.85[37m[0m
[3;1f
[2K[37mâÂÂâÂÂâÂÂâÂÂâÂÂâÂÂâÂÂâÂÂâÂÂâ âÂÂ[37m [37mâÂÂâÂÂâÂÂ[37m processed [37m46%[37m of [37m23[37m/[37m50[37m [37m7.808[37m/[37m9.166[37m[0m
[4;1f
[2K[37mâÂÂâÂÂâÂÂâÂÂâÂÂâÂÂâÂÂâÂÂâÂÂâÂÂâÂÂâÂÂâÂÂâÂÂâÂÂâ âÂÂ[37m [37mâÂÂâÂÂâÂÂ[37m processed [37m73%[37m of [37m22[37m/[37m30[37m [37m7.809[37m/[37m2.888[37m[0m
[3;1f
[2K[37mâÂÂâÂÂâÂÂâÂÂâÂÂâÂÂâÂÂâÂÂâÂÂâ âÂÂ[37m [37mâÂÂâÂÂâÂÂ[37m processed [37m46%[37m of [37m23[37m/[37m50[37m [37m7.911[37m/[37m9.287[37m[0m
[4;1f
[2K[37mâÂÂâÂÂâÂÂâÂÂâÂÂâÂÂâÂÂâÂÂâÂÂâÂÂâÂÂâÂÂâÂÂâÂÂâÂÂâ âÂÂ[37m [37mâÂÂâÂÂâÂÂ[37m processed [37m76%[37m of [37m23[37m/[37m30[37m [37m7.912[37m/[37m2.499[37m[0m
[3;1f
[2K[37mâÂÂâÂÂâÂÂâÂÂâÂÂâÂÂâÂÂâÂÂâÂÂâÂÂâ âÂÂ[37m [37mâÂÂâÂÂâÂÂ[37m processed [37m48%[37m of [37m24[37m/[37m50[37m [37m8.014[37m/[37m8.682[37m[0m
[4;1f
[2K[37mâÂÂâÂÂâÂÂâÂÂâÂÂâÂÂâÂÂâÂÂâÂÂâÂÂâÂÂâÂÂâÂÂâÂÂâÂÂâ âÂÂ[37m [37mâÂÂâÂÂâÂÂ[37m processed [37m76%[37m of [37m23[37m/[37m30[37m [37m8.015[37m/[37m2.531[37m[0m
[3;1f
[2K[37mâÂÂâÂÂâÂÂâÂÂâÂÂâÂÂâÂÂâÂÂâÂÂâÂÂâ âÂÂ[37m [37mâÂÂâÂÂâÂÂ
[37m processed [37m48%[37m of [37m24[37m/[37m50[37m [37m8.117[37m/[37m8.793[37m[0m
[4;1f
[2K[37mâÂÂâÂÂâÂÂâÂÂâÂÂâÂÂâÂÂâÂÂâÂÂâÂÂâÂÂâÂÂâÂÂâÂÂâÂÂâÂÂâ âÂÂ[37m [37mâÂÂâÂÂâÂÂ
[37m processed [37m80%[37m of [37m24[37m/[37m30[37m [37m8.118[37m/[37m2.029[37m[0m
[3;1f
[2K[37mâÂÂâÂÂâÂÂâÂÂâÂÂâÂÂâÂÂâÂÂâÂÂâÂÂâ âÂÂ[37m [37mâÂÂâÂÂâÂÂ[37m processed [37m50%[37m of [37m25[37m/[37m50[37m [37m8.22[37m/[37m8.22[37m[0m
[4;1f
[2K[37mâÂÂâÂÂâÂÂâÂÂâÂÂâÂÂâÂÂâÂÂâÂÂâÂÂâÂÂâÂÂâÂÂâÂÂâÂÂâÂÂâ âÂÂ[37m [37mâÂÂâÂÂâÂÂ[37m processed [37m80%[37m of [37m24[37m/[37m30[37m [37m8.221[37m/[37m2.055[37m[0m
[3;1f
[2K[37mâÂÂâÂÂâÂÂâÂÂâÂÂâÂÂâÂÂâÂÂâÂÂâÂÂâ âÂÂ[37m [37mâÂÂ
âÂÂâÂÂ[37m processed [37m50%[37m of [37m25[37m/[37m50[37m [37m8.323[37m/[37m8.323[37m[0m
[4;1f
[2K[37mâÂÂâÂÂâÂÂâÂÂâÂÂâÂÂâÂÂâÂÂâÂÂâÂÂâÂÂâÂÂâÂÂâÂÂâÂÂâÂÂâÂÂâ âÂÂ[37m [37mâÂÂ
âÂÂâÂÂ[37m processed [37m83%[37m of [37m25[37m/[37m30[37m [37m8.324[37m/[37m1.705[37m[0m
[3;1f
[2K[37mâÂÂâÂÂâÂÂâÂÂâÂÂâÂÂâÂÂâÂÂâÂÂâÂÂâ âÂÂ[37m [37mâÂÂâÂÂâÂÂ[37m processed [37m52%[37m of [37m26[37m/[37m50[37m [37m8.426[37m/[37m7.778[37m[0m
[4;1f
[2K[37mâÂÂâÂÂâÂÂâÂÂâÂÂâÂÂâÂÂâÂÂâÂÂâÂÂâÂÂâÂÂâÂÂâÂÂâÂÂâÂÂâÂÂâ âÂÂ[37m [37mâÂÂâÂÂâÂÂ[37m processed [37m83%[37m of [37m25[37m/[37m30[37m [37m8.427[37m/[37m1.726[37m[0m
[3;1f
[2K[37mâÂÂâÂÂâÂÂâÂÂâÂÂâÂÂâÂÂâÂÂâÂÂâÂÂâ âÂÂ[37m [37mâÂÂâÂÂ
âÂÂ[37m processed [37m52%[37m of [37m26[37m/[37m50[37m [37m8.529[37m/[37m7.873[37m[0m
[4;1f
[2K[37mâÂÂâÂÂâÂÂâÂÂâÂÂâÂÂâÂÂâÂÂâÂÂâÂÂâÂÂâÂÂâÂÂâÂÂâÂÂâÂÂâÂÂâ âÂÂ[37m [37mâÂÂâÂÂ
âÂÂ[37m processed [37m86%[37m of [37m26[37m/[37m30[37m [37m8.53[37m/[37m1.389[37m[0m
[3;1f
[2K[37mâÂÂâÂÂâÂÂâÂÂâÂÂâÂÂâÂÂâÂÂâÂÂâÂÂâÂÂâ âÂÂ[37m [37mâÂÂâÂÂâÂÂ[37m processed [37m54%[37m of [37m27[37m/[37m50[37m [37m8.632[37m/[37m7.353[37m[0m
[4;1f
[2K[37mâÂÂâÂÂâÂÂâÂÂâÂÂâÂÂâÂÂâÂÂâÂÂâÂÂâÂÂâÂÂâÂÂâÂÂâÂÂâÂÂâÂÂâ âÂÂ[37m [37mâÂÂâÂÂâÂÂ[37m processed [37m86%[37m of [37m26[37m/[37m30[37m [37m8.633[37m/[37m1.405[37m[0m
[3;1f
[2K[37mâÂÂâÂÂâÂÂâÂÂâÂÂâÂÂâÂÂâÂÂâÂÂâÂÂâÂÂâ âÂÂ[37m [37mâÂÂâÂÂâÂÂ[37m processed [37m54%[37m of [37m27[37m/[37m50[37m [37m8.735[37m/[37m7.441[37m[0m
[4;1f
[2K[37mâÂÂâÂÂâÂÂâÂÂâÂÂâÂÂâÂÂâÂÂâÂÂâÂÂâÂÂâÂÂâÂÂâÂÂâÂÂâÂÂâÂÂâÂÂâ âÂÂ[37m [37mâÂÂâÂÂâÂÂ[37m processed [37m90%[37m of [37m27[37m/[37m30[37m [37m8.736[37m/[37m0.971[37m[0m
[3;1f
[2K[37mâÂÂâÂÂâÂÂâÂÂâÂÂâÂÂâÂÂâÂÂâÂÂâÂÂâÂÂâ âÂÂ[37m [37mâÂÂâÂÂâÂÂ[37m processed [37m56%[37m of [37m28[37m/[37m50[37m [37m8.838[37m/[37m6.944[37m[0m
[4;1f
[2K[37mâÂÂâÂÂâÂÂâÂÂâÂÂâÂÂâÂÂâÂÂâÂÂâÂÂâÂÂâÂÂâÂÂâÂÂâÂÂâÂÂâÂÂâÂÂâ âÂÂ[37m [37mâÂÂâÂÂâÂÂ[37m processed [37m90%[37m of [37m27[37m/[37m30[37m [37m8.839[37m/[37m0.982[37m[0m
[3;1f
[2K[37mâÂÂâÂÂâÂÂâÂÂâÂÂâÂÂâÂÂâÂÂâÂÂâÂÂâÂÂâ âÂÂ[37m [37mâÂÂâÂÂâÂÂ
[37m processed [37m56%[37m of [37m28[37m/[37m50[37m [37m8.94[37m/[37m7.024[37m[0m
[4;1f
[2K[37mâÂÂâÂÂâÂÂâÂÂâÂÂâÂÂâÂÂâÂÂâÂÂâÂÂâÂÂâÂÂâÂÂâÂÂâÂÂâÂÂâÂÂâÂÂâÂÂâ âÂÂ[37m [37mâÂÂâÂÂâÂÂ
[37m processed [37m93%[37m of [37m28[37m/[37m30[37m [37m8.941[37m/[37m0.673[37m[0m
[3;1f
[2K[37mâÂÂâÂÂâÂÂâÂÂâÂÂâÂÂâÂÂâÂÂâÂÂâÂÂâÂÂâ âÂÂ[37m [37mâÂÂâÂÂâÂÂ[37m processed [37m57%[37m of [37m29[37m/[37m50[37m [37m9.043[37m/[37m6.822[37m[0m
[4;1f
[2K[37mâÂÂâÂÂâÂÂâÂÂâÂÂâÂÂâÂÂâÂÂâÂÂâÂÂâÂÂâÂÂâÂÂâÂÂâÂÂâÂÂâÂÂâÂÂâÂÂâ âÂÂ[37m [37mâÂÂâÂÂâÂÂ[37m processed [37m93%[37m of [37m28[37m/[37m30[37m [37m9.044[37m/[37m0.681[37m[0m
[3;1f
[2K[37mâÂÂâÂÂâÂÂâÂÂâÂÂâÂÂâÂÂâÂÂâÂÂâÂÂâÂÂâ âÂÂ[37m [37mâÂÂ
âÂÂâÂÂ[37m processed [37m57%[37m of [37m29[37m/[37m50[37m [37m9.146[37m/[37m6.9[37m[0m
[4;1f
[2K[37mâÂÂâÂÂâÂÂâÂÂâÂÂâÂÂâÂÂâÂÂâÂÂâÂÂâÂÂâÂÂâÂÂâÂÂâÂÂâÂÂâÂÂâÂÂâÂÂâ âÂÂ[37m [37mâÂÂ
âÂÂâÂÂ[37m processed [37m96%[37m of [37m29[37m/[37m30[37m [37m9.147[37m/[37m0.381[37m[0m
[3;1f
[2K[37mâÂÂâÂÂâÂÂâÂÂâÂÂâÂÂâÂÂâÂÂâÂÂâÂÂâÂÂâÂÂâ âÂÂ[37m [37mâÂÂâÂÂâÂÂ[37m processed [37m60%[37m of [37m30[37m/[37m50[37m [37m9.249[37m/[37m6.166[37m[0m
[4;1f
[2K[37mâÂÂâÂÂâÂÂâÂÂâÂÂâÂÂâÂÂâÂÂâÂÂâÂÂâÂÂâÂÂâÂÂâÂÂâÂÂâÂÂâÂÂâÂÂâÂÂâ âÂÂ[37m [37mâÂÂâÂÂâÂÂ[37m processed [37m96%[37m of [37m29[37m/[37m30[37m [37m9.251[37m/[37m0.385[37m[0m
[3;1f
[2K[37mâÂÂâÂÂâÂÂâÂÂâÂÂâÂÂâÂÂâÂÂâÂÂâÂÂâÂÂâÂÂâ âÂÂ[37m [37mâÂÂâÂÂ
âÂÂ[37m processed [37m60%[37m of [37m30[37m/[37m50[37m [37m9.353[37m/[37m6.235[37m[0m
[4;1f
[2K[37mâÂÂâÂÂâÂÂâÂÂâÂÂâÂÂâÂÂâÂÂâÂÂâÂÂâÂÂâÂÂâÂÂâÂÂâÂÂâÂÂâÂÂâÂÂâÂÂâÂÂâÂÂâÂÂ[37m [37mâÂÂâÂÂ
âÂÂ[37m processed [37m100%[37m of [37m30[37m/[37m30[37m [37m9.354[37m/[37m0[37m[0m
[3;1f
[2K[37mâÂÂâÂÂâÂÂâÂÂâÂÂâÂÂâÂÂâÂÂâÂÂâÂÂâÂÂâÂÂâ âÂÂ[37m [37mâÂÂâÂÂâÂÂ[37m processed [37m62%[37m of [37m31[37m/[37m50[37m [37m9.456[37m/[37m5.796[37m[0m
[4;1f
[2K[37mâÂÂâÂÂâÂÂâÂÂâÂÂâÂÂâÂÂâÂÂâÂÂâÂÂâÂÂâÂÂâÂÂâÂÂâÂÂâÂÂâÂÂâÂÂâÂÂâÂÂâÂÂâÂÂ[37m [37mâÂÂâÂÂâÂÂ[37m processed [37m100%[37m of [37m30[37m/[37m30[37m [37m9.457[37m/[37m0[37m[0m
[3;1f
[2K[37mâÂÂâÂÂâÂÂâÂÂâÂÂâÂÂâÂÂâÂÂâÂÂâÂÂâÂÂâÂÂâÂÂâ âÂÂ[37m [37mâÂÂâÂÂâÂÂ[37m processed [37m64%[37m of [37m32[37m/[37m50[37m [37m9.559[37m/[37m5.377[37m[0m
[3;1f
[2K[37mâÂÂâÂÂâÂÂâÂÂâÂÂâÂÂâÂÂâÂÂâÂÂâÂÂâÂÂâÂÂâÂÂâ âÂÂ[37m [37mâÂÂâÂÂâÂÂ[37m processed [37m66%[37m of [37m33[37m/[37m50[37m [37m9.661[37m/[37m4.977[37m[0m
[3;1f
[2K[37mâÂÂâÂÂâÂÂâÂÂâÂÂâÂÂâÂÂâÂÂâÂÂâÂÂâÂÂâÂÂâÂÂâÂÂâ âÂÂ[37m [37mâÂÂâÂÂâÂÂ
[37m processed [37m68%[37m of [37m34[37m/[37m50[37m [37m9.764[37m/[37m4.595[37m[0m
[3;1f
[2K[37mâÂÂâÂÂâÂÂâÂÂâÂÂâÂÂâÂÂâÂÂâÂÂâÂÂâÂÂâÂÂâÂÂâÂÂâ âÂÂ[37m [37mâÂÂâÂÂâÂÂ[37m processed [37m70%[37m of [37m35[37m/[37m50[37m [37m9.866[37m/[37m4.228[37m[0m
[3;1f
[2K[37mâÂÂâÂÂâÂÂâÂÂâÂÂâÂÂâÂÂâÂÂâÂÂâÂÂâÂÂâÂÂâÂÂâÂÂâ âÂÂ[37m [37mâÂÂ
âÂÂâÂÂ[37m processed [37m72%[37m of [37m36[37m/[37m50[37m [37m9.968[37m/[37m3.876[37m[0m
[3;1f
[2K[37mâÂÂâÂÂâÂÂâÂÂâÂÂâÂÂâÂÂâÂÂâÂÂâÂÂâÂÂâÂÂâÂÂâÂÂâÂÂâ âÂÂ[37m [37mâÂÂâÂÂâÂÂ[37m processed [37m74%[37m of [37m37[37m/[37m50[37m [37m10.07[37m/[37m3.538[37m[0m
[3;1f
[2K[37mâÂÂâÂÂâÂÂâÂÂâÂÂâÂÂâÂÂâÂÂâÂÂâÂÂâÂÂâÂÂâÂÂâÂÂâÂÂâ âÂÂ[37m [37mâÂÂâÂÂ
âÂÂ[37m processed [37m76%[37m of [37m38[37m/[37m50[37m [37m10.173[37m/[37m3.213[37m[0m
[3;1f
[2K[37mâÂÂâÂÂâÂÂâÂÂâÂÂâÂÂâÂÂâÂÂâÂÂâÂÂâÂÂâÂÂâÂÂâÂÂâÂÂâÂÂâ âÂÂ[37m [37mâÂÂâÂÂâÂÂ[37m processed [37m78%[37m of [37m39[37m/[37m50[37m [37m10.275[37m/[37m2.898[37m[0m
[3;1f
[2K[37mâÂÂâÂÂâÂÂâÂÂâÂÂâÂÂâÂÂâÂÂâÂÂâÂÂâÂÂâÂÂâÂÂâÂÂâÂÂâÂÂâ âÂÂ[37m [37mâÂÂâÂÂâÂÂ[37m processed [37m80%[37m of [37m40[37m/[37m50[37m [37m10.377[37m/[37m2.594[37m[0m
[3;1f
[2K[37mâÂÂâÂÂâÂÂâÂÂâÂÂâÂÂâÂÂâÂÂâÂÂâÂÂâÂÂâÂÂâÂÂâÂÂâÂÂâÂÂâ âÂÂ[37m [37mâÂÂâÂÂâÂÂ[37m processed [37m82%[37m of [37m41[37m/[37m50[37m [37m10.479[37m/[37m2.3[37m[0m
[3;1f
[2K[37mâÂÂâÂÂâÂÂâÂÂâÂÂâÂÂâÂÂâÂÂâÂÂâÂÂâÂÂâÂÂâÂÂâÂÂâÂÂâÂÂâÂÂâ âÂÂ[37m [37mâÂÂâÂÂâÂÂ
[37m processed [37m84%[37m of [37m42[37m/[37m50[37m [37m10.581[37m/[37m2.015[37m[0m
[3;1f
[2K[37mâÂÂâÂÂâÂÂâÂÂâÂÂâÂÂâÂÂâÂÂâÂÂâÂÂâÂÂâÂÂâÂÂâÂÂâÂÂâÂÂâÂÂâ âÂÂ[37m [37mâÂÂâÂÂâÂÂ[37m processed [37m86%[37m of [37m43[37m/[37m50[37m [37m10.684[37m/[37m1.739[37m[0m
[3;1f
[2K[37mâÂÂâÂÂâÂÂâÂÂâÂÂâÂÂâÂÂâÂÂâÂÂâÂÂâÂÂâÂÂâÂÂâÂÂâÂÂâÂÂâÂÂâÂÂâ âÂÂ[37m [37mâÂÂ
âÂÂâÂÂ[37m processed [37m88%[37m of [37m44[37m/[37m50[37m [37m10.786[37m/[37m1.471[37m[0m
[3;1f
[2K[37mâÂÂâÂÂâÂÂâÂÂâÂÂâÂÂâÂÂâÂÂâÂÂâÂÂâÂÂâÂÂâÂÂâÂÂâÂÂâÂÂâÂÂâÂÂâ âÂÂ[37m [37mâÂÂâÂÂâÂÂ[37m processed [37m90%[37m of [37m45[37m/[37m50[37m [37m10.888[37m/[37m1.21[37m[0m
[3;1f
[2K[37mâÂÂâÂÂâÂÂâÂÂâÂÂâÂÂâÂÂâÂÂâÂÂâÂÂâÂÂâÂÂâÂÂâÂÂâÂÂâÂÂâÂÂâÂÂâ âÂÂ[37m [37mâÂÂâÂÂ
âÂÂ[37m processed [37m92%[37m of [37m46[37m/[37m50[37m [37m10.99[37m/[37m0.956[37m[0m
[3;1f
[2K[37mâÂÂâÂÂâÂÂâÂÂâÂÂâÂÂâÂÂâÂÂâÂÂâÂÂâÂÂâÂÂâÂÂâÂÂâÂÂâÂÂâÂÂâÂÂâÂÂâ âÂÂ[37m [37mâÂÂâÂÂâÂÂ[37m processed [37m94%[37m of [37m47[37m/[37m50[37m [37m11.092[37m/[37m0.708[37m[0m
[3;1f
[2K[37mâÂÂâÂÂâÂÂâÂÂâÂÂâÂÂâÂÂâÂÂâÂÂâÂÂâÂÂâÂÂâÂÂâÂÂâÂÂâÂÂâÂÂâÂÂâÂÂâ âÂÂ[37m [37mâÂÂâÂÂâÂÂ[37m processed [37m96%[37m of [37m48[37m/[37m50[37m [37m11.193[37m/[37m0.466[37m[0m
[3;1f
[2K[37mâÂÂâÂÂâÂÂâÂÂâÂÂâÂÂâÂÂâÂÂâÂÂâÂÂâÂÂâÂÂâÂÂâÂÂâÂÂâÂÂâÂÂâÂÂâÂÂâÂÂâÂÂâÂÂ[37m [37mâÂÂâÂÂâÂÂ[37m processed [37m98%[37m of [37m49[37m/[37m50[37m [37m11.295[37m/[37m0.231[37m[0m
[3;1f
[2K[37mâÂÂâÂÂâÂÂâÂÂâÂÂâÂÂâÂÂâÂÂâÂÂâÂÂâÂÂâÂÂâÂÂâÂÂâÂÂâÂÂâÂÂâÂÂâÂÂâÂÂâÂÂâÂÂ[37m [37mâÂÂâÂÂâÂÂ
[37m processed [37m100%[37m of [37m50[37m/[37m50[37m [37m11.398[37m/[37m0[37m[0m
[?25h[?25l
[?25l
[?25l
[?25l
[5;1f
[2K[37mâÂÂâ âÂÂ[37m [37mâÂÂâÂÂ
âÂÂ[37m processed [37m5%[37m of [37m1[37m/[37m20[37m [37m0.404[37m/[37m7.676[37m[0m
[6;1f
[2K[37mâÂÂâÂÂâ âÂÂ[37m [37mâÂÂâÂÂ
âÂÂ[37m processed [37m10%[37m of [37m1[37m/[37m10[37m [37m0.405[37m/[37m3.645[37m[0m
[7;1f
[2K[37mâ âÂÂ[37m [37mâÂÂâÂÂ
âÂÂ[37m processed [37m2%[37m of [37m1[37m/[37m50[37m [37m0.406[37m/[37m19.894[37m[0m
[8;1f
[2K[37mâÂÂâ âÂÂ[37m [37mâÂÂâÂÂ
âÂÂ[37m processed [37m3%[37m of [37m1[37m/[37m30[37m [37m0.406[37m/[37m13.127[37m[0m
[5;1f
[2K[37mâÂÂâÂÂâ âÂÂ[37m [37mâÂÂâÂÂâÂÂ
[37m processed [37m10%[37m of [37m2[37m/[37m20[37m [37m0.81[37m/[37m7.29[37m[0m
[6;1f
[2K[37mâÂÂâÂÂâÂÂâÂÂâ âÂÂ[37m [37mâÂÂâÂÂâÂÂ
[37m processed [37m20%[37m of [37m2[37m/[37m10[37m [37m0.811[37m/[37m3.244[37m[0m
[7;1f
[2K[37mâÂÂâ âÂÂ[37m [37mâÂÂâÂÂâÂÂ
[37m processed [37m4%[37m of [37m2[37m/[37m50[37m [37m0.812[37m/[37m19.488[37m[0m
[8;1f
[2K[37mâÂÂâ âÂÂ[37m [37mâÂÂâÂÂâÂÂ
[37m processed [37m6%[37m of [37m2[37m/[37m30[37m [37m0.813[37m/[37m12.737[37m[0m
[5;1f
[2K[37mâÂÂâÂÂâÂÂâ âÂÂ[37m [37mâÂÂâÂÂ
âÂÂ[37m processed [37m15%[37m of [37m3[37m/[37m20[37m [37m1.217[37m/[37m6.896[37m[0m
[6;1f
[2K[37mâÂÂâÂÂâÂÂâÂÂâÂÂâÂÂâ âÂÂ[37m [37mâÂÂâÂÂ
âÂÂ[37m processed [37m30%[37m of [37m3[37m/[37m10[37m [37m1.218[37m/[37m2.842[37m[0m
[7;1f
[2K[37mâÂÂâ âÂÂ[37m [37mâÂÂâÂÂ
âÂÂ[37m processed [37m6%[37m of [37m3[37m/[37m50[37m [37m1.219[37m/[37m19.098[37m[0m
[8;1f
[2K[37mâÂÂâÂÂâ âÂÂ[37m [37mâÂÂâÂÂ
âÂÂ[37m processed [37m10%[37m of [37m3[37m/[37m30[37m [37m1.22[37m/[37m10.98[37m[0m
[5;1f
[2K[37mâÂÂâÂÂâÂÂâÂÂâ âÂÂ[37m [37mâÂÂâÂÂâÂÂ
[37m processed [37m20%[37m of [37m4[37m/[37m20[37m [37m1.623[37m/[37m6.492[37m[0m
[6;1f
[2K[37mâÂÂâÂÂâÂÂâÂÂâÂÂâÂÂâÂÂâÂÂâ âÂÂ[37m [37mâÂÂâÂÂâÂÂ
[37m processed [37m40%[37m of [37m4[37m/[37m10[37m [37m1.624[37m/[37m2.436[37m[0m
[7;1f
[2K[37mâÂÂâÂÂâ âÂÂ[37m [37mâÂÂâÂÂâÂÂ
[37m processed [37m8%[37m of [37m4[37m/[37m50[37m [37m1.625[37m/[37m18.688[37m[0m
[8;1f
[2K[37mâÂÂâÂÂâÂÂâ âÂÂ[37m [37mâÂÂâÂÂâÂÂ
[37m processed [37m13%[37m of [37m4[37m/[37m30[37m [37m1.625[37m/[37m10.875[37m[0m
[5;1f
[2K[37mâÂÂâÂÂâÂÂâÂÂâÂÂâ âÂÂ[37m [37mâÂÂâÂÂ
âÂÂ[37m processed [37m25%[37m of [37m5[37m/[37m20[37m [37m2.029[37m/[37m6.087[37m[0m
[6;1f
[2K[37mâÂÂâÂÂâÂÂâÂÂâÂÂâÂÂâÂÂâÂÂâÂÂâÂÂâ âÂÂ[37m [37mâÂÂâÂÂ
âÂÂ[37m processed [37m50%[37m of [37m5[37m/[37m10[37m [37m2.031[37m/[37m2.031[37m[0m
[7;1f
[2K[37mâÂÂâÂÂâ âÂÂ[37m [37mâÂÂâÂÂ
âÂÂ[37m processed [37m10%[37m of [37m5[37m/[37m50[37m [37m2.032[37m/[37m18.288[37m[0m
[8;1f
[2K[37mâÂÂâÂÂâÂÂâ âÂÂ[37m [37mâÂÂâÂÂ
âÂÂ[37m processed [37m16%[37m of [37m5[37m/[37m30[37m [37m2.033[37m/[37m10.673[37m[0m
[5;1f
[2K[37mâÂÂâÂÂâÂÂâÂÂâÂÂâÂÂâ âÂÂ[37m [37mâÂÂâÂÂâÂÂ
[37m processed [37m30%[37m of [37m6[37m/[37m20[37m [37m2.438[37m/[37m5.689[37m[0m
[6;1f
[2K[37mâÂÂâÂÂâÂÂâÂÂâÂÂâÂÂâÂÂâÂÂâÂÂâÂÂâÂÂâÂÂâ âÂÂ[37m [37mâÂÂâÂÂâÂÂ
[37m processed [37m60%[37m of [37m6[37m/[37m10[37m [37m2.44[37m/[37m1.627[37m[0m
[7;1f
[2K[37mâÂÂâÂÂâ âÂÂ[37m [37mâÂÂâÂÂâÂÂ
[37m processed [37m12%[37m of [37m6[37m/[37m50[37m [37m2.44[37m/[37m17.893[37m[0m
[8;1f
[2K[37mâÂÂâÂÂâÂÂâÂÂâ âÂÂ[37m [37mâÂÂâÂÂâÂÂ
[37m processed [37m20%[37m of [37m6[37m/[37m30[37m [37m2.441[37m/[37m9.764[37m[0m
[5;1f
[2K[37mâÂÂâÂÂâÂÂâÂÂâÂÂâÂÂâÂÂâ âÂÂ[37m [37mâÂÂâÂÂ
âÂÂ[37m processed [37m35%[37m of [37m7[37m/[37m20[37m [37m2.845[37m/[37m5.284[37m[0m
[6;1f
[2K[37mâÂÂâÂÂâÂÂâÂÂâÂÂâÂÂâÂÂâÂÂâÂÂâÂÂâÂÂâÂÂâÂÂâÂÂâ âÂÂ[37m [37mâÂÂâÂÂ
âÂÂ[37m processed [37m70%[37m of [37m7[37m/[37m10[37m [37m2.846[37m/[37m1.22[37m[0m
[7;1f
[2K[37mâÂÂâÂÂâÂÂâ âÂÂ[37m [37mâÂÂâÂÂ
âÂÂ[37m processed [37m14%[37m of [37m7[37m/[37m50[37m [37m2.848[37m/[37m17.495[37m[0m
[8;1f
[2K[37mâÂÂâÂÂâÂÂâÂÂâÂÂâ âÂÂ[37m [37mâÂÂâÂÂ
âÂÂ[37m processed [37m23%[37m of [37m7[37m/[37m30[37m [37m2.849[37m/[37m9.538[37m[0m
[5;1f
[2K[37mâÂÂâÂÂâÂÂâÂÂâÂÂâÂÂâÂÂâÂÂâ âÂÂ[37m [37mâÂÂâÂÂâÂÂ
[37m processed [37m40%[37m of [37m8[37m/[37m20[37m [37m3.253[37m/[37m4.88[37m[0m
[6;1f
[2K[37mâÂÂâÂÂâÂÂâÂÂâÂÂâÂÂâÂÂâÂÂâÂÂâÂÂâÂÂâÂÂâÂÂâÂÂâÂÂâÂÂâ âÂÂ[37m [37mâÂÂâÂÂâÂÂ
[37m processed [37m80%[37m of [37m8[37m/[37m10[37m [37m3.254[37m/[37m0.813[37m[0m
[7;1f
[2K[37mâÂÂâÂÂâÂÂâ âÂÂ[37m [37mâÂÂâÂÂâÂÂ
[37m processed [37m16%[37m of [37m8[37m/[37m50[37m [37m3.254[37m/[37m17.083[37m[0m
[8;1f
[2K[37mâÂÂâÂÂâÂÂâÂÂâÂÂâ âÂÂ[37m [37mâÂÂâÂÂâÂÂ
[37m processed [37m26%[37m of [37m8[37m/[37m30[37m [37m3.255[37m/[37m9.264[37m[0m
[5;1f
[2K[37mâÂÂâÂÂâÂÂâÂÂâÂÂâÂÂâÂÂâÂÂâÂÂâ âÂÂ[37m [37mâÂÂâÂÂ
âÂÂ[37m processed [37m45%[37m of [37m9[37m/[37m20[37m [37m3.66[37m/[37m4.473[37m[0m
[6;1f
[2K[37mâÂÂâÂÂâÂÂâÂÂâÂÂâÂÂâÂÂâÂÂâÂÂâÂÂâÂÂâÂÂâÂÂâÂÂâÂÂâÂÂâÂÂâÂÂâ âÂÂ[37m [37mâÂÂâÂÂ
âÂÂ[37m processed [37m90%[37m of [37m9[37m/[37m10[37m [37m3.661[37m/[37m0.407[37m[0m
[7;1f
[2K[37mâÂÂâÂÂâÂÂâÂÂâ âÂÂ[37m [37mâÂÂâÂÂ
âÂÂ[37m processed [37m18%[37m of [37m9[37m/[37m50[37m [37m3.662[37m/[37m16.682[37m[0m
[8;1f
[2K[37mâÂÂâÂÂâÂÂâÂÂâÂÂâÂÂâ âÂÂ[37m [37mâÂÂâÂÂ
âÂÂ[37m processed [37m30%[37m of [37m9[37m/[37m30[37m [37m3.663[37m/[37m8.547[37m[0m
[5;1f
[2K[37mâÂÂâÂÂâÂÂâÂÂâÂÂâÂÂâÂÂâÂÂâÂÂâÂÂâ âÂÂ[37m [37mâÂÂâÂÂâÂÂ
[37m processed [37m50%[37m of [37m10[37m/[37m20[37m [37m4.067[37m/[37m4.067[37m[0m
[6;1f
[2K[37mâÂÂâÂÂâÂÂâÂÂâÂÂâÂÂâÂÂâÂÂâÂÂâÂÂâÂÂâÂÂâÂÂâÂÂâÂÂâÂÂâÂÂâÂÂâÂÂâÂÂâÂÂâÂÂ[37m [37mâÂÂâÂÂâÂÂ
[37m processed [37m100%[37m of [37m10[37m/[37m10[37m [37m4.069[37m/[37m0[37m[0m
[7;1f
[2K[37mâÂÂâÂÂâÂÂâÂÂâ âÂÂ[37m [37mâÂÂâÂÂâÂÂ
[37m processed [37m20%[37m of [37m10[37m/[37m50[37m [37m4.069[37m/[37m16.276[37m[0m
[8;1f
[2K[37mâÂÂâÂÂâÂÂâÂÂâÂÂâÂÂâÂÂâ âÂÂ[37m [37mâÂÂâÂÂâÂÂ
[37m processed [37m33%[37m of [37m10[37m/[37m30[37m [37m4.07[37m/[37m8.263[37m[0m
[5;1f
[2K[37mâÂÂâÂÂâÂÂâÂÂâÂÂâÂÂâÂÂâÂÂâÂÂâÂÂâÂÂâ âÂÂ[37m [37mâÂÂ
âÂÂâÂÂ[37m processed [37m55%[37m of [37m11[37m/[37m20[37m [37m4.273[37m/[37m3.496[37m[0m
[7;1f
[2K[37mâÂÂâÂÂâÂÂâÂÂâ âÂÂ[37m [37mâÂÂ
âÂÂâÂÂ[37m processed [37m20%[37m of [37m10[37m/[37m50[37m [37m4.274[37m/[37m17.096[37m[0m
[8;1f
[2K[37mâÂÂâÂÂâÂÂâÂÂâÂÂâÂÂâÂÂâ âÂÂ[37m [37mâÂÂ
âÂÂâÂÂ[37m processed [37m36%[37m of [37m11[37m/[37m30[37m [37m4.275[37m/[37m7.6[37m[0m
[5;1f
[2K[37mâÂÂâÂÂâÂÂâÂÂâÂÂâÂÂâÂÂâÂÂâÂÂâÂÂâÂÂâÂÂâ âÂÂ[37m [37mâÂÂâÂÂâÂÂ[37m processed [37m60%[37m of [37m12[37m/[37m20[37m [37m4.578[37m/[37m3.052[37m[0m
[7;1f
[2K[37mâÂÂâÂÂâÂÂâÂÂâ âÂÂ[37m [37mâÂÂâÂÂâÂÂ[37m processed [37m22%[37m of [37m11[37m/[37m50[37m [37m4.579[37m/[37m16.235[37m[0m
[8;1f
[2K[37mâÂÂâÂÂâÂÂâÂÂâÂÂâÂÂâÂÂâÂÂâ âÂÂ[37m [37mâÂÂâÂÂâÂÂ[37m processed [37m40%[37m of [37m12[37m/[37m30[37m [37m4.579[37m/[37m6.868[37m[0m
[5;1f
[2K[37mâÂÂâÂÂâÂÂâÂÂâÂÂâÂÂâÂÂâÂÂâÂÂâÂÂâÂÂâÂÂâÂÂâ âÂÂ[37m [37mâÂÂâÂÂâÂÂ
[37m processed [37m65%[37m of [37m13[37m/[37m20[37m [37m4.882[37m/[37m2.629[37m[0m
[7;1f
[2K[37mâÂÂâÂÂâÂÂâÂÂâÂÂâ âÂÂ[37m [37mâÂÂâÂÂâÂÂ
[37m processed [37m24%[37m of [37m12[37m/[37m50[37m [37m4.883[37m/[37m15.463[37m[0m
[8;1f
[2K[37mâÂÂâÂÂâÂÂâÂÂâÂÂâÂÂâÂÂâÂÂâÂÂâ âÂÂ[37m [37mâÂÂâÂÂâÂÂ
[37m processed [37m43%[37m of [37m13[37m/[37m30[37m [37m4.884[37m/[37m6.474[37m[0m
[5;1f
[2K[37mâÂÂâÂÂâÂÂâÂÂâÂÂâÂÂâÂÂâÂÂâÂÂâÂÂâÂÂâÂÂâÂÂâÂÂâ âÂÂ[37m [37mâÂÂâÂÂâÂÂ[37m processed [37m70%[37m of [37m14[37m/[37m20[37m [37m5.187[37m/[37m2.223[37m[0m
[7;1f
[2K[37mâÂÂâÂÂâÂÂâÂÂâÂÂâ âÂÂ[37m [37mâÂÂâÂÂâÂÂ[37m processed [37m26%[37m of [37m13[37m/[37m50[37m [37m5.188[37m/[37m14.766[37m[0m
[8;1f
[2K[37mâÂÂâÂÂâÂÂâÂÂâÂÂâÂÂâÂÂâÂÂâÂÂâ âÂÂ[37m [37mâÂÂâÂÂâÂÂ[37m processed [37m46%[37m of [37m14[37m/[37m30[37m [37m5.188[37m/[37m6.09[37m[0m
[5;1f
[2K[37mâÂÂâÂÂâÂÂâÂÂâÂÂâÂÂâÂÂâÂÂâÂÂâÂÂâÂÂâÂÂâÂÂâÂÂâÂÂâ âÂÂ[37m [37mâÂÂâÂÂâÂÂ[37m processed [37m75%[37m of [37m15[37m/[37m20[37m [37m5.491[37m/[37m1.83[37m[0m
[7;1f
[2K[37mâÂÂâÂÂâÂÂâÂÂâÂÂâÂÂâ âÂÂ[37m [37mâÂÂâÂÂâÂÂ[37m processed [37m28%[37m of [37m14[37m/[37m50[37m [37m5.492[37m/[37m14.122[37m[0m
[8;1f
[2K[37mâÂÂâÂÂâÂÂâÂÂâÂÂâÂÂâÂÂâÂÂâÂÂâÂÂâ âÂÂ[37m [37mâÂÂâÂÂâÂÂ[37m processed [37m50%[37m of [37m15[37m/[37m30[37m [37m5.493[37m/[37m5.493[37m[0m
[5;1f
[2K[37mâÂÂâÂÂâÂÂâÂÂâÂÂâÂÂâÂÂâÂÂâÂÂâÂÂâÂÂâÂÂâÂÂâÂÂâÂÂâÂÂâ âÂÂ[37m [37mâÂÂâÂÂâÂÂ[37m processed [37m80%[37m of [37m16[37m/[37m20[37m [37m5.796[37m/[37m1.449[37m[0m
[7;1f
[2K[37mâÂÂâÂÂâÂÂâÂÂâÂÂâÂÂâ âÂÂ[37m [37mâÂÂâÂÂâÂÂ[37m processed [37m30%[37m of [37m15[37m/[37m50[37m [37m5.8[37m/[37m13.533[37m[0m
[8;1f
[2K[37mâÂÂâÂÂâÂÂâÂÂâÂÂâÂÂâÂÂâÂÂâÂÂâÂÂâÂÂâ âÂÂ[37m [37mâÂÂâÂÂâÂÂ[37m processed [37m53%[37m of [37m16[37m/[37m30[37m [37m5.801[37m/[37m5.144[37m[0m
[5;1f
[2K[37mâÂÂâÂÂâÂÂâÂÂâÂÂâÂÂâÂÂâÂÂâÂÂâÂÂâÂÂâÂÂâÂÂâÂÂâÂÂâÂÂâÂÂâ âÂÂ[37m [37mâÂÂâÂÂ
âÂÂ[37m processed [37m85%[37m of [37m17[37m/[37m20[37m [37m6.105[37m/[37m1.077[37m[0m
[7;1f
[2K[37mâÂÂâÂÂâÂÂâÂÂâÂÂâÂÂâ âÂÂ[37m [37mâÂÂâÂÂ
âÂÂ[37m processed [37m32%[37m of [37m16[37m/[37m50[37m [37m6.105[37m/[37m12.973[37m[0m
[8;1f
[2K[37mâÂÂâÂÂâÂÂâÂÂâÂÂâÂÂâÂÂâÂÂâÂÂâÂÂâÂÂâ âÂÂ[37m [37mâÂÂâÂÂ
âÂÂ[37m processed [37m56%[37m of [37m17[37m/[37m30[37m [37m6.106[37m/[37m4.798[37m[0m
[5;1f
[2K[37mâÂÂâÂÂâÂÂâÂÂâÂÂâÂÂâÂÂâÂÂâÂÂâÂÂâÂÂâÂÂâÂÂâÂÂâÂÂâÂÂâÂÂâÂÂâ âÂÂ[37m [37mâÂÂâÂÂâÂÂ[37m processed [37m90%[37m of [37m18[37m/[37m20[37m [37m6.409[37m/[37m0.712[37m[0m
[7;1f
[2K[37mâÂÂâÂÂâÂÂâÂÂâÂÂâÂÂâÂÂâ âÂÂ[37m [37mâÂÂâÂÂâÂÂ[37m processed [37m34%[37m of [37m17[37m/[37m50[37m [37m6.41[37m/[37m12.443[37m[0m
[8;1f
[2K[37mâÂÂâÂÂâÂÂâÂÂâÂÂâÂÂâÂÂâÂÂâÂÂâÂÂâÂÂâÂÂâ âÂÂ[37m [37mâÂÂâÂÂâÂÂ[37m processed [37m60%[37m of [37m18[37m/[37m30[37m [37m6.411[37m/[37m4.274[37m[0m
[5;1f
[2K[37mâÂÂâÂÂâÂÂâÂÂâÂÂâÂÂâÂÂâÂÂâÂÂâÂÂâÂÂâÂÂâÂÂâÂÂâÂÂâÂÂâÂÂâÂÂâÂÂâ âÂÂ[37m [37mâÂÂ
âÂÂâÂÂ[37m processed [37m95%[37m of [37m19[37m/[37m20[37m [37m6.714[37m/[37m0.353[37m[0m
[7;1f
[2K[37mâÂÂâÂÂâÂÂâÂÂâÂÂâÂÂâÂÂâ âÂÂ[37m [37mâÂÂ
âÂÂâÂÂ[37m processed [37m36%[37m of [37m18[37m/[37m50[37m [37m6.716[37m/[37m11.94[37m[0m
[8;1f
[2K[37mâÂÂâÂÂâÂÂâÂÂâÂÂâÂÂâÂÂâÂÂâÂÂâÂÂâÂÂâÂÂâÂÂâ âÂÂ[37m [37mâÂÂ
âÂÂâÂÂ[37m processed [37m63%[37m of [37m19[37m/[37m30[37m [37m6.716[37m/[37m3.944[37m[0m
[5;1f
[2K[37mâÂÂâÂÂâÂÂâÂÂâÂÂâÂÂâÂÂâÂÂâÂÂâÂÂâÂÂâÂÂâÂÂâÂÂâÂÂâÂÂâÂÂâÂÂâÂÂâÂÂâÂÂâÂÂ[37m [37mâÂÂâÂÂâÂÂ[37m processed [37m100%[37m of [37m20[37m/[37m20[37m [37m7.02[37m/[37m0[37m[0m
[7;1f
[2K[37mâÂÂâÂÂâÂÂâÂÂâÂÂâÂÂâÂÂâÂÂâ âÂÂ[37m [37mâÂÂâÂÂâÂÂ[37m processed [37m38%[37m of [37m19[37m/[37m50[37m [37m7.021[37m/[37m11.455[37m[0m
[8;1f
[2K[37mâÂÂâÂÂâÂÂâÂÂâÂÂâÂÂâÂÂâÂÂâÂÂâÂÂâÂÂâÂÂâÂÂâ âÂÂ[37m [37mâÂÂâÂÂâÂÂ[37m processed [37m66%[37m of [37m20[37m/[37m30[37m [37m7.022[37m/[37m3.617[37m[0m
[7;1f
[2K[37mâÂÂâÂÂâÂÂâÂÂâÂÂâÂÂâÂÂâÂÂâ âÂÂ[37m [37mâÂÂâÂÂâÂÂ[37m processed [37m38%[37m of [37m19[37m/[37m50[37m [37m7.123[37m/[37m11.622[37m[0m
[8;1f
[2K[37mâÂÂâÂÂâÂÂâÂÂâÂÂâÂÂâÂÂâÂÂâÂÂâÂÂâÂÂâÂÂâÂÂâÂÂâ âÂÂ[37m [37mâÂÂâÂÂâÂÂ[37m processed [37m70%[37m of [37m21[37m/[37m30[37m [37m7.124[37m/[37m3.053[37m[0m
[7;1f
[2K[37mâÂÂâÂÂâÂÂâÂÂâÂÂâÂÂâÂÂâÂÂâ âÂÂ[37m [37mâÂÂâÂÂâÂÂ
[37m processed [37m40%[37m of [37m20[37m/[37m50[37m [37m7.327[37m/[37m10.991[37m[0m
[8;1f
[2K[37mâÂÂâÂÂâÂÂâÂÂâÂÂâÂÂâÂÂâÂÂâÂÂâÂÂâÂÂâÂÂâÂÂâÂÂâÂÂâ âÂÂ[37m [37mâÂÂâÂÂâÂÂ
[37m processed [37m73%[37m of [37m22[37m/[37m30[37m [37m7.327[37m/[37m2.71[37m[0m
[7;1f
[2K[37mâÂÂâÂÂâÂÂâÂÂâÂÂâÂÂâÂÂâÂÂâ âÂÂ[37m [37mâÂÂ
âÂÂâÂÂ[37m processed [37m42%[37m of [37m21[37m/[37m50[37m [37m7.529[37m/[37m10.397[37m[0m
[8;1f
[2K[37mâÂÂâÂÂâÂÂâÂÂâÂÂâÂÂâÂÂâÂÂâÂÂâÂÂâÂÂâÂÂâÂÂâÂÂâÂÂâ âÂÂ[37m [37mâÂÂ
âÂÂâÂÂ[37m processed [37m76%[37m of [37m23[37m/[37m30[37m [37m7.53[37m/[37m2.378[37m[0m
[7;1f
[2K[37mâÂÂâÂÂâÂÂâÂÂâÂÂâÂÂâÂÂâÂÂâÂÂâ âÂÂ[37m [37mâÂÂâÂÂ
âÂÂ[37m processed [37m44%[37m of [37m22[37m/[37m50[37m [37m7.733[37m/[37m9.842[37m[0m
[8;1f
[2K[37mâÂÂâÂÂâÂÂâÂÂâÂÂâÂÂâÂÂâÂÂâÂÂâÂÂâÂÂâÂÂâÂÂâÂÂâÂÂâÂÂâ âÂÂ[37m [37mâÂÂâÂÂ
âÂÂ[37m processed [37m80%[37m of [37m24[37m/[37m30[37m [37m7.734[37m/[37m1.934[37m[0m
[7;1f
[2K[37mâÂÂâÂÂâÂÂâÂÂâÂÂâÂÂâÂÂâÂÂâÂÂâ âÂÂ[37m [37mâÂÂâÂÂâÂÂ[37m processed [37m46%[37m of [37m23[37m/[37m50[37m [37m7.936[37m/[37m9.316[37m[0m
[8;1f
[2K[37mâÂÂâÂÂâÂÂâÂÂâÂÂâÂÂâÂÂâÂÂâÂÂâÂÂâÂÂâÂÂâÂÂâÂÂâÂÂâÂÂâÂÂâ âÂÂ[37m [37mâÂÂâÂÂâÂÂ[37m processed [37m83%[37m of [37m25[37m/[37m30[37m [37m7.937[37m/[37m1.626[37m[0m
[7;1f
[2K[37mâÂÂâÂÂâÂÂâÂÂâÂÂâÂÂâÂÂâÂÂâÂÂâÂÂâ âÂÂ[37m [37mâÂÂâÂÂâÂÂ
[37m processed [37m48%[37m of [37m24[37m/[37m50[37m [37m8.14[37m/[37m8.818[37m[0m
[8;1f
[2K[37mâÂÂâÂÂâÂÂâÂÂâÂÂâÂÂâÂÂâÂÂâÂÂâÂÂâÂÂâÂÂâÂÂâÂÂâÂÂâÂÂâÂÂâ âÂÂ[37m [37mâÂÂâÂÂâÂÂ
[37m processed [37m86%[37m of [37m26[37m/[37m30[37m [37m8.141[37m/[37m1.325[37m[0m
[7;1f
[2K[37mâÂÂâÂÂâÂÂâÂÂâÂÂâÂÂâÂÂâÂÂâÂÂâÂÂâ âÂÂ[37m [37mâÂÂ
âÂÂâÂÂ[37m processed [37m50%[37m of [37m25[37m/[37m50[37m [37m8.344[37m/[37m8.344[37m[0m
[8;1f
[2K[37mâÂÂâÂÂâÂÂâÂÂâÂÂâÂÂâÂÂâÂÂâÂÂâÂÂâÂÂâÂÂâÂÂâÂÂâÂÂâÂÂâÂÂâÂÂâ âÂÂ[37m [37mâÂÂ
âÂÂâÂÂ[37m processed [37m90%[37m of [37m27[37m/[37m30[37m [37m8.345[37m/[37m0.927[37m[0m
[7;1f
[2K[37mâÂÂâÂÂâÂÂâÂÂâÂÂâÂÂâÂÂâÂÂâÂÂâÂÂâ âÂÂ[37m [37mâÂÂâÂÂ
âÂÂ[37m processed [37m52%[37m of [37m26[37m/[37m50[37m [37m8.547[37m/[37m7.89[37m[0m
[8;1f
[2K[37mâÂÂâÂÂâÂÂâÂÂâÂÂâÂÂâÂÂâÂÂâÂÂâÂÂâÂÂâÂÂâÂÂâÂÂâÂÂâÂÂâÂÂâÂÂâÂÂâ âÂÂ[37m [37mâÂÂâÂÂ
âÂÂ[37m processed [37m93%[37m of [37m28[37m/[37m30[37m [37m8.548[37m/[37m0.643[37m[0m
[7;1f
[2K[37mâÂÂâÂÂâÂÂâÂÂâÂÂâÂÂâÂÂâÂÂâÂÂâÂÂâÂÂâ âÂÂ[37m [37mâÂÂâÂÂâÂÂ[37m processed [37m54%[37m of [37m27[37m/[37m50[37m [37m8.752[37m/[37m7.455[37m[0m
[8;1f
[2K[37mâÂÂâÂÂâÂÂâÂÂâÂÂâÂÂâÂÂâÂÂâÂÂâÂÂâÂÂâÂÂâÂÂâÂÂâÂÂâÂÂâÂÂâÂÂâÂÂâ âÂÂ[37m [37mâÂÂâÂÂâÂÂ[37m processed [37m96%[37m of [37m29[37m/[37m30[37m [37m8.753[37m/[37m0.365[37m[0m
[7;1f
[2K[37mâÂÂâÂÂâÂÂâÂÂâÂÂâÂÂâÂÂâÂÂâÂÂâÂÂâÂÂâ âÂÂ[37m [37mâÂÂâÂÂâÂÂ
[37m processed [37m56%[37m of [37m28[37m/[37m50[37m [37m8.956[37m/[37m7.037[37m[0m
[8;1f
[2K[37mâÂÂâÂÂâÂÂâÂÂâÂÂâÂÂâÂÂâÂÂâÂÂâÂÂâÂÂâÂÂâÂÂâÂÂâÂÂâÂÂâÂÂâÂÂâÂÂâÂÂâÂÂâÂÂ[37m [37mâÂÂâÂÂâÂÂ
[37m processed [37m100%[37m of [37m30[37m/[37m30[37m [37m8.956[37m/[37m0[37m[0m
[7;1f
[2K[37mâÂÂâÂÂâÂÂâÂÂâÂÂâÂÂâÂÂâÂÂâÂÂâÂÂâÂÂâ âÂÂ[37m [37mâÂÂâÂÂâÂÂ[37m processed [37m57%[37m of [37m29[37m/[37m50[37m [37m9.058[37m/[37m6.833[37m[0m
[7;1f
[2K[37mâÂÂâÂÂâÂÂâÂÂâÂÂâÂÂâÂÂâÂÂâÂÂâÂÂâÂÂâÂÂâ âÂÂ[37m [37mâÂÂ
âÂÂâÂÂ[37m processed [37m60%[37m of [37m30[37m/[37m50[37m [37m9.161[37m/[37m6.107[37m[0m
[7;1f
[2K[37mâÂÂâÂÂâÂÂâÂÂâÂÂâÂÂâÂÂâÂÂâÂÂâÂÂâÂÂâÂÂâ âÂÂ[37m [37mâÂÂâÂÂâÂÂ[37m processed [37m62%[37m of [37m31[37m/[37m50[37m [37m9.263[37m/[37m5.677[37m[0m
[7;1f
[2K[37mâÂÂâÂÂâÂÂâÂÂâÂÂâÂÂâÂÂâÂÂâÂÂâÂÂâÂÂâÂÂâÂÂâ âÂÂ[37m [37mâÂÂâÂÂ
âÂÂ[37m processed [37m64%[37m of [37m32[37m/[37m50[37m [37m9.364[37m/[37m5.267[37m[0m
[7;1f
[2K[37mâÂÂâÂÂâÂÂâÂÂâÂÂâÂÂâÂÂâÂÂâÂÂâÂÂâÂÂâÂÂâÂÂâ âÂÂ[37m [37mâÂÂâÂÂâÂÂ[37m processed [37m66%[37m of [37m33[37m/[37m50[37m [37m9.466[37m/[37m4.876[37m[0m
[7;1f
[2K[37mâÂÂâÂÂâÂÂâÂÂâÂÂâÂÂâÂÂâÂÂâÂÂâÂÂâÂÂâÂÂâÂÂâÂÂâ âÂÂ[37m [37mâÂÂâÂÂâÂÂ[37m processed [37m68%[37m of [37m34[37m/[37m50[37m [37m9.568[37m/[37m4.503[37m[0m
[7;1f
[2K[37mâÂÂâÂÂâÂÂâÂÂâÂÂâÂÂâÂÂâÂÂâÂÂâÂÂâÂÂâÂÂâÂÂâÂÂâ âÂÂ[37m [37mâÂÂâÂÂâÂÂ[37m processed [37m70%[37m of [37m35[37m/[37m50[37m [37m9.671[37m/[37m4.145[37m[0m
[7;1f
[2K[37mâÂÂâÂÂâÂÂâÂÂâÂÂâÂÂâÂÂâÂÂâÂÂâÂÂâÂÂâÂÂâÂÂâÂÂâ âÂÂ[37m [37mâÂÂâÂÂâÂÂ
[37m processed [37m72%[37m of [37m36[37m/[37m50[37m [37m9.772[37m/[37m3.8[37m[0m
[7;1f
[2K[37mâÂÂâÂÂâÂÂâÂÂâÂÂâÂÂâÂÂâÂÂâÂÂâÂÂâÂÂâÂÂâÂÂâÂÂâÂÂâ âÂÂ[37m [37mâÂÂâÂÂâÂÂ[37m processed [37m74%[37m of [37m37[37m/[37m50[37m [37m9.874[37m/[37m3.469[37m[0m
[7;1f
[2K[37mâÂÂâÂÂâÂÂâÂÂâÂÂâÂÂâÂÂâÂÂâÂÂâÂÂâÂÂâÂÂâÂÂâÂÂâÂÂâ âÂÂ[37m [37mâÂÂ
âÂÂâÂÂ[37m processed [37m76%[37m of [37m38[37m/[37m50[37m [37m9.976[37m/[37m3.15[37m[0m
[7;1f
[2K[37mâÂÂâÂÂâÂÂâÂÂâÂÂâÂÂâÂÂâÂÂâÂÂâÂÂâÂÂâÂÂâÂÂâÂÂâÂÂâÂÂâ âÂÂ[37m [37mâÂÂâÂÂâÂÂ[37m processed [37m78%[37m of [37m39[37m/[37m50[37m [37m10.079[37m/[37m2.843[37m[0m
[7;1f
[2K[37mâÂÂâÂÂâÂÂâÂÂâÂÂâÂÂâÂÂâÂÂâÂÂâÂÂâÂÂâÂÂâÂÂâÂÂâÂÂâÂÂâ âÂÂ[37m [37mâÂÂâÂÂ
âÂÂ[37m processed [37m80%[37m of [37m40[37m/[37m50[37m [37m10.18[37m/[37m2.545[37m[0m
[7;1f
[2K[37mâÂÂâÂÂâÂÂâÂÂâÂÂâÂÂâÂÂâÂÂâÂÂâÂÂâÂÂâÂÂâÂÂâÂÂâÂÂâÂÂâ âÂÂ[37m [37mâÂÂâÂÂâÂÂ[37m processed [37m82%[37m of [37m41[37m/[37m50[37m [37m10.282[37m/[37m2.257[37m[0m
[7;1f
[2K[37mâÂÂâÂÂâÂÂâÂÂâÂÂâÂÂâÂÂâÂÂâÂÂâÂÂâÂÂâÂÂâÂÂâÂÂâÂÂâÂÂâÂÂâ âÂÂ[37m [37mâÂÂâÂÂâÂÂ[37m processed [37m84%[37m of [37m42[37m/[37m50[37m [37m10.384[37m/[37m1.978[37m[0m
[7;1f
[2K[37mâÂÂâÂÂâÂÂâÂÂâÂÂâÂÂâÂÂâÂÂâÂÂâÂÂâÂÂâÂÂâÂÂâÂÂâÂÂâÂÂâÂÂâ âÂÂ[37m [37mâÂÂâÂÂâÂÂ[37m processed [37m86%[37m of [37m43[37m/[37m50[37m [37m10.486[37m/[37m1.707[37m[0m
[7;1f
[2K[37mâÂÂâÂÂâÂÂâÂÂâÂÂâÂÂâÂÂâÂÂâÂÂâÂÂâÂÂâÂÂâÂÂâÂÂâÂÂâÂÂâÂÂâÂÂâ âÂÂ[37m [37mâÂÂâÂÂâÂÂ
[37m processed [37m88%[37m of [37m44[37m/[37m50[37m [37m10.589[37m/[37m1.444[37m[0m
[7;1f
[2K[37mâÂÂâÂÂâÂÂâÂÂâÂÂâÂÂâÂÂâÂÂâÂÂâÂÂâÂÂâÂÂâÂÂâÂÂâÂÂâÂÂâÂÂâÂÂâ âÂÂ[37m [37mâÂÂâÂÂâÂÂ[37m processed [37m90%[37m of [37m45[37m/[37m50[37m [37m10.691[37m/[37m1.188[37m[0m
[7;1f
[2K[37mâÂÂâÂÂâÂÂâÂÂâÂÂâÂÂâÂÂâÂÂâÂÂâÂÂâÂÂâÂÂâÂÂâÂÂâÂÂâÂÂâÂÂâÂÂâ âÂÂ[37m [37mâÂÂ
âÂÂâÂÂ[37m processed [37m92%[37m of [37m46[37m/[37m50[37m [37m10.793[37m/[37m0.939[37m[0m
[7;1f
[2K[37mâÂÂâÂÂâÂÂâÂÂâÂÂâÂÂâÂÂâÂÂâÂÂâÂÂâÂÂâÂÂâÂÂâÂÂâÂÂâÂÂâÂÂâÂÂâÂÂâ âÂÂ[37m [37mâÂÂâÂÂâÂÂ[37m processed [37m94%[37m of [37m47[37m/[37m50[37m [37m10.895[37m/[37m0.695[37m[0m
[7;1f
[2K[37mâÂÂâÂÂâÂÂâÂÂâÂÂâÂÂâÂÂâÂÂâÂÂâÂÂâÂÂâÂÂâÂÂâÂÂâÂÂâÂÂâÂÂâÂÂâÂÂâ âÂÂ[37m [37mâÂÂâÂÂ
âÂÂ[37m processed [37m96%[37m of [37m48[37m/[37m50[37m [37m10.997[37m/[37m0.458[37m[0m
[7;1f
[2K[37mâÂÂâÂÂâÂÂâÂÂâÂÂâÂÂâÂÂâÂÂâÂÂâÂÂâÂÂâÂÂâÂÂâÂÂâÂÂâÂÂâÂÂâÂÂâÂÂâÂÂâÂÂâÂÂ[37m [37mâÂÂâÂÂâÂÂ[37m processed [37m98%[37m of [37m49[37m/[37m50[37m [37m11.099[37m/[37m0.227[37m[0m
[7;1f
[2K[37mâÂÂâÂÂâÂÂâÂÂâÂÂâÂÂâÂÂâÂÂâÂÂâÂÂâÂÂâÂÂâÂÂâÂÂâÂÂâÂÂâÂÂâÂÂâÂÂâÂÂâÂÂâÂÂ[37m [37mâÂÂâÂÂâÂÂ[37m processed [37m100%[37m of [37m50[37m/[37m50[37m [37m11.2[37m/[37m0[37m[0m
[?25ht/02-multiple.t ... ok
t/manifest.t ...... skipped: Author tests not required for installation
t/pod-coverage.t .. skipped: Author tests not required for installation
t/pod.t ........... skipped: Author tests not required for installation
All tests successful.
Files=6, Tests=3, 55 wallclock secs ( 0.15 usr 0.07 sys + 1.10 cusr 0.14 csys = 1.46 CPU)
Result: PASS
------------------------------
PREREQUISITES
------------------------------
Prerequisite modules loaded:
requires:
Module Need Have
------------------- ----- --------
IO::Handle 0 1.52
perl 5.006 5.038002
Term::ANSIColor 5.01 5.01
Term::Size::Any 0.002 0.002
Time::HiRes 0 1.9775
build_requires:
Module Need Have
------------------- ----- --------
ExtUtils::MakeMaker 0 7.71_02
Test::More 0 1.302207
configure_requires:
Module Need Have
------------------- ----- --------
ExtUtils::MakeMaker 0 7.71_02
------------------------------
ENVIRONMENT AND OTHER CONTEXT
------------------------------
Environment variables:
AUTOMATED_TESTING = 1
LANG = en_US.UTF-8
LANGUAGE = en_US:en
PATH = /home/sand/bin:/usr/local/bin:/usr/bin:/bin:/usr/games:/usr/local/perl/bin:/usr/X11/bin:/sbin:/usr/sbin
PERL5LIB =
PERL5OPT =
PERL5_CPANPLUS_IS_RUNNING = 515722
PERL5_CPAN_IS_RUNNING = 515722
PERL_CANARY_STABILITY_NOPROMPT = 1
PERL_MM_USE_DEFAULT = 1
PERL_USE_UNSAFE_INC = 1
SHELL = /usr/bin/zsh
TERM = screen
Perl special variables (and OS-specific diagnostics, for MSWin32):
$^X = /home/sand/src/perl/repoperls/installed-perls/host/k93msid/v5.38.2/ec94/bin/perl
$UID/$EUID = 1005 / 1005
$GID = 1005 1005
$EGID = 1005 1005
Perl module toolchain versions installed:
Module Have
------------------- --------
CPAN 2.36
CPAN::Meta 2.150010
Cwd 3.89
ExtUtils::CBuilder 0.280238
ExtUtils::Command 7.71_02
ExtUtils::Install 2.22
ExtUtils::MakeMaker 7.71_02
ExtUtils::Manifest 1.73
ExtUtils::ParseXS 3.51
File::Spec 3.88
JSON 4.10
JSON::PP 4.16
Module::Build 0.4234
Module::Signature 0.88
Parse::CPAN::Meta 2.150010
Test2 1.302207
Test::Harness 3.48
Test::More 1.302207
YAML 1.31
YAML::Syck 1.34
version 0.9930
--
Summary of my perl5 (revision 5 version 38 subversion 2) configuration:
Commit id: 55dd2f792ffc8cefe614350a411f785374281b24
Platform:
osname=linux
osvers=6.5.0-4-amd64
archname=x86_64-linux-quadmath
uname='linux k93msid 6.5.0-4-amd64 #1 smp preempt_dynamic debian 6.5.10-1 (2023-11-03) x86_64 gnulinux '
config_args='-Dprefix=/home/sand/src/perl/repoperls/installed-perls/host/k93msid/v5.38.2/ec94 -Dmyhostname=k93msid -Dinstallusrbinperl=n -Uversiononly -Dusedevel -des -Ui_db -Dlibswanted=cl pthread socket inet nsl gdbm dbm malloc dl ld sun m crypt sec util c cposix posix ucb BSD gdbm_compat -Uuseithreads -Uuselongdouble -DEBUGGING=both -Dusequadmath'
hint=recommended
useposix=true
d_sigaction=define
useithreads=undef
usemultiplicity=undef
use64bitint=define
use64bitall=define
uselongdouble=undef
usemymalloc=n
default_inc_excludes_dot=define
Compiler:
cc='cc'
ccflags ='-fwrapv -DDEBUGGING -fno-strict-aliasing -pipe -fstack-protector-strong -I/usr/local/include -D_LARGEFILE_SOURCE -D_FILE_OFFSET_BITS=64 -D_FORTIFY_SOURCE=2'
optimize='-O2 -g'
cppflags='-fwrapv -DDEBUGGING -fno-strict-aliasing -pipe -fstack-protector-strong -I/usr/local/include'
ccversion=''
gccversion='13.2.0'
gccosandvers=''
intsize=4
longsize=8
ptrsize=8
doublesize=8
byteorder=12345678
doublekind=3
d_longlong=define
longlongsize=8
d_longdbl=define
longdblsize=16
longdblkind=3
ivtype='long'
ivsize=8
nvtype='__float128'
nvsize=16
Off_t='off_t'
lseeksize=8
alignbytes=16
prototype=define
Linker and Libraries:
ld='cc'
ldflags =' -fstack-protector-strong -L/usr/local/lib'
libpth=/usr/local/lib /usr/lib/x86_64-linux-gnu /usr/lib /usr/lib64
libs=-lpthread -lnsl -ldl -lm -lcrypt -lutil -lc -lquadmath
perllibs=-lpthread -lnsl -ldl -lm -lcrypt -lutil -lc -lquadmath
libc=/lib/x86_64-linux-gnu/libc.so.6
so=so
useshrplib=false
libperl=libperl.a
gnulibc_version='2.37'
Dynamic Linking:
dlsrc=dl_dlopen.xs
dlext=so
d_dlsymun=undef
ccdlflags='-Wl,-E'
cccdlflags='-fPIC'
lddlflags='-shared -O2 -g -L/usr/local/lib -fstack-protector-strong'
Characteristics of this binary (from libperl):
Compile-time options:
DEBUGGING
HAS_LONG_DOUBLE
HAS_STRTOLD
HAS_TIMES
PERLIO_LAYERS
PERL_COPY_ON_WRITE
PERL_DONT_CREATE_GVSV
PERL_HASH_FUNC_SIPHASH13
PERL_HASH_USE_SBOX32
PERL_MALLOC_WRAP
PERL_OP_PARENT
PERL_PRESERVE_IVUV
PERL_USE_DEVEL
PERL_USE_SAFE_PUTENV
USE_64_BIT_ALL
USE_64_BIT_INT
USE_LARGE_FILES
USE_LOCALE
USE_LOCALE_COLLATE
USE_LOCALE_CTYPE
USE_LOCALE_NUMERIC
USE_LOCALE_TIME
USE_PERLIO
USE_PERL_ATOF
USE_QUADMATH
Built under linux
Compiled at Nov 30 2023 02:23:00
%ENV:
PERL5LIB=""
PERL5OPT=""
PERL5_CPANPLUS_IS_RUNNING="515722"
PERL5_CPAN_IS_RUNNING="515722"
PERL_CANARY_STABILITY_NOPROMPT="1"
PERL_MM_USE_DEFAULT="1"
PERL_USE_UNSAFE_INC="1"
@INC:
/home/sand/src/perl/repoperls/installed-perls/host/k93msid/v5.38.2/ec94/lib/site_perl/5.38.2/x86_64-linux-quadmath
/home/sand/src/perl/repoperls/installed-perls/host/k93msid/v5.38.2/ec94/lib/site_perl/5.38.2
/home/sand/src/perl/repoperls/installed-perls/host/k93msid/v5.38.2/ec94/lib/5.38.2/x86_64-linux-quadmath
/home/sand/src/perl/repoperls/installed-perls/host/k93msid/v5.38.2/ec94/lib/5.38.2
.