Report for DBIx-Class-Graph-1.05

Back
From: metabase:user:314402c4-2aae-11df-837a-5e0a49663a4f
Subject: PASS DBIx-Class-Graph-1.05 v5.22.3 RC4 GNU/Linux
Date: 2016-10-30T23:03:50Z

This distribution has been tested as part of the CPAN Testers
project, supporting the Perl programming language.  See
http://wiki.cpantesters.org/ for more information or email
questions to cpan-testers-discuss@perl.org


--
Dear Moritz Onken,

This is a computer-generated report for DBIx-Class-Graph-1.05
on perl 5.22.3, created by CPAN-Reporter-1.2018.

Thank you for uploading your work to CPAN.  Congratulations!
All tests were successful.

Sections of this report:

    * Tester comments
    * Program output
    * Prerequisites
    * Environment and other context

------------------------------
TESTER COMMENTS
------------------------------

Additional comments from tester:

none provided

------------------------------
PROGRAM OUTPUT
------------------------------

Output from './Build test':

t/00-compile.t ................ ok
# 
# 
# perl: v5.22.3 (wanted any version) on linux from /bbbike/perl-5.22.3-RC4/bin/perl
# 
# Class::C3                                     => 0.32       (want any version)
# DBIx::Class                                   => 0.082840   (want any version)
# DBIx::Class::ResultSet                        => <undef>    (want any version)
# DBIx::Class::Schema                           => <undef>    (want any version)
# File::Find                                    => 1.29       (want any version)
# File::Temp                                    => 0.2304     (want any version)
# Graph                                         => 0.9704     (want 0.94)   
# List::MoreUtils                               => 0.416      (want any version)
# Module::Build                                 => 0.422      (want 0.3601) 
# Moose                                         => 2.1806     (want any version)
# Moose::Role                                   => 2.1806     (want any version)
# Scalar::Util                                  => 1.46       (want any version)
# Test::Memory::Cycle                           => 1.06       (want any version)
# Test::More                                    => 1.302062   (want 0.88)   
# base                                          => 2.23       (want any version)
# strict                                        => 1.09       (want any version)
# warnings                                      => 1.34       (want any version)
# 
# Thanks for using my code.  I hope it works for you.
# If not, please try and include this output in the bug report.
# That will help me reproduce the issue and solve you problem.
# 
t/000-report-versions-tiny.t .. ok
t/complex.t ................... ok
t/leak.t ...................... ok
t/release-has-version.t ....... skipped: these tests are for release candidate testing
t/release-kwalitee.t .......... skipped: these tests are for release candidate testing
t/release-minimum-version.t ... skipped: these tests are for release candidate testing
t/release-pod-coverage.t ...... skipped: these tests are for release candidate testing
t/release-pod-syntax.t ........ skipped: these tests are for release candidate testing
t/result.t .................... ok
t/resultset.t ................. ok
t/simple01.t .................. ok
t/simple02.t .................. ok
t/simplesucc.t ................ ok
t/wrapper.t ................... ok
All tests successful.
Files=15, Tests=69,  7 wallclock secs ( 0.03 usr  0.09 sys +  4.94 cusr  0.62 csys =  5.68 CPU)
Result: PASS

------------------------------
PREREQUISITES
------------------------------

Prerequisite modules loaded:

requires:

    Module                 Need   Have    
    ---------------------- ------ --------
    base                   0      2.23    
    Class::C3              0      0.32    
    DBIx::Class            0      0.082840
    DBIx::Class::ResultSet 0      0       
    Graph                  0.94   0.9704  
    List::MoreUtils        0      0.416   
    Moose                  0      2.1806  
    Moose::Role            0      2.1806  
    Scalar::Util           0      1.46    
    strict                 0      1.09    
    warnings               0      1.34    

build_requires:

    Module                 Need   Have    
    ---------------------- ------ --------
    DBIx::Class::Schema    0      0       
    File::Find             0      1.29    
    File::Temp             0      0.2304  
    Module::Build          0.3601 0.4220  
    Test::Memory::Cycle    0      1.06    
    Test::More             0.88   1.302062

configure_requires:

    Module                 Need   Have    
    ---------------------- ------ --------
    Module::Build          0.3601 0.4220  


------------------------------
ENVIRONMENT AND OTHER CONTEXT
------------------------------

Environment variables:

    LANG = C
    LC_ALL = de_DE.UTF-8
    PATH = /usr/local/bin:/usr/bin:/bin:/usr/local/sbin:/usr/sbin:/sbin:/home/cpansand/bin/linux-gnu:/home/cpansand/bin/sh:/home/cpansand/bin:/usr/games:/home/cpansand/devel:/home/eserte/src/srezic-misc/scripts
    PERL5LIB = 
    PERL5OPT = 
    PERL5_CPANPLUS_IS_RUNNING = 8062
    PERL5_CPAN_IS_RUNNING = 8062
    PERL5_CPAN_IS_RUNNING_IN_RECURSION = 13441,8062
    PERLDOC = -MPod::Perldoc::ToTextOverstrike
    PERL_BATCH = yes
    PERL_CANARY_STABILITY_NOPROMPT = 1
    PERL_CPAN_REPORTER_CONFIG = /run/user/1023/cpansmoker/2016103018/cpanreporter_001_config.ini
    PERL_EXTUTILS_AUTOINSTALL = --defaultdeps
    PERL_PARALLEL_SMOKER = yes
    PERL_USE_UNSAFE_INC = 1
    SHELL = /bin/zsh
    TERM = screen
    TMPDIR = /run/user/1023/cpansmoker/2016103018

Perl special variables (and OS-specific diagnostics, for MSWin32):

    $^X = /bbbike/perl-5.22.3-RC4/bin/perl
    $UID/$EUID = 1023 / 1023
    $GID = 1023 1023
    $EGID = 1023 1023

Perl module toolchain versions installed:

    Module              Have    
    ------------------- --------
    CPAN                2.14    
    CPAN::Meta          2.150010
    Cwd                 3.62    
    ExtUtils::CBuilder  0.280224
    ExtUtils::Command   7.24    
    ExtUtils::Install   2.04    
    ExtUtils::MakeMaker 7.24    
    ExtUtils::Manifest  1.70    
    ExtUtils::ParseXS   3.30    
    File::Spec          3.62    
    JSON                2.90    
    JSON::PP            2.27400 
    Module::Build       0.4220  
    Module::Signature   0.81    
    Parse::CPAN::Meta   2.150010
    Test::Harness       3.36    
    Test::More          1.302062
    YAML                1.18    
    YAML::Syck          1.29    
    version             0.9917  


--

Summary of my perl5 (revision 5 version 22 subversion 3) configuration:
   
  Platform:
    osname=linux, osvers=3.16.0-4-amd64, archname=x86_64-linux
    uname='linux eserte 3.16.0-4-amd64 #1 smp debian 3.16.36-1+deb8u1 (2016-09-03) x86_64 gnulinux '
    config_args='-ds -e -Dprefix=/opt/perl-5.22.3-RC4 -Dcf_email=srezic@cpan.org'
    hint=recommended, useposix=true, d_sigaction=define
    useithreads=undef, usemultiplicity=undef
    use64bitint=define, use64bitall=define, uselongdouble=undef
    usemymalloc=n, bincompat5005=undef
  Compiler:
    cc='cc', ccflags ='-fwrapv -fno-strict-aliasing -pipe -fstack-protector-strong -I/usr/local/include -D_LARGEFILE_SOURCE -D_FILE_OFFSET_BITS=64 -D_FORTIFY_SOURCE=2',
    optimize='-O2',
    cppflags='-fwrapv -fno-strict-aliasing -pipe -fstack-protector-strong -I/usr/local/include'
    ccversion='', gccversion='4.9.2', gccosandvers=''
    intsize=4, longsize=8, ptrsize=8, doublesize=8, byteorder=12345678, doublekind=3
    d_longlong=define, longlongsize=8, d_longdbl=define, longdblsize=16, longdblkind=3
    ivtype='long', ivsize=8, nvtype='double', nvsize=8, Off_t='off_t', lseeksize=8
    alignbytes=8, prototype=define
  Linker and Libraries:
    ld='cc', ldflags =' -fstack-protector-strong -L/usr/local/lib'
    libpth=/usr/local/lib /usr/lib/gcc/x86_64-linux-gnu/4.9/include-fixed /usr/include/x86_64-linux-gnu /usr/lib /lib/x86_64-linux-gnu /lib/../lib /usr/lib/x86_64-linux-gnu /usr/lib/../lib /lib
    libs=-lpthread -lnsl -lgdbm -ldb -ldl -lm -lcrypt -lutil -lc -lgdbm_compat
    perllibs=-lpthread -lnsl -ldl -lm -lcrypt -lutil -lc
    libc=libc-2.19.so, so=so, useshrplib=false, libperl=libperl.a
    gnulibc_version='2.19'
  Dynamic Linking:
    dlsrc=dl_dlopen.xs, dlext=so, d_dlsymun=undef, ccdlflags='-Wl,-E'
    cccdlflags='-fPIC', lddlflags='-shared -O2 -L/usr/local/lib -fstack-protector-strong'


Characteristics of this binary (from libperl): 
  Compile-time options: HAS_TIMES PERLIO_LAYERS PERL_DONT_CREATE_GVSV
                        PERL_HASH_FUNC_ONE_AT_A_TIME_HARD PERL_MALLOC_WRAP
                        PERL_NEW_COPY_ON_WRITE PERL_PRESERVE_IVUV
                        USE_64_BIT_ALL USE_64_BIT_INT USE_LARGE_FILES
                        USE_LOCALE USE_LOCALE_COLLATE USE_LOCALE_CTYPE
                        USE_LOCALE_NUMERIC USE_LOCALE_TIME USE_PERLIO
                        USE_PERL_ATOF
  Locally applied patches:
	RC4
  Built under linux
  Compiled at Oct 13 2016 07:24:55
  %ENV:
    PERL5LIB=""
    PERL5OPT=""
    PERL5_CPANPLUS_IS_RUNNING="8062"
    PERL5_CPAN_IS_RUNNING="8062"
    PERL5_CPAN_IS_RUNNING_IN_RECURSION="13441,8062"
    PERLDOC="-MPod::Perldoc::ToTextOverstrike"
    PERL_BATCH="yes"
    PERL_CANARY_STABILITY_NOPROMPT="1"
    PERL_CPAN_REPORTER_CONFIG="/run/user/1023/cpansmoker/2016103018/cpanreporter_001_config.ini"
    PERL_EXTUTILS_AUTOINSTALL="--defaultdeps"
    PERL_PARALLEL_SMOKER="yes"
    PERL_USE_UNSAFE_INC="1"
  @INC:
    /opt/perl-5.22.3-RC4/lib/site_perl/5.22.3/x86_64-linux
    /opt/perl-5.22.3-RC4/lib/site_perl/5.22.3
    /opt/perl-5.22.3-RC4/lib/5.22.3/x86_64-linux
    /opt/perl-5.22.3-RC4/lib/5.22.3
    .