CatalystX-OAuth2 v0.001009 Perl 5 v5.24.3 x86_64-linux-thread-multi

Status
Pass
From
Andreas J. König (ANDK)
Dist
CatalystX-OAuth2 v0.001009
Platform
Perl 5 v5.24.3 x86_64-linux-thread-multi
Date
2017-12-13 01:37:03
ID
1ebfe91e-dfa6-11e7-bfde-4c6cde6bcf58
This distribution has been tested as part of the CPAN Testers
project, supporting the Perl programming language.  See
http://wiki.cpantesters.org/ for more information or email
questions to cpan-testers-discuss@perl.org


--
Dear John Napiorkowski,

This is a computer-generated report for CatalystX-OAuth2-0.001009
on perl 5.24.3, created by CPAN-Reporter-1.2018.

Thank you for uploading your work to CPAN.  Congratulations!
All tests were successful.

Sections of this report:

    * Tester comments
    * Program output
    * Prerequisites
    * Environment and other context

------------------------------
TESTER COMMENTS
------------------------------

Additional comments from tester:

this report is from an automated smoke testing program
and was not reviewed by a human for accuracy

------------------------------
PROGRAM OUTPUT
------------------------------

Output from '/usr/bin/make test':

PERL_DL_NONLAZY=1 "/home/sand/src/perl/repoperls/installed-perls/host/k93msid/v5.24.3/f11c/bin/perl" "-MExtUtils::Command::MM" "-MTest::Harness" "-e" "undef *Test::Harness::Switches; test_harness(0, 'blib/lib', 'blib/arch')" t/*.t t/integration/*.t t/unit/*.t
t/00-compile.t ........................................ ok
t/author-pod-syntax.t ................................. skipped: these tests are for testing by the author
t/author-synopsis.t ................................... skipped: these tests are for testing by the author
t/integration/100-client-access-protected-resource.t .. ok
[error] Attribute (client_id) is required at /home/sand/src/perl/repoperls/installed-perls/host/k93msid/v5.24.3/f11c/lib/site_perl/5.24.3/x86_64-linux-thread-multi/Moose/Object.pm line 24
	Moose::Object::new('CatalystX::OAuth2::Request::RequestAuth') called at /tmp/loop_over_bdir-3639-wKf12l/CatalystX-OAuth2-0.001009-0/blib/lib/Catalyst/ActionRole/OAuth2/RequestAuth.pm line 21
	Catalyst::ActionRole::OAuth2::RequestAuth::try {...}  at /home/sand/src/perl/repoperls/installed-perls/host/k93msid/v5.24.3/f11c/lib/site_perl/5.24.3/Try/Tiny.pm line 103
	eval {...} at /home/sand/src/perl/repoperls/installed-perls/host/k93msid/v5.24.3/f11c/lib/site_perl/5.24.3/Try/Tiny.pm line 94
	Try::Tiny::try('CODE(0x5577beb2e610)', 'Try::Tiny::Catch=REF(0x5577beb1fb10)') called at /tmp/loop_over_bdir-3639-wKf12l/CatalystX-OAuth2-0.001009-0/blib/lib/Catalyst/ActionRole/OAuth2/RequestAuth.pm line 31
	Catalyst::ActionRole::OAuth2::RequestAuth::build_oauth2_request('Moose::Meta::Class::__ANON__::SERIAL::11=HASH(0x5577be6c7208)', 'AuthServer::Controller::OAuth2::Provider=HASH(0x5577be6b0be0)', 'AuthServer=HASH(0x5577be2ccc40)') called at /tmp/loop_over_bdir-3639-wKf12l/CatalystX-OAuth2-0.001009-0/blib/lib/CatalystX/OAuth2/ActionRole/RequestInjector.pm line 17
	Class::MOP::Class:::before('Moose::Meta::Class::__ANON__::SERIAL::11=HASH(0x5577be6c7208)', 'AuthServer::Controller::OAuth2::Provider=HASH(0x5577be6b0be0)', 'AuthServer=HASH(0x5577be2ccc40)') called at /home/sand/src/perl/repoperls/installed-perls/host/k93msid/v5.24.3/f11c/lib/site_perl/5.24.3/x86_64-linux-thread-multi/Class/MOP/Method/Wrapped.pm line 27
	Moose::Meta::Class::__ANON__::SERIAL::11::_wrapped_execute('Moose::Meta::Class::__ANON__::SERIAL::11=HASH(0x5577be6c7208)', 'AuthServer::Controller::OAuth2::Provider=HASH(0x5577be6b0be0)', 'AuthServer=HASH(0x5577be2ccc40)') called at /home/sand/src/perl/repoperls/installed-perls/host/k93msid/v5.24.3/f11c/lib/site_perl/5.24.3/x86_64-linux-thread-multi/Class/MOP/Method/Wrapped.pm line 95
	Moose::Meta::Class::__ANON__::SERIAL::11::execute('Moose::Meta::Class::__ANON__::SERIAL::11=HASH(0x5577be6c7208)', 'AuthServer::Controller::OAuth2::Provider=HASH(0x5577be6b0be0)', 'AuthServer=HASH(0x5577be2ccc40)') called at /home/sand/src/perl/repoperls/installed-perls/host/k93msid/v5.24.3/f11c/lib/site_perl/5.24.3/Catalyst.pm line 2052
	eval {...} at /home/sand/src/perl/repoperls/installed-perls/host/k93msid/v5.24.3/f11c/lib/site_perl/5.24.3/Catalyst.pm line 2052
	Catalyst::execute('AuthServer=HASH(0x5577be2ccc40)', 'AuthServer::Controller::OAuth2::Provider', 'Moose::Meta::Class::__ANON__::SERIAL::11=HASH(0x5577be6c7208)') called at /home/sand/src/perl/repoperls/installed-perls/host/k93msid/v5.24.3/f11c/lib/site_perl/5.24.3/Catalyst/Action.pm line 353
	Catalyst::Action::dispatch('Moose::Meta::Class::__ANON__::SERIAL::11=HASH(0x5577be6c7208)', 'AuthServer=HASH(0x5577be2ccc40)') called at /home/sand/src/perl/repoperls/installed-perls/host/k93msid/v5.24.3/f11c/lib/site_perl/5.24.3/Catalyst/ActionChain.pm line 46
	Catalyst::ActionChain::dispatch('Catalyst::ActionChain=HASH(0x5577beb2a320)', 'AuthServer=HASH(0x5577be2ccc40)') called at /home/sand/src/perl/repoperls/installed-perls/host/k93msid/v5.24.3/f11c/lib/site_perl/5.24.3/Catalyst/Controller.pm line 171
	Catalyst::Controller::_ACTION('AuthServer::Controller::OAuth2::Provider=HASH(0x5577be6b0be0)', 'AuthServer=HASH(0x5577be2ccc40)') called at /home/sand/src/perl/repoperls/installed-perls/host/k93msid/v5.24.3/f11c/lib/site_perl/5.24.3/Catalyst/Action.pm line 358
	Catalyst::Action::execute('Catalyst::Action=HASH(0x5577be6d66a0)', 'AuthServer::Controller::OAuth2::Provider=HASH(0x5577be6b0be0)', 'AuthServer=HASH(0x5577be2ccc40)') called at /home/sand/src/perl/repoperls/installed-perls/host/k93msid/v5.24.3/f11c/lib/site_perl/5.24.3/Catalyst.pm line 2052
	eval {...} at /home/sand/src/perl/repoperls/installed-perls/host/k93msid/v5.24.3/f11c/lib/site_perl/5.24.3/Catalyst.pm line 2052
	Catalyst::execute('AuthServer=HASH(0x5577be2ccc40)', 'AuthServer::Controller::OAuth2::Provider', 'Catalyst::Action=HASH(0x5577be6d66a0)') called at /home/sand/src/perl/repoperls/installed-perls/host/k93msid/v5.24.3/f11c/lib/site_perl/5.24.3/Catalyst/Action.pm line 353
	Catalyst::Action::dispatch('Catalyst::Action=HASH(0x5577be6d66a0)', 'AuthServer=HASH(0x5577be2ccc40)') called at /home/sand/src/perl/repoperls/installed-perls/host/k93msid/v5.24.3/f11c/lib/site_perl/5.24.3/Catalyst/Dispatcher.pm line 262
	Catalyst::Dispatcher::_do_forward('Catalyst::Dispatcher=HASH(0x5577bc01aab0)', 'forward', 'AuthServer=HASH(0x5577be2ccc40)', '_ACTION') called at /home/sand/src/perl/repoperls/installed-perls/host/k93msid/v5.24.3/f11c/lib/site_perl/5.24.3/Catalyst/Dispatcher.pm line 242
	Catalyst::Dispatcher::forward('Catalyst::Dispatcher=HASH(0x5577bc01aab0)', 'AuthServer=HASH(0x5577be2ccc40)', '_ACTION') called at /home/sand/src/perl/repoperls/installed-perls/host/k93msid/v5.24.3/f11c/lib/site_perl/5.24.3/Catalyst.pm line 477
	Catalyst::forward('AuthServer=HASH(0x5577be2ccc40)', '_ACTION') called at /home/sand/src/perl/repoperls/installed-perls/host/k93msid/v5.24.3/f11c/lib/site_perl/5.24.3/Catalyst/Controller.pm line 135
	Catalyst::Controller::_DISPATCH('AuthServer::Controller::OAuth2::Provider=HASH(0x5577be6b0be0)', 'AuthServer=HASH(0x5577be2ccc40)') called at /home/sand/src/perl/repoperls/installed-perls/host/k93msid/v5.24.3/f11c/lib/site_perl/5.24.3/Catalyst/Action.pm line 358
	Catalyst::Action::execute('Catalyst::Action=HASH(0x5577be6f19e0)', 'AuthServer::Controller::OAuth2::Provider=HASH(0x5577be6b0be0)', 'AuthServer=HASH(0x5577be2ccc40)') called at /home/sand/src/perl/repoperls/installed-perls/host/k93msid/v5.24.3/f11c/lib/site_perl/5.24.3/Catalyst.pm line 2052
	eval {...} at /home/sand/src/perl/repoperls/installed-perls/host/k93msid/v5.24.3/f11c/lib/site_perl/5.24.3/Catalyst.pm line 2052
	Catalyst::execute('AuthServer=HASH(0x5577be2ccc40)', 'AuthServer::Controller::OAuth2::Provider', 'Catalyst::Action=HASH(0x5577be6f19e0)') called at /home/sand/src/perl/repoperls/installed-perls/host/k93msid/v5.24.3/f11c/lib/site_perl/5.24.3/Catalyst/Action.pm line 353
	Catalyst::Action::dispatch('Catalyst::Action=HASH(0x5577be6f19e0)', 'AuthServer=HASH(0x5577be2ccc40)') called at /home/sand/src/perl/repoperls/installed-perls/host/k93msid/v5.24.3/f11c/lib/site_perl/5.24.3/Catalyst/Dispatcher.pm line 262
	Catalyst::Dispatcher::_do_forward('Catalyst::Dispatcher=HASH(0x5577bc01aab0)', 'forward', 'AuthServer=HASH(0x5577be2ccc40)', '/oauth2/provider/_DISPATCH') called at /home/sand/src/perl/repoperls/installed-perls/host/k93msid/v5.24.3/f11c/lib/site_perl/5.24.3/Catalyst/Dispatcher.pm line 242
	Catalyst::Dispatcher::forward('Catalyst::Dispatcher=HASH(0x5577bc01aab0)', 'AuthServer=HASH(0x5577be2ccc40)', '/oauth2/provider/_DISPATCH') called at /home/sand/src/perl/repoperls/installed-perls/host/k93msid/v5.24.3/f11c/lib/site_perl/5.24.3/Catalyst.pm line 477
	Catalyst::forward('AuthServer=HASH(0x5577be2ccc40)', '/oauth2/provider/_DISPATCH') called at /home/sand/src/perl/repoperls/installed-perls/host/k93msid/v5.24.3/f11c/lib/site_perl/5.24.3/Catalyst/Dispatcher.pm line 108
	Catalyst::Dispatcher::dispatch('Catalyst::Dispatcher=HASH(0x5577bc01aab0)', 'AuthServer=HASH(0x5577be2ccc40)') called at /home/sand/src/perl/repoperls/installed-perls/host/k93msid/v5.24.3/f11c/lib/site_perl/5.24.3/Catalyst.pm line 1998
	Catalyst::dispatch('AuthServer=HASH(0x5577be2ccc40)') called at /home/sand/src/perl/repoperls/installed-perls/host/k93msid/v5.24.3/f11c/lib/site_perl/5.24.3/x86_64-linux-thread-multi/Class/MOP/Method/Wrapped.pm line 56
	AuthServer::_wrapped_dispatch('AuthServer=HASH(0x5577be2ccc40)') called at /home/sand/src/perl/repoperls/installed-perls/host/k93msid/v5.24.3/f11c/lib/site_perl/5.24.3/x86_64-linux-thread-multi/Class/MOP/Method/Wrapped.pm line 95
	AuthServer::dispatch('AuthServer=HASH(0x5577be2ccc40)') called at /home/sand/src/perl/repoperls/installed-perls/host/k93msid/v5.24.3/f11c/lib/site_perl/5.24.3/Catalyst.pm line 2393
	Catalyst::try {...}  at /home/sand/src/perl/repoperls/installed-perls/host/k93msid/v5.24.3/f11c/lib/site_perl/5.24.3/Try/Tiny.pm line 103
	eval {...} at /home/sand/src/perl/repoperls/installed-perls/host/k93msid/v5.24.3/f11c/lib/site_perl/5.24.3/Try/Tiny.pm line 94
	Try::Tiny::try('CODE(0x5577bdebbb90)', 'Try::Tiny::Catch=REF(0x5577bea322b8)') called at /home/sand/src/perl/repoperls/installed-perls/host/k93msid/v5.24.3/f11c/lib/site_perl/5.24.3/Catalyst.pm line 2402
	Catalyst::handle_request('AuthServer', 'env', 'HASH(0x5577be5b2a98)', 'response_cb', 'CODE(0x5577be0c6c48)') called at /home/sand/src/perl/repoperls/installed-perls/host/k93msid/v5.24.3/f11c/lib/site_perl/5.24.3/Catalyst/Engine.pm line 800
	Catalyst::Engine::__ANON__('CODE(0x5577be0c6c48)') called at /home/sand/src/perl/repoperls/installed-perls/host/k93msid/v5.24.3/f11c/lib/site_perl/5.24.3/Plack/Middleware/HTTPExceptions.pm line 32
	Plack::Middleware::HTTPExceptions::try {...}  at /home/sand/src/perl/repoperls/installed-perls/host/k93msid/v5.24.3/f11c/lib/site_perl/5.24.3/Try/Tiny.pm line 103
	eval {...} at /home/sand/src/perl/repoperls/installed-perls/host/k93msid/v5.24.3/f11c/lib/site_perl/5.24.3/Try/Tiny.pm line 94
	Try::Tiny::try('CODE(0x5577bea206c8)', 'Try::Tiny::Catch=REF(0x5577be373208)') called at /home/sand/src/perl/repoperls/installed-perls/host/k93msid/v5.24.3/f11c/lib/site_perl/5.24.3/Plack/Middleware/HTTPExceptions.pm line 41
	Plack::Middleware::HTTPExceptions::__ANON__('CODE(0x5577be9531e0)') called at /home/sand/src/perl/repoperls/installed-perls/host/k93msid/v5.24.3/f11c/lib/site_perl/5.24.3/Plack/Util.pm line 339
	Plack::Util::__ANON__('CODE(0x5577beacb900)') called at /home/sand/src/perl/repoperls/installed-perls/host/k93msid/v5.24.3/f11c/lib/site_perl/5.24.3/Plack/Util.pm line 339
	Plack::Util::__ANON__('CODE(0x5577bdf07e48)') called at /home/sand/src/perl/repoperls/installed-perls/host/k93msid/v5.24.3/f11c/lib/site_perl/5.24.3/Plack/Util.pm line 339
	Plack::Util::__ANON__('CODE(0x5577bdff1610)') called at /home/sand/src/perl/repoperls/installed-perls/host/k93msid/v5.24.3/f11c/lib/site_perl/5.24.3/HTTP/Message/PSGI.pm line 100
	HTTP::Message::PSGI::res_from_psgi('CODE(0x5577bdad5450)') called at /home/sand/src/perl/repoperls/installed-perls/host/k93msid/v5.24.3/f11c/lib/site_perl/5.24.3/HTTP/Message/PSGI.pm line 156
	HTTP::Response::from_psgi('HTTP::Response', 'CODE(0x5577bdad5450)') called at /home/sand/src/perl/repoperls/installed-perls/host/k93msid/v5.24.3/f11c/lib/site_perl/5.24.3/Plack/Test/MockHTTP.pm line 24
	Plack::Test::MockHTTP::try {...}  at /home/sand/src/perl/repoperls/installed-perls/host/k93msid/v5.24.3/f11c/lib/site_perl/5.24.3/Try/Tiny.pm line 101
	eval {...} at /home/sand/src/perl/repoperls/installed-perls/host/k93msid/v5.24.3/f11c/lib/site_perl/5.24.3/Try/Tiny.pm line 94
	Try::Tiny::try('CODE(0x5577be744160)', 'Try::Tiny::Catch=REF(0x5577beaa3240)') called at /home/sand/src/perl/repoperls/installed-perls/host/k93msid/v5.24.3/f11c/lib/site_perl/5.24.3/Plack/Test/MockHTTP.pm line 27
	Plack::Test::MockHTTP::request('Plack::Test::MockHTTP=HASH(0x5577beab8be8)', 'HTTP::Request=HASH(0x5577beab8810)') called at /home/sand/src/perl/repoperls/installed-perls/host/k93msid/v5.24.3/f11c/lib/site_perl/5.24.3/Plack/Test.pm line 38
	Plack::Test::__ANON__('HTTP::Request=HASH(0x5577beab8810)') called at /home/sand/src/perl/repoperls/installed-perls/host/k93msid/v5.24.3/f11c/lib/site_perl/5.24.3/Catalyst/Test.pm line 281
	Catalyst::Test::__ANON__('CODE(0x5577beab8a98)') called at /home/sand/src/perl/repoperls/installed-perls/host/k93msid/v5.24.3/f11c/lib/site_perl/5.24.3/Plack/Test.pm line 38
	Plack::Test::test_psgi('app', 'CODE(0x5577beaa3c70)', 'mangle_response', 'CODE(0x5577bea51ee8)', 'app', 'CODE(0x5577bea2ca00)', 'client', 'CODE(0x5577beab89a8)') called at /home/sand/src/perl/repoperls/installed-perls/host/k93msid/v5.24.3/f11c/lib/site_perl/5.24.3/Catalyst/Test.pm line 284
	Catalyst::Test::_request('HASH(0x5577beaa4408)', '/request') called at /home/sand/src/perl/repoperls/installed-perls/host/k93msid/v5.24.3/f11c/lib/site_perl/5.24.3/Catalyst/Test.pm line 327
	Catalyst::Test::_local_request('AuthServer', '/request') called at /home/sand/src/perl/repoperls/installed-perls/host/k93msid/v5.24.3/f11c/lib/site_perl/5.24.3/Catalyst/Test.pm line 32
	Catalyst::Test::__ANON__('/request') called at /home/sand/src/perl/repoperls/installed-perls/host/k93msid/v5.24.3/f11c/lib/site_perl/5.24.3/Catalyst/Test.pm line 72
	Catalyst::Test::__ANON__('/request') called at t/unit/100-controller-role-provider.t line 30
bless( {
  "Plugin::ConfigLoader" => {},
  action => bless( {
    args_constraints => [],
    attributes => {
      Args => [
        0,
      ],
      Chained => [
        "/oauth2/provider/base",
      ],
      Does => [
        "Catalyst::ActionRole::OAuth2::RequestAuth",
      ],
      PathPart => [
        bless( do{\(my $o = "request")}, 'URI::_generic' ),
      ],
    },
    chain => [
      bless( {
        attributes => {
          CaptureArgs => [
            0,
          ],
          Chained => [
            "/",
          ],
          PathPart => [
            bless( do{\(my $o = "")}, 'URI::_generic' ),
          ],
        },
        class => "AuthServer::Controller::OAuth2::Provider",
        code => sub {
            package AuthServer::Controller::OAuth2::Provider;
            use warnings;
            use strict;
            
        },
        name => "base",
        namespace => "oauth2/provider",
        number_of_captures => 0,
        reverse => "oauth2/provider/base",
      }, 'Catalyst::Action' ),
      bless( {
        args_constraints => $VAR1->{action}{args_constraints},
        attributes => $VAR1->{action}{attributes},
        class => "AuthServer::Controller::OAuth2::Provider",
        code => sub {
            package AuthServer::Controller::OAuth2::Provider;
            use warnings;
            use strict;
            
        },
        enable_client_secret => 0,
        name => "request",
        namespace => "oauth2/provider",
        number_of_args => 0,
        reverse => "oauth2/provider/request",
      }, 'Moose::Meta::Class::__ANON__::SERIAL::11' ),
    ],
    class => "AuthServer::Controller::OAuth2::Provider",
    code => $VAR1->{action}{chain}[1]{code},
    enable_client_secret => 0,
    name => "request",
    namespace => "oauth2/provider",
    number_of_args => 0,
    reverse => "oauth2/provider/request",
  }, 'Catalyst::ActionChain' ),
  counter => {},
  home => "/tmp/loop_over_bdir-3639-wKf12l/CatalystX-OAuth2-0.001009-0/t/lib/AuthServer",
  namespace => "oauth2/provider",
  request => bless( {
    _body => 0,
    _log => bless( {
      _body => undef,
      _psgi_errors => *::STDERR,
      abort => undef,
      autoflush => 1,
      level => 31,
    }, 'Catalyst::Log' ),
    _path => "request",
    _read_length => 0,
    _read_position => 0,
    _use_hash_multivalue => 0,
    action => "/oauth2/provider/request",
    address => "127.0.0.1",
    arguments => [],
    base => bless( do{\(my $o = "http://localhost/")}, 'URI::http' ),
    body_parameters => {},
    captures => [],
    cookies => {},
    data_handlers => {
      "application/json" => sub {
          package Catalyst;
          use warnings;
          use strict;
          my($fh, $req) = @_;
          my $parser = Class::Load::load_first_existing_class('JSON::MaybeXS', 'JSON');
          my $slurped;
          return eval {
              do {
                  local $/;
                  $slurped = $fh->getline;
                  $parser->can('decode_json')->($slurped)
              }
          } || 'Catalyst::Exception'->throw(sprintf(q[Error Parsing POST '%s', Error: %s], defined $slurped ? $slurped : 'undef', $@));
      },
      "application/x-www-form-urlencoded" => sub {
          package Catalyst;
          use warnings;
          use strict;
          my($fh, $req) = @_;
          my $params = $req->_use_hash_multivalue ? $req->body_parameters->mixed : $req->body_parameters;
          Class::Load::load_first_existing_class('CGI::Struct::XS', 'CGI::Struct')->can('build_cgi_struct')->($params);
      },
    },
    env => {
      CONTENT_LENGTH => 0,
      "Catalyst.Stash.v2" => sub {
          package Catalyst::Middleware::Stash;
          use warnings;
          use strict;
          if (@_) {
              my $new_stash = @_ > 1 ? {@_} : $_[0];
              croak('stash takes a hash or hashref') unless ref $new_stash;
              foreach my $key (keys %$new_stash) {
                  $stash->{$key} = $new_stash->{$key};
              }
          }
          $stash;
      },
      HTTP_HOST => "localhost",
      PATH_INFO => "/request",
      QUERY_STRING => "",
      REMOTE_ADDR => "127.0.0.1",
      REMOTE_HOST => "localhost",
      REMOTE_PORT => 2844,
      REQUEST_METHOD => "GET",
      REQUEST_URI => "/request",
      SCRIPT_NAME => "",
      SERVER_NAME => "localhost",
      SERVER_PORT => 80,
      SERVER_PROTOCOL => "HTTP/1.1",
      "plack.original_request_method" => "GET",
      "psgi.errors" => *::STDERR,
      "psgi.input" => \*{"HTTP::Message::PSGI::\$input"},
      "psgi.multiprocess" => "",
      "psgi.multithread" => "",
      "psgi.nonblocking" => "",
      "psgi.run_once" => 1,
      "psgi.streaming" => 1,
      "psgi.url_scheme" => "http",
      "psgi.version" => [
        1,
        1,
      ],
    },
    headers => bless( {
      "::std_case" => {
        cookie => "Cookie",
      },
      "content-length" => 0,
      host => "localhost",
    }, 'HTTP::Headers' ),
    hostname => "localhost",
    match => "/oauth2/provider/request",
    method => "GET",
    parameters => {},
    protocol => "HTTP/1.1",
    query_keywords => "",
    query_parameters => {},
    remote_user => undef,
    secure => 0,
    uploads => {},
    uri => bless( do{\(my $o = "http://localhost/request")}, 'URI::http' ),
  }, 'Catalyst::Request' ),
  response => bless( {
    _context => $VAR1,
    _log => $VAR1->{request}{_log},
    body => "warning: response_type/client_id invalid or missing",
    cookies => {},
    encodable_content_type => qr/text|xml$|javascript$/,
    encoding => bless( {
      Name => "utf-8-strict",
      strict_utf8 => 1,
    }, 'Encode::utf8' ),
    finalized_headers => 1,
    headers => bless( {}, 'HTTP::Headers' ),
    status => 200,
  }, 'Catalyst::Response' ),
  root => bless( {
    dirs => [
      "",
      "tmp",
      "loop_over_bdir-3639-wKf12l",
      "CatalystX-OAuth2-0.001009-0",
      "t",
      "lib",
      "AuthServer",
      "root",
    ],
    file_spec_class => undef,
    volume => "",
  }, 'Path::Class::Dir' ),
  stack => [],
  stash => {},
  state => 1,
  stats => bless( {
    enable => 0,
    tree => bless( {
      _children => [],
      _depth => -1,
      _height => 1,
      _node => {
        t => [
          "1513128984",
          744276,
        ],
      },
      _parent => "root",
      _uid => "0x5577be0abb68",
      _width => 1,
    }, 'Tree::Simple' ),
  }, 'Catalyst::Stats' ),
}, 'AuthServer' )
t/unit/100-controller-role-provider.t ................. ok
[error] Attribute (response_type) is required at /home/sand/src/perl/repoperls/installed-perls/host/k93msid/v5.24.3/f11c/lib/site_perl/5.24.3/x86_64-linux-thread-multi/Moose/Object.pm line 24
	Moose::Object::new('CatalystX::OAuth2::Request::RequestAuth') called at /tmp/loop_over_bdir-3639-wKf12l/CatalystX-OAuth2-0.001009-0/blib/lib/Catalyst/ActionRole/OAuth2/RequestAuth.pm line 21
	Catalyst::ActionRole::OAuth2::RequestAuth::try {...}  at /home/sand/src/perl/repoperls/installed-perls/host/k93msid/v5.24.3/f11c/lib/site_perl/5.24.3/Try/Tiny.pm line 103
	eval {...} at /home/sand/src/perl/repoperls/installed-perls/host/k93msid/v5.24.3/f11c/lib/site_perl/5.24.3/Try/Tiny.pm line 94
	Try::Tiny::try('CODE(0x563f98ca2ac0)', 'Try::Tiny::Catch=REF(0x563f98c378b8)') called at /tmp/loop_over_bdir-3639-wKf12l/CatalystX-OAuth2-0.001009-0/blib/lib/Catalyst/ActionRole/OAuth2/RequestAuth.pm line 31
	Catalyst::ActionRole::OAuth2::RequestAuth::build_oauth2_request('Moose::Meta::Class::__ANON__::SERIAL::11=HASH(0x563f988d7ed8)', 'AuthServer::Controller::OAuth2::Provider=HASH(0x563f988de3e8)', 'AuthServer=HASH(0x563f980dd128)') called at /tmp/loop_over_bdir-3639-wKf12l/CatalystX-OAuth2-0.001009-0/blib/lib/CatalystX/OAuth2/ActionRole/RequestInjector.pm line 17
	Class::MOP::Class:::before('Moose::Meta::Class::__ANON__::SERIAL::11=HASH(0x563f988d7ed8)', 'AuthServer::Controller::OAuth2::Provider=HASH(0x563f988de3e8)', 'AuthServer=HASH(0x563f980dd128)') called at /home/sand/src/perl/repoperls/installed-perls/host/k93msid/v5.24.3/f11c/lib/site_perl/5.24.3/x86_64-linux-thread-multi/Class/MOP/Method/Wrapped.pm line 27
	Moose::Meta::Class::__ANON__::SERIAL::11::_wrapped_execute('Moose::Meta::Class::__ANON__::SERIAL::11=HASH(0x563f988d7ed8)', 'AuthServer::Controller::OAuth2::Provider=HASH(0x563f988de3e8)', 'AuthServer=HASH(0x563f980dd128)') called at /home/sand/src/perl/repoperls/installed-perls/host/k93msid/v5.24.3/f11c/lib/site_perl/5.24.3/x86_64-linux-thread-multi/Class/MOP/Method/Wrapped.pm line 95
	Moose::Meta::Class::__ANON__::SERIAL::11::execute('Moose::Meta::Class::__ANON__::SERIAL::11=HASH(0x563f988d7ed8)', 'AuthServer::Controller::OAuth2::Provider=HASH(0x563f988de3e8)', 'AuthServer=HASH(0x563f980dd128)') called at /home/sand/src/perl/repoperls/installed-perls/host/k93msid/v5.24.3/f11c/lib/site_perl/5.24.3/Catalyst.pm line 2052
	eval {...} at /home/sand/src/perl/repoperls/installed-perls/host/k93msid/v5.24.3/f11c/lib/site_perl/5.24.3/Catalyst.pm line 2052
	Catalyst::execute('AuthServer=HASH(0x563f980dd128)', 'AuthServer::Controller::OAuth2::Provider', 'Moose::Meta::Class::__ANON__::SERIAL::11=HASH(0x563f988d7ed8)') called at /home/sand/src/perl/repoperls/installed-perls/host/k93msid/v5.24.3/f11c/lib/site_perl/5.24.3/Catalyst/Action.pm line 353
	Catalyst::Action::dispatch('Moose::Meta::Class::__ANON__::SERIAL::11=HASH(0x563f988d7ed8)', 'AuthServer=HASH(0x563f980dd128)') called at /home/sand/src/perl/repoperls/installed-perls/host/k93msid/v5.24.3/f11c/lib/site_perl/5.24.3/Catalyst/ActionChain.pm line 46
	Catalyst::ActionChain::dispatch('Catalyst::ActionChain=HASH(0x563f98c9f190)', 'AuthServer=HASH(0x563f980dd128)') called at /home/sand/src/perl/repoperls/installed-perls/host/k93msid/v5.24.3/f11c/lib/site_perl/5.24.3/Catalyst/Controller.pm line 171
	Catalyst::Controller::_ACTION('AuthServer::Controller::OAuth2::Provider=HASH(0x563f988de3e8)', 'AuthServer=HASH(0x563f980dd128)') called at /home/sand/src/perl/repoperls/installed-perls/host/k93msid/v5.24.3/f11c/lib/site_perl/5.24.3/Catalyst/Action.pm line 358
	Catalyst::Action::execute('Catalyst::Action=HASH(0x563f988f24d8)', 'AuthServer::Controller::OAuth2::Provider=HASH(0x563f988de3e8)', 'AuthServer=HASH(0x563f980dd128)') called at /home/sand/src/perl/repoperls/installed-perls/host/k93msid/v5.24.3/f11c/lib/site_perl/5.24.3/Catalyst.pm line 2052
	eval {...} at /home/sand/src/perl/repoperls/installed-perls/host/k93msid/v5.24.3/f11c/lib/site_perl/5.24.3/Catalyst.pm line 2052
	Catalyst::execute('AuthServer=HASH(0x563f980dd128)', 'AuthServer::Controller::OAuth2::Provider', 'Catalyst::Action=HASH(0x563f988f24d8)') called at /home/sand/src/perl/repoperls/installed-perls/host/k93msid/v5.24.3/f11c/lib/site_perl/5.24.3/Catalyst/Action.pm line 353
	Catalyst::Action::dispatch('Catalyst::Action=HASH(0x563f988f24d8)', 'AuthServer=HASH(0x563f980dd128)') called at /home/sand/src/perl/repoperls/installed-perls/host/k93msid/v5.24.3/f11c/lib/site_perl/5.24.3/Catalyst/Dispatcher.pm line 262
	Catalyst::Dispatcher::_do_forward('Catalyst::Dispatcher=HASH(0x563f95270960)', 'forward', 'AuthServer=HASH(0x563f980dd128)', '_ACTION') called at /home/sand/src/perl/repoperls/installed-perls/host/k93msid/v5.24.3/f11c/lib/site_perl/5.24.3/Catalyst/Dispatcher.pm line 242
	Catalyst::Dispatcher::forward('Catalyst::Dispatcher=HASH(0x563f95270960)', 'AuthServer=HASH(0x563f980dd128)', '_ACTION') called at /home/sand/src/perl/repoperls/installed-perls/host/k93msid/v5.24.3/f11c/lib/site_perl/5.24.3/Catalyst.pm line 477
	Catalyst::forward('AuthServer=HASH(0x563f980dd128)', '_ACTION') called at /home/sand/src/perl/repoperls/installed-perls/host/k93msid/v5.24.3/f11c/lib/site_perl/5.24.3/Catalyst/Controller.pm line 135
	Catalyst::Controller::_DISPATCH('AuthServer::Controller::OAuth2::Provider=HASH(0x563f988de3e8)', 'AuthServer=HASH(0x563f980dd128)') called at /home/sand/src/perl/repoperls/installed-perls/host/k93msid/v5.24.3/f11c/lib/site_perl/5.24.3/Catalyst/Action.pm line 358
	Catalyst::Action::execute('Catalyst::Action=HASH(0x563f988d7e00)', 'AuthServer::Controller::OAuth2::Provider=HASH(0x563f988de3e8)', 'AuthServer=HASH(0x563f980dd128)') called at /home/sand/src/perl/repoperls/installed-perls/host/k93msid/v5.24.3/f11c/lib/site_perl/5.24.3/Catalyst.pm line 2052
	eval {...} at /home/sand/src/perl/repoperls/installed-perls/host/k93msid/v5.24.3/f11c/lib/site_perl/5.24.3/Catalyst.pm line 2052
	Catalyst::execute('AuthServer=HASH(0x563f980dd128)', 'AuthServer::Controller::OAuth2::Provider', 'Catalyst::Action=HASH(0x563f988d7e00)') called at /home/sand/src/perl/repoperls/installed-perls/host/k93msid/v5.24.3/f11c/lib/site_perl/5.24.3/Catalyst/Action.pm line 353
	Catalyst::Action::dispatch('Catalyst::Action=HASH(0x563f988d7e00)', 'AuthServer=HASH(0x563f980dd128)') called at /home/sand/src/perl/repoperls/installed-perls/host/k93msid/v5.24.3/f11c/lib/site_perl/5.24.3/Catalyst/Dispatcher.pm line 262
	Catalyst::Dispatcher::_do_forward('Catalyst::Dispatcher=HASH(0x563f95270960)', 'forward', 'AuthServer=HASH(0x563f980dd128)', '/oauth2/provider/_DISPATCH') called at /home/sand/src/perl/repoperls/installed-perls/host/k93msid/v5.24.3/f11c/lib/site_perl/5.24.3/Catalyst/Dispatcher.pm line 242
	Catalyst::Dispatcher::forward('Catalyst::Dispatcher=HASH(0x563f95270960)', 'AuthServer=HASH(0x563f980dd128)', '/oauth2/provider/_DISPATCH') called at /home/sand/src/perl/repoperls/installed-perls/host/k93msid/v5.24.3/f11c/lib/site_perl/5.24.3/Catalyst.pm line 477
	Catalyst::forward('AuthServer=HASH(0x563f980dd128)', '/oauth2/provider/_DISPATCH') called at /home/sand/src/perl/repoperls/installed-perls/host/k93msid/v5.24.3/f11c/lib/site_perl/5.24.3/Catalyst/Dispatcher.pm line 108
	Catalyst::Dispatcher::dispatch('Catalyst::Dispatcher=HASH(0x563f95270960)', 'AuthServer=HASH(0x563f980dd128)') called at /home/sand/src/perl/repoperls/installed-perls/host/k93msid/v5.24.3/f11c/lib/site_perl/5.24.3/Catalyst.pm line 1998
	Catalyst::dispatch('AuthServer=HASH(0x563f980dd128)') called at /home/sand/src/perl/repoperls/installed-perls/host/k93msid/v5.24.3/f11c/lib/site_perl/5.24.3/x86_64-linux-thread-multi/Class/MOP/Method/Wrapped.pm line 56
	AuthServer::_wrapped_dispatch('AuthServer=HASH(0x563f980dd128)') called at /home/sand/src/perl/repoperls/installed-perls/host/k93msid/v5.24.3/f11c/lib/site_perl/5.24.3/x86_64-linux-thread-multi/Class/MOP/Method/Wrapped.pm line 95
	AuthServer::dispatch('AuthServer=HASH(0x563f980dd128)') called at /home/sand/src/perl/repoperls/installed-perls/host/k93msid/v5.24.3/f11c/lib/site_perl/5.24.3/Catalyst.pm line 2393
	Catalyst::try {...}  at /home/sand/src/perl/repoperls/installed-perls/host/k93msid/v5.24.3/f11c/lib/site_perl/5.24.3/Try/Tiny.pm line 103
	eval {...} at /home/sand/src/perl/repoperls/installed-perls/host/k93msid/v5.24.3/f11c/lib/site_perl/5.24.3/Try/Tiny.pm line 94
	Try::Tiny::try('CODE(0x563f98616bc0)', 'Try::Tiny::Catch=REF(0x563f988800b0)') called at /home/sand/src/perl/repoperls/installed-perls/host/k93msid/v5.24.3/f11c/lib/site_perl/5.24.3/Catalyst.pm line 2402
	Catalyst::handle_request('AuthServer', 'env', 'HASH(0x563f97f63fb0)', 'response_cb', 'CODE(0x563f98087108)') called at /home/sand/src/perl/repoperls/installed-perls/host/k93msid/v5.24.3/f11c/lib/site_perl/5.24.3/Catalyst/Engine.pm line 800
	Catalyst::Engine::__ANON__('CODE(0x563f98087108)') called at /home/sand/src/perl/repoperls/installed-perls/host/k93msid/v5.24.3/f11c/lib/site_perl/5.24.3/Plack/Middleware/HTTPExceptions.pm line 32
	Plack::Middleware::HTTPExceptions::try {...}  at /home/sand/src/perl/repoperls/installed-perls/host/k93msid/v5.24.3/f11c/lib/site_perl/5.24.3/Try/Tiny.pm line 103
	eval {...} at /home/sand/src/perl/repoperls/installed-perls/host/k93msid/v5.24.3/f11c/lib/site_perl/5.24.3/Try/Tiny.pm line 94
	Try::Tiny::try('CODE(0x563f98bd62f0)', 'Try::Tiny::Catch=REF(0x563f97fdd040)') called at /home/sand/src/perl/repoperls/installed-perls/host/k93msid/v5.24.3/f11c/lib/site_perl/5.24.3/Plack/Middleware/HTTPExceptions.pm line 41
	Plack::Middleware::HTTPExceptions::__ANON__('CODE(0x563f988e3980)') called at /home/sand/src/perl/repoperls/installed-perls/host/k93msid/v5.24.3/f11c/lib/site_perl/5.24.3/Plack/Util.pm line 339
	Plack::Util::__ANON__('CODE(0x563f98c6eb38)') called at /home/sand/src/perl/repoperls/installed-perls/host/k93msid/v5.24.3/f11c/lib/site_perl/5.24.3/Plack/Util.pm line 339
	Plack::Util::__ANON__('CODE(0x563f93655880)') called at /home/sand/src/perl/repoperls/installed-perls/host/k93msid/v5.24.3/f11c/lib/site_perl/5.24.3/Plack/Util.pm line 339
	Plack::Util::__ANON__('CODE(0x563f96ca9b08)') called at /home/sand/src/perl/repoperls/installed-perls/host/k93msid/v5.24.3/f11c/lib/site_perl/5.24.3/HTTP/Message/PSGI.pm line 100
	HTTP::Message::PSGI::res_from_psgi('CODE(0x563f988d7428)') called at /home/sand/src/perl/repoperls/installed-perls/host/k93msid/v5.24.3/f11c/lib/site_perl/5.24.3/HTTP/Message/PSGI.pm line 156
	HTTP::Response::from_psgi('HTTP::Response', 'CODE(0x563f988d7428)') called at /home/sand/src/perl/repoperls/installed-perls/host/k93msid/v5.24.3/f11c/lib/site_perl/5.24.3/Plack/Test/MockHTTP.pm line 24
	Plack::Test::MockHTTP::try {...}  at /home/sand/src/perl/repoperls/installed-perls/host/k93msid/v5.24.3/f11c/lib/site_perl/5.24.3/Try/Tiny.pm line 101
	eval {...} at /home/sand/src/perl/repoperls/installed-perls/host/k93msid/v5.24.3/f11c/lib/site_perl/5.24.3/Try/Tiny.pm line 94
	Try::Tiny::try('CODE(0x563f98880350)', 'Try::Tiny::Catch=REF(0x563f98c15f88)') called at /home/sand/src/perl/repoperls/installed-perls/host/k93msid/v5.24.3/f11c/lib/site_perl/5.24.3/Plack/Test/MockHTTP.pm line 27
	Plack::Test::MockHTTP::request('Plack::Test::MockHTTP=HASH(0x563f98c2bec8)', 'HTTP::Request=HASH(0x563f98c1f010)') called at /home/sand/src/perl/repoperls/installed-perls/host/k93msid/v5.24.3/f11c/lib/site_perl/5.24.3/Plack/Test.pm line 38
	Plack::Test::__ANON__('HTTP::Request=HASH(0x563f98c1f010)') called at /home/sand/src/perl/repoperls/installed-perls/host/k93msid/v5.24.3/f11c/lib/site_perl/5.24.3/Catalyst/Test.pm line 281
	Catalyst::Test::__ANON__('CODE(0x563f98c1f2b0)') called at /home/sand/src/perl/repoperls/installed-perls/host/k93msid/v5.24.3/f11c/lib/site_perl/5.24.3/Plack/Test.pm line 38
	Plack::Test::test_psgi('mangle_response', 'CODE(0x563f952442e8)', 'app', 'CODE(0x563f98c1e608)', 'app', 'CODE(0x563f98bfa158)', 'client', 'CODE(0x563f98c1f1a8)') called at /home/sand/src/perl/repoperls/installed-perls/host/k93msid/v5.24.3/f11c/lib/site_perl/5.24.3/Catalyst/Test.pm line 284
	Catalyst::Test::_request('HASH(0x563f98c1eda0)', '/request') called at /home/sand/src/perl/repoperls/installed-perls/host/k93msid/v5.24.3/f11c/lib/site_perl/5.24.3/Catalyst/Test.pm line 327
	Catalyst::Test::_local_request('AuthServer', '/request') called at /home/sand/src/perl/repoperls/installed-perls/host/k93msid/v5.24.3/f11c/lib/site_perl/5.24.3/Catalyst/Test.pm line 32
	Catalyst::Test::__ANON__('/request') called at /home/sand/src/perl/repoperls/installed-perls/host/k93msid/v5.24.3/f11c/lib/site_perl/5.24.3/Catalyst/Test.pm line 72
	Catalyst::Test::__ANON__('/request') called at t/unit/200-actionrole-request-auth.t line 15
[error] Attribute (response_type) is required at /home/sand/src/perl/repoperls/installed-perls/host/k93msid/v5.24.3/f11c/lib/site_perl/5.24.3/x86_64-linux-thread-multi/Moose/Object.pm line 24
	Moose::Object::new('CatalystX::OAuth2::Request::RequestAuth') called at /tmp/loop_over_bdir-3639-wKf12l/CatalystX-OAuth2-0.001009-0/blib/lib/Catalyst/ActionRole/OAuth2/RequestAuth.pm line 21
	Catalyst::ActionRole::OAuth2::RequestAuth::try {...}  at /home/sand/src/perl/repoperls/installed-perls/host/k93msid/v5.24.3/f11c/lib/site_perl/5.24.3/Try/Tiny.pm line 103
	eval {...} at /home/sand/src/perl/repoperls/installed-perls/host/k93msid/v5.24.3/f11c/lib/site_perl/5.24.3/Try/Tiny.pm line 94
	Try::Tiny::try('CODE(0x563f98d40600)', 'Try::Tiny::Catch=REF(0x563f98cca480)') called at /tmp/loop_over_bdir-3639-wKf12l/CatalystX-OAuth2-0.001009-0/blib/lib/Catalyst/ActionRole/OAuth2/RequestAuth.pm line 31
	Catalyst::ActionRole::OAuth2::RequestAuth::build_oauth2_request('Moose::Meta::Class::__ANON__::SERIAL::11=HASH(0x563f988d7ed8)', 'AuthServer::Controller::OAuth2::Provider=HASH(0x563f988de3e8)', 'AuthServer=HASH(0x563f980dd128)') called at /tmp/loop_over_bdir-3639-wKf12l/CatalystX-OAuth2-0.001009-0/blib/lib/CatalystX/OAuth2/ActionRole/RequestInjector.pm line 17
	Class::MOP::Class:::before('Moose::Meta::Class::__ANON__::SERIAL::11=HASH(0x563f988d7ed8)', 'AuthServer::Controller::OAuth2::Provider=HASH(0x563f988de3e8)', 'AuthServer=HASH(0x563f980dd128)') called at /home/sand/src/perl/repoperls/installed-perls/host/k93msid/v5.24.3/f11c/lib/site_perl/5.24.3/x86_64-linux-thread-multi/Class/MOP/Method/Wrapped.pm line 27
	Moose::Meta::Class::__ANON__::SERIAL::11::_wrapped_execute('Moose::Meta::Class::__ANON__::SERIAL::11=HASH(0x563f988d7ed8)', 'AuthServer::Controller::OAuth2::Provider=HASH(0x563f988de3e8)', 'AuthServer=HASH(0x563f980dd128)') called at /home/sand/src/perl/repoperls/installed-perls/host/k93msid/v5.24.3/f11c/lib/site_perl/5.24.3/x86_64-linux-thread-multi/Class/MOP/Method/Wrapped.pm line 95
	Moose::Meta::Class::__ANON__::SERIAL::11::execute('Moose::Meta::Class::__ANON__::SERIAL::11=HASH(0x563f988d7ed8)', 'AuthServer::Controller::OAuth2::Provider=HASH(0x563f988de3e8)', 'AuthServer=HASH(0x563f980dd128)') called at /home/sand/src/perl/repoperls/installed-perls/host/k93msid/v5.24.3/f11c/lib/site_perl/5.24.3/Catalyst.pm line 2052
	eval {...} at /home/sand/src/perl/repoperls/installed-perls/host/k93msid/v5.24.3/f11c/lib/site_perl/5.24.3/Catalyst.pm line 2052
	Catalyst::execute('AuthServer=HASH(0x563f980dd128)', 'AuthServer::Controller::OAuth2::Provider', 'Moose::Meta::Class::__ANON__::SERIAL::11=HASH(0x563f988d7ed8)') called at /home/sand/src/perl/repoperls/installed-perls/host/k93msid/v5.24.3/f11c/lib/site_perl/5.24.3/Catalyst/Action.pm line 353
	Catalyst::Action::dispatch('Moose::Meta::Class::__ANON__::SERIAL::11=HASH(0x563f988d7ed8)', 'AuthServer=HASH(0x563f980dd128)') called at /home/sand/src/perl/repoperls/installed-perls/host/k93msid/v5.24.3/f11c/lib/site_perl/5.24.3/Catalyst/ActionChain.pm line 46
	Catalyst::ActionChain::dispatch('Catalyst::ActionChain=HASH(0x563f98c9f190)', 'AuthServer=HASH(0x563f980dd128)') called at /home/sand/src/perl/repoperls/installed-perls/host/k93msid/v5.24.3/f11c/lib/site_perl/5.24.3/Catalyst/Controller.pm line 171
	Catalyst::Controller::_ACTION('AuthServer::Controller::OAuth2::Provider=HASH(0x563f988de3e8)', 'AuthServer=HASH(0x563f980dd128)') called at /home/sand/src/perl/repoperls/installed-perls/host/k93msid/v5.24.3/f11c/lib/site_perl/5.24.3/Catalyst/Action.pm line 358
	Catalyst::Action::execute('Catalyst::Action=HASH(0x563f988f24d8)', 'AuthServer::Controller::OAuth2::Provider=HASH(0x563f988de3e8)', 'AuthServer=HASH(0x563f980dd128)') called at /home/sand/src/perl/repoperls/installed-perls/host/k93msid/v5.24.3/f11c/lib/site_perl/5.24.3/Catalyst.pm line 2052
	eval {...} at /home/sand/src/perl/repoperls/installed-perls/host/k93msid/v5.24.3/f11c/lib/site_perl/5.24.3/Catalyst.pm line 2052
	Catalyst::execute('AuthServer=HASH(0x563f980dd128)', 'AuthServer::Controller::OAuth2::Provider', 'Catalyst::Action=HASH(0x563f988f24d8)') called at /home/sand/src/perl/repoperls/installed-perls/host/k93msid/v5.24.3/f11c/lib/site_perl/5.24.3/Catalyst/Action.pm line 353
	Catalyst::Action::dispatch('Catalyst::Action=HASH(0x563f988f24d8)', 'AuthServer=HASH(0x563f980dd128)') called at /home/sand/src/perl/repoperls/installed-perls/host/k93msid/v5.24.3/f11c/lib/site_perl/5.24.3/Catalyst/Dispatcher.pm line 262
	Catalyst::Dispatcher::_do_forward('Catalyst::Dispatcher=HASH(0x563f95270960)', 'forward', 'AuthServer=HASH(0x563f980dd128)', '_ACTION') called at /home/sand/src/perl/repoperls/installed-perls/host/k93msid/v5.24.3/f11c/lib/site_perl/5.24.3/Catalyst/Dispatcher.pm line 242
	Catalyst::Dispatcher::forward('Catalyst::Dispatcher=HASH(0x563f95270960)', 'AuthServer=HASH(0x563f980dd128)', '_ACTION') called at /home/sand/src/perl/repoperls/installed-perls/host/k93msid/v5.24.3/f11c/lib/site_perl/5.24.3/Catalyst.pm line 477
	Catalyst::forward('AuthServer=HASH(0x563f980dd128)', '_ACTION') called at /home/sand/src/perl/repoperls/installed-perls/host/k93msid/v5.24.3/f11c/lib/site_perl/5.24.3/Catalyst/Controller.pm line 135
	Catalyst::Controller::_DISPATCH('AuthServer::Controller::OAuth2::Provider=HASH(0x563f988de3e8)', 'AuthServer=HASH(0x563f980dd128)') called at /home/sand/src/perl/repoperls/installed-perls/host/k93msid/v5.24.3/f11c/lib/site_perl/5.24.3/Catalyst/Action.pm line 358
	Catalyst::Action::execute('Catalyst::Action=HASH(0x563f988d7e00)', 'AuthServer::Controller::OAuth2::Provider=HASH(0x563f988de3e8)', 'AuthServer=HASH(0x563f980dd128)') called at /home/sand/src/perl/repoperls/installed-perls/host/k93msid/v5.24.3/f11c/lib/site_perl/5.24.3/Catalyst.pm line 2052
	eval {...} at /home/sand/src/perl/repoperls/installed-perls/host/k93msid/v5.24.3/f11c/lib/site_perl/5.24.3/Catalyst.pm line 2052
	Catalyst::execute('AuthServer=HASH(0x563f980dd128)', 'AuthServer::Controller::OAuth2::Provider', 'Catalyst::Action=HASH(0x563f988d7e00)') called at /home/sand/src/perl/repoperls/installed-perls/host/k93msid/v5.24.3/f11c/lib/site_perl/5.24.3/Catalyst/Action.pm line 353
	Catalyst::Action::dispatch('Catalyst::Action=HASH(0x563f988d7e00)', 'AuthServer=HASH(0x563f980dd128)') called at /home/sand/src/perl/repoperls/installed-perls/host/k93msid/v5.24.3/f11c/lib/site_perl/5.24.3/Catalyst/Dispatcher.pm line 262
	Catalyst::Dispatcher::_do_forward('Catalyst::Dispatcher=HASH(0x563f95270960)', 'forward', 'AuthServer=HASH(0x563f980dd128)', '/oauth2/provider/_DISPATCH') called at /home/sand/src/perl/repoperls/installed-perls/host/k93msid/v5.24.3/f11c/lib/site_perl/5.24.3/Catalyst/Dispatcher.pm line 242
	Catalyst::Dispatcher::forward('Catalyst::Dispatcher=HASH(0x563f95270960)', 'AuthServer=HASH(0x563f980dd128)', '/oauth2/provider/_DISPATCH') called at /home/sand/src/perl/repoperls/installed-perls/host/k93msid/v5.24.3/f11c/lib/site_perl/5.24.3/Catalyst.pm line 477
	Catalyst::forward('AuthServer=HASH(0x563f980dd128)', '/oauth2/provider/_DISPATCH') called at /home/sand/src/perl/repoperls/installed-perls/host/k93msid/v5.24.3/f11c/lib/site_perl/5.24.3/Catalyst/Dispatcher.pm line 108
	Catalyst::Dispatcher::dispatch('Catalyst::Dispatcher=HASH(0x563f95270960)', 'AuthServer=HASH(0x563f980dd128)') called at /home/sand/src/perl/repoperls/installed-perls/host/k93msid/v5.24.3/f11c/lib/site_perl/5.24.3/Catalyst.pm line 1998
	Catalyst::dispatch('AuthServer=HASH(0x563f980dd128)') called at /home/sand/src/perl/repoperls/installed-perls/host/k93msid/v5.24.3/f11c/lib/site_perl/5.24.3/x86_64-linux-thread-multi/Class/MOP/Method/Wrapped.pm line 56
	AuthServer::_wrapped_dispatch('AuthServer=HASH(0x563f980dd128)') called at /home/sand/src/perl/repoperls/installed-perls/host/k93msid/v5.24.3/f11c/lib/site_perl/5.24.3/x86_64-linux-thread-multi/Class/MOP/Method/Wrapped.pm line 95
	AuthServer::dispatch('AuthServer=HASH(0x563f980dd128)') called at t/unit/200-actionrole-request-auth.t line 19
[warn] Useless setting a header value after finalize_headers and the response callback has been called. Since we don't support tail headers this will not work as you might expect.
[warn] Useless setting a header value after finalize_headers and the response callback has been called. Since we don't support tail headers this will not work as you might expect.
t/unit/200-actionrole-request-auth.t .................. ok
[warn] Useless setting a header value after finalize_headers and the response callback has been called. Since we don't support tail headers this will not work as you might expect.
[warn] Useless setting a header value after finalize_headers and the response callback has been called. Since we don't support tail headers this will not work as you might expect.
[warn] Useless setting a header value after finalize_headers and the response callback has been called. Since we don't support tail headers this will not work as you might expect.
t/unit/300-actionrole-grant-auth.t .................... ok
t/unit/400-actionrole-auth-token-via-auth-grant.t ..... ok
t/unit/500-actionrole-auth-token-via-refresh-token.t .. ok
[warn] Useless setting a header value after finalize_headers and the response callback has been called. Since we don't support tail headers this will not work as you might expect.
t/unit/600-actionrole-protected-resource.t ............ ok
[error] No default action defined
[warn] Useless setting a header value after finalize_headers and the response callback has been called. Since we don't support tail headers this will not work as you might expect.
[error] No default action defined
t/unit/700-client.t ................................... ok
All tests successful.
Files=11, Tests=153, 55 wallclock secs ( 0.04 usr  0.08 sys + 20.22 cusr  2.61 csys = 22.95 CPU)
Result: PASS

------------------------------
PREREQUISITES
------------------------------

Prerequisite modules loaded:

requires:

    Module                                   Need    Have       
    ---------------------------------------- ------- -----------
    base                                     0       2.23_01    
    Class::Load                              0       0.24       
    DBIx::Class                              0       0.082899_15
    DBIx::Class::ResultSet                   0       0          
    DBIx::Class::Schema                      0       0          
    HTTP::Request::Common                    0       6.13       
    JSON::Any                                0       1.39       
    LWP::UserAgent                           0       6.29       
    Moose                                    0       2.2006     
    Moose::Role                              0       2.2006     
    Moose::Util                              0       2.2006     
    Moose::Util::TypeConstraints             0       2.2006     
    MooseX::NonMoose                         0       0.26       
    MooseX::SetOnce                          0       0.200002   
    MooseX::Types::Common::String            0       0.001014   
    parent                                   0       0.234      
    perl                                     5.006   5.024003   
    Scalar::Util                             0       1.49_08    
    strict                                   0       1.11       
    Try::Tiny                                0       0.28       
    URI                                      0       1.72       
    warnings                                 0       1.36       

build_requires:

    Module                                   Need    Have       
    ---------------------------------------- ------- -----------
    blib                                     1.01    1.06       
    Catalyst                                 0       5.90115    
    Catalyst::Controller                     0       0          
    Catalyst::Controller::ActionRole         0       0.17       
    Catalyst::Model::DBIC::Schema            0       0.65       
    Catalyst::Plugin::Authentication         0       0.10023    
    Catalyst::Plugin::ConfigLoader           0       0.34       
    Catalyst::Plugin::Session                0       0.40       
    Catalyst::Plugin::Session::State::Cookie 0       0.17       
    Catalyst::Test                           0       0          
    Devel::Dwarn                             0       0          
    ExtUtils::MakeMaker                      0       7.30       
    File::Spec                               0       3.63_01    
    HTTP::Request                            0       6.13       
    IO::Handle                               0       1.36       
    IPC::Open3                               0       1.20       
    lib                                      0       0.63       
    namespace::autoclean                     0       0.28       
    Plack::Builder                           0       0          
    Plack::Test                              0       0          
    SQL::Translator                          0.11006 0.11021    
    strictures                               1       2.000003   
    Test::Exception                          0       0.43       
    Test::MockObject                         0       1.20161202 
    Test::More                               0       1.302120   
    Test::WWW::Mechanize::PSGI               0       0.37       

configure_requires:

    Module                                   Need    Have       
    ---------------------------------------- ------- -----------
    ExtUtils::MakeMaker                      0       7.30       


------------------------------
ENVIRONMENT AND OTHER CONTEXT
------------------------------

Environment variables:

    AUTOMATED_TESTING = 1
    LANG = en_US.UTF-8
    PATH = /home/sand/bin:/usr/local/bin:/usr/bin:/bin:/usr/games:/usr/local/perl/bin:/usr/X11/bin:/sbin:/usr/sbin
    PERL5LIB = 
    PERL5OPT = 
    PERL5_CPANPLUS_IS_RUNNING = 3642
    PERL5_CPAN_IS_RUNNING = 3642
    PERL5_CPAN_IS_RUNNING_IN_RECURSION = 22402,3642
    PERL_CANARY_STABILITY_NOPROMPT = 1
    PERL_MM_USE_DEFAULT = 1
    PERL_USE_UNSAFE_INC = 1
    SHELL = /usr/bin/zsh
    TERM = screen

Perl special variables (and OS-specific diagnostics, for MSWin32):

    $^X = /home/sand/src/perl/repoperls/installed-perls/host/k93msid/v5.24.3/f11c/bin/perl
    $UID/$EUID = 1005 / 1005
    $GID = 1005 1005
    $EGID = 1005 1005

Perl module toolchain versions installed:

    Module              Have    
    ------------------- --------
    CPAN                2.20    
    CPAN::Meta          2.150010
    Cwd                 3.63_01 
    ExtUtils::CBuilder  0.280226
    ExtUtils::Command   7.30    
    ExtUtils::Install   2.06    
    ExtUtils::MakeMaker 7.30    
    ExtUtils::Manifest  1.70    
    ExtUtils::ParseXS   3.31    
    File::Spec          3.63_01 
    JSON                2.97000 
    JSON::PP            2.94    
    Module::Build       0.4224  
    Module::Signature   0.81    
    Parse::CPAN::Meta   2.150010
    Test::Harness       3.39    
    Test::More          1.302120
    YAML                1.24    
    YAML::Syck          1.30    
    version             0.9916  


--

Summary of my perl5 (revision 5 version 24 subversion 3) configuration:
  Derived from: 9f1d3884c227a955e9ecaaadba4cba3280c47e3a
  Platform:
    osname=linux, osvers=4.12.0-2-amd64, archname=x86_64-linux-thread-multi
    uname='linux k93msid 4.12.0-2-amd64 #1 smp debian 4.12.13-1 (2017-09-19) x86_64 gnulinux '
    config_args='-Dprefix=/home/sand/src/perl/repoperls/installed-perls/host/k93msid/v5.24.3/f11c -Dmyhostname=k93msid -Dinstallusrbinperl=n -Uversiononly -Dusedevel -des -Ui_db -Dlibswanted=cl pthread socket inet nsl gdbm dbm malloc dl ld sun m crypt sec util c cposix posix ucb BSD gdbm_compat -Duseithreads -Uuselongdouble -DDEBUGGING=-g'
    hint=recommended, useposix=true, d_sigaction=define
    useithreads=define, usemultiplicity=define
    use64bitint=define, use64bitall=define, uselongdouble=undef
    usemymalloc=n, bincompat5005=undef
  Compiler:
    cc='cc', ccflags ='-D_REENTRANT -D_GNU_SOURCE -fwrapv -fno-strict-aliasing -pipe -fstack-protector-strong -I/usr/local/include -D_LARGEFILE_SOURCE -D_FILE_OFFSET_BITS=64 -D_FORTIFY_SOURCE=2',
    optimize='-O2 -g',
    cppflags='-D_REENTRANT -D_GNU_SOURCE -fwrapv -fno-strict-aliasing -pipe -fstack-protector-strong -I/usr/local/include'
    ccversion='', gccversion='7.2.0', gccosandvers=''
    intsize=4, longsize=8, ptrsize=8, doublesize=8, byteorder=12345678, doublekind=3
    d_longlong=define, longlongsize=8, d_longdbl=define, longdblsize=16, longdblkind=3
    ivtype='long', ivsize=8, nvtype='double', nvsize=8, Off_t='off_t', lseeksize=8
    alignbytes=8, prototype=define
  Linker and Libraries:
    ld='cc', ldflags =' -fstack-protector-strong -L/usr/local/lib'
    libpth=/usr/local/lib /usr/lib/gcc/x86_64-linux-gnu/7/include-fixed /usr/include/x86_64-linux-gnu /usr/lib /lib/x86_64-linux-gnu /lib/../lib /usr/lib/x86_64-linux-gnu /usr/lib/../lib /lib
    libs=-lpthread -lnsl -ldl -lm -lcrypt -lutil -lc
    perllibs=-lpthread -lnsl -ldl -lm -lcrypt -lutil -lc
    libc=libc-2.24.so, so=so, useshrplib=false, libperl=libperl.a
    gnulibc_version='2.24'
  Dynamic Linking:
    dlsrc=dl_dlopen.xs, dlext=so, d_dlsymun=undef, ccdlflags='-Wl,-E'
    cccdlflags='-fPIC', lddlflags='-shared -O2 -g -L/usr/local/lib -fstack-protector-strong'


Characteristics of this binary (from libperl): 
  Compile-time options: HAS_TIMES MULTIPLICITY PERLIO_LAYERS
                        PERL_COPY_ON_WRITE PERL_DONT_CREATE_GVSV
                        PERL_HASH_FUNC_ONE_AT_A_TIME_HARD
                        PERL_IMPLICIT_CONTEXT PERL_MALLOC_WRAP
                        PERL_PRESERVE_IVUV PERL_USE_DEVEL USE_64_BIT_ALL
                        USE_64_BIT_INT USE_ITHREADS USE_LARGE_FILES
                        USE_LOCALE USE_LOCALE_COLLATE USE_LOCALE_CTYPE
                        USE_LOCALE_NUMERIC USE_LOCALE_TIME USE_PERLIO
                        USE_PERL_ATOF USE_REENTRANT_API
  Locally applied patches:
	uncommitted-changes
  Built under linux
  Compiled at Oct  1 2017 23:24:44
  %ENV:
    PERL5LIB=""
    PERL5OPT=""
    PERL5_CPANPLUS_IS_RUNNING="3642"
    PERL5_CPAN_IS_RUNNING="3642"
    PERL5_CPAN_IS_RUNNING_IN_RECURSION="22402,3642"
    PERL_CANARY_STABILITY_NOPROMPT="1"
    PERL_MM_USE_DEFAULT="1"
    PERL_USE_UNSAFE_INC="1"
  @INC:
    /home/sand/src/perl/repoperls/installed-perls/host/k93msid/v5.24.3/f11c/lib/site_perl/5.24.3/x86_64-linux-thread-multi
    /home/sand/src/perl/repoperls/installed-perls/host/k93msid/v5.24.3/f11c/lib/site_perl/5.24.3
    /home/sand/src/perl/repoperls/installed-perls/host/k93msid/v5.24.3/f11c/lib/5.24.3/x86_64-linux-thread-multi
    /home/sand/src/perl/repoperls/installed-perls/host/k93msid/v5.24.3/f11c/lib/5.24.3
    .