Report for Class-InsideOut-1.13

Back
From: metabase:user:314402c4-2aae-11df-837a-5e0a49663a4f
Subject: PASS Class-InsideOut-1.13 v5.25.10 GNU/Linux
Date: 2017-03-04T10:55:46Z

This distribution has been tested as part of the CPAN Testers
project, supporting the Perl programming language.  See
http://wiki.cpantesters.org/ for more information or email
questions to cpan-testers-discuss@perl.org


--
Dear David Golden,

This is a computer-generated report for Class-InsideOut-1.13
on perl 5.25.10, created by CPAN-Reporter-1.2018.

Thank you for uploading your work to CPAN.  Congratulations!
All tests were successful.

Sections of this report:

    * Tester comments
    * Program output
    * Prerequisites
    * Environment and other context

------------------------------
TESTER COMMENTS
------------------------------

Additional comments from tester:

none provided

------------------------------
PROGRAM OUTPUT
------------------------------

Output from '/usr/bin/make test':

PERL_DL_NONLAZY=1 "/opt/perl-5.25.10t/bin/perl5.25.10" "-MExtUtils::Command::MM" "-MTest::Harness" "-e" "undef *Test::Harness::Switches; test_harness(0, 'blib/lib', 'blib/arch')" t/*.t
t/00-compile.t ..................... ok
# Prerequisite Report:
#    Version Module               
#   -------- ---------------------
#       1.42 Carp                 
#       0.36 Class::ISA           
#   5.025010 Config               
#       1.41 DynaLoader           
#       5.72 Exporter             
#       7.24 ExtUtils::MakeMaker  
#       1.34 File::Find           
#       3.66 File::Spec           
#       3.66 File::Spec::Functions
#     0.2304 File::Temp           
#       1.16 IO::File             
#       1.47 List::Util           
#       1.47 Scalar::Util         
#       2.62 Storable             
#   1.302078 Test::More           
#       0.26 XSLoader             
#       1.28 overload             
#       1.11 strict               
#       2.15 threads              
#       1.03 vars                 
#       1.37 warnings             
t/00-report-prereqs.t .............. ok
t/01_load.t ........................ ok
t/02_register.t .................... ok
t/03_properties.t .................. ok
t/04_threaded.t .................... ok
t/05_forking.t ..................... ok
t/06_export_ok.t ................... ok
t/07_synopsis_obj.t ................ ok
t/08_DEMOLISH.t .................... ok
t/09_foreign.t ..................... ok
t/10_storable_values.t ............. ok
t/11_storable_refs.t ............... ok
t/12_storable_hooks.t .............. ok
t/13_options.t ..................... ok
t/14_accessor_hooks.t .............. ok
t/15_no_weaken_fallback.t .......... skipped: Your Scalar::Util is XS only
t/16_property_argument_checking.t .. ok
t/17_option_argument_checking.t .... ok
t/18_register_argument_checking.t .. ok
t/19_storable_singleton.t .......... ok
t/20_storable_singleton_error.t .... ok
t/21_optional_new.t ................ ok
t/22_readonly.t .................... ok
t/23_accessor_hooks_blessed.t ...... ok
t/24_accessor_hooks_overloaded.t ... ok
t/25_accessor_hooks_typetiny.t ..... ok
All tests successful.
Files=27, Tests=444,  5 wallclock secs ( 0.15 usr  0.00 sys +  2.38 cusr  0.26 csys =  2.79 CPU)
Result: PASS

------------------------------
PREREQUISITES
------------------------------

Prerequisite modules loaded:

requires:

    Module                Need Have    
    --------------------- ---- --------
    Carp                  0    1.42    
    Class::ISA            0    0.36    
    Exporter              0    5.72    
    overload              0    1.28    
    Scalar::Util          1.09 1.47    
    Storable              0    2.62    
    strict                0    1.11    
    vars                  0    1.03    

build_requires:

    Module                Need Have    
    --------------------- ---- --------
    Config                0    5.025010
    DynaLoader            0    1.41    
    ExtUtils::MakeMaker   0    7.24    
    File::Find            0    1.34    
    File::Spec            0    3.66    
    File::Spec::Functions 0    3.66    
    File::Temp            0    0.2304  
    IO::File              0    1.16    
    List::Util            0    1.47    
    Test::More            0.45 1.302078
    threads               0    2.15    
    warnings              0    1.37    
    XSLoader              0    0.26    

configure_requires:

    Module                Need Have    
    --------------------- ---- --------
    ExtUtils::MakeMaker   6.30 7.24    


------------------------------
ENVIRONMENT AND OTHER CONTEXT
------------------------------

Environment variables:

    LANG = en_US.UTF-8
    LANGUAGE = en_US:en
    PATH = /usr/local/bin:/usr/bin:/bin:/usr/local/sbin:/usr/sbin:/sbin:/home/cpansand/bin/linux-gnu:/home/cpansand/bin/sh:/home/cpansand/bin:/usr/games:/home/cpansand/devel:/home/eserte/src/srezic-misc/scripts
    PERL5LIB = /home/cpansand/.cpan/build/2017030409/Class-Accessor-Array-Glob-0.01-1/blib/arch:/home/cpansand/.cpan/build/2017030409/Class-Accessor-Array-Glob-0.01-1/blib/lib:/home/cpansand/.cpan/build/2017030409/Class-Accessor-Array-0.02-1/blib/arch:/home/cpansand/.cpan/build/2017030409/Class-Accessor-Array-0.02-1/blib/lib:/home/cpansand/.cpan/build/2017030409/Role-TinyCommons-Tree-0.11-1/blib/arch:/home/cpansand/.cpan/build/2017030409/Role-TinyCommons-Tree-0.11-1/blib/lib
    PERL5OPT = 
    PERL5_CPANPLUS_IS_RUNNING = 5360
    PERL5_CPAN_IS_RUNNING = 5360
    PERL5_CPAN_IS_RUNNING_IN_RECURSION = 2733,5360
    PERLDOC = -MPod::Perldoc::ToTextOverstrike
    PERL_BATCH = yes
    PERL_CANARY_STABILITY_NOPROMPT = 1
    PERL_CPAN_REPORTER_CONFIG = /var/tmp/cpansmoker-1002/2017030409/cpanreporter_001_config.ini
    PERL_EXTUTILS_AUTOINSTALL = --defaultdeps
    PERL_USE_UNSAFE_INC = 1
    SHELL = /bin/zsh
    TERM = screen
    TMPDIR = /var/tmp/cpansmoker-1002/2017030409

Perl special variables (and OS-specific diagnostics, for MSWin32):

    $^X = /opt/perl-5.25.10t/bin/perl5.25.10
    $UID/$EUID = 1002 / 1002
    $GID = 1002 1002
    $EGID = 1002 1002

Perl module toolchain versions installed:

    Module              Have      
    ------------------- ----------
    CPAN                2.16      
    CPAN::Meta          2.150010  
    Cwd                 3.66      
    ExtUtils::CBuilder  0.280225  
    ExtUtils::Command   7.24      
    ExtUtils::Install   2.04      
    ExtUtils::MakeMaker 7.24      
    ExtUtils::Manifest  1.70      
    ExtUtils::ParseXS   3.33      
    File::Spec          3.66      
    JSON                2.90      
    JSON::PP            2.27400_02
    Module::Build       0.4220    
    Module::Signature   0.81      
    Parse::CPAN::Meta   2.150010  
    Test::Harness       3.36_01   
    Test::More          1.302078  
    YAML                1.23      
    YAML::Syck          1.29      
    version             0.9917    


--

Summary of my perl5 (revision 5 version 25 subversion 10) configuration:
   
  Platform:
    osname=linux
    osvers=4.9.0-1-amd64
    archname=x86_64-linux-thread-multi
    uname='linux prod4 4.9.0-1-amd64 #1 smp debian 4.9.6-3 (2017-01-28) x86_64 gnulinux '
    config_args='-ds -e -Dprefix=/opt/perl-5.25.10t -Dusedevel -Dusemallocwrap=no -Dusethreads -Dcf_email=srezic@cpan.org'
    hint=recommended
    useposix=true
    d_sigaction=define
    useithreads=define
    usemultiplicity=define
    use64bitint=define
    use64bitall=define
    uselongdouble=undef
    usemymalloc=n
    bincompat5005=undef
  Compiler:
    cc='cc'
    ccflags ='-D_REENTRANT -D_GNU_SOURCE -fwrapv -fno-strict-aliasing -pipe -fstack-protector-strong -I/usr/local/include -D_LARGEFILE_SOURCE -D_FILE_OFFSET_BITS=64'
    optimize='-O2'
    cppflags='-D_REENTRANT -D_GNU_SOURCE -fwrapv -fno-strict-aliasing -pipe -fstack-protector-strong -I/usr/local/include'
    ccversion=''
    gccversion='6.3.0 20170205'
    gccosandvers=''
    intsize=4
    longsize=8
    ptrsize=8
    doublesize=8
    byteorder=12345678
    doublekind=3
    d_longlong=define
    longlongsize=8
    d_longdbl=define
    longdblsize=16
    longdblkind=3
    ivtype='long'
    ivsize=8
    nvtype='double'
    nvsize=8
    Off_t='off_t'
    lseeksize=8
    alignbytes=8
    prototype=define
  Linker and Libraries:
    ld='cc'
    ldflags =' -fstack-protector-strong -L/usr/local/lib'
    libpth=/usr/local/lib /usr/lib/gcc/x86_64-linux-gnu/6/include-fixed /usr/include/x86_64-linux-gnu /usr/lib /lib/x86_64-linux-gnu /lib/../lib /usr/lib/x86_64-linux-gnu /usr/lib/../lib /lib
    libs=-lpthread -lnsl -lgdbm -ldb -ldl -lm -lcrypt -lutil -lc -lgdbm_compat
    perllibs=-lpthread -lnsl -ldl -lm -lcrypt -lutil -lc
    libc=libc-2.24.so
    so=so
    useshrplib=false
    libperl=libperl.a
    gnulibc_version='2.24'
  Dynamic Linking:
    dlsrc=dl_dlopen.xs
    dlext=so
    d_dlsymun=undef
    ccdlflags='-Wl,-E'
    cccdlflags='-fPIC'
    lddlflags='-shared -O2 -L/usr/local/lib -fstack-protector-strong'


Characteristics of this binary (from libperl): 
  Compile-time options:
    HAS_TIMES
    MULTIPLICITY
    PERLIO_LAYERS
    PERL_COPY_ON_WRITE
    PERL_DONT_CREATE_GVSV
    PERL_IMPLICIT_CONTEXT
    PERL_OP_PARENT
    PERL_PRESERVE_IVUV
    PERL_USE_DEVEL
    USE_64_BIT_ALL
    USE_64_BIT_INT
    USE_ITHREADS
    USE_LARGE_FILES
    USE_LOCALE
    USE_LOCALE_COLLATE
    USE_LOCALE_CTYPE
    USE_LOCALE_NUMERIC
    USE_LOCALE_TIME
    USE_PERLIO
    USE_PERL_ATOF
    USE_REENTRANT_API
  Built under linux
  Compiled at Feb 23 2017 19:29:29
  %ENV:
    PERL5LIB="/home/cpansand/.cpan/build/2017030409/Class-Accessor-Array-Glob-0.01-1/blib/arch:/home/cpansand/.cpan/build/2017030409/Class-Accessor-Array-Glob-0.01-1/blib/lib:/home/cpansand/.cpan/build/2017030409/Class-Accessor-Array-0.02-1/blib/arch:/home/cpansand/.cpan/build/2017030409/Class-Accessor-Array-0.02-1/blib/lib:/home/cpansand/.cpan/build/2017030409/Role-TinyCommons-Tree-0.11-1/blib/arch:/home/cpansand/.cpan/build/2017030409/Role-TinyCommons-Tree-0.11-1/blib/lib"
    PERL5OPT=""
    PERL5_CPANPLUS_IS_RUNNING="5360"
    PERL5_CPAN_IS_RUNNING="5360"
    PERL5_CPAN_IS_RUNNING_IN_RECURSION="2733,5360"
    PERLDOC="-MPod::Perldoc::ToTextOverstrike"
    PERL_BATCH="yes"
    PERL_CANARY_STABILITY_NOPROMPT="1"
    PERL_CPAN_REPORTER_CONFIG="/var/tmp/cpansmoker-1002/2017030409/cpanreporter_001_config.ini"
    PERL_EXTUTILS_AUTOINSTALL="--defaultdeps"
    PERL_USE_UNSAFE_INC="1"
  @INC:
    /home/cpansand/.cpan/build/2017030409/Class-Accessor-Array-Glob-0.01-1/blib/arch
    /home/cpansand/.cpan/build/2017030409/Class-Accessor-Array-Glob-0.01-1/blib/lib
    /home/cpansand/.cpan/build/2017030409/Class-Accessor-Array-0.02-1/blib/arch
    /home/cpansand/.cpan/build/2017030409/Class-Accessor-Array-0.02-1/blib/lib
    /home/cpansand/.cpan/build/2017030409/Role-TinyCommons-Tree-0.11-1/blib/arch
    /home/cpansand/.cpan/build/2017030409/Role-TinyCommons-Tree-0.11-1/blib/lib
    /opt/perl-5.25.10t/lib/site_perl/5.25.10/x86_64-linux-thread-multi
    /opt/perl-5.25.10t/lib/site_perl/5.25.10
    /opt/perl-5.25.10t/lib/5.25.10/x86_64-linux-thread-multi
    /opt/perl-5.25.10t/lib/5.25.10
    .