Term-ReadLine-Perl5 v1.45 Perl 5 v5.24.1 x86_64-linux-thread-multi

Status
Pass
From
Nigel Horne
Dist
Term-ReadLine-Perl5 v1.45
Platform
Perl 5 v5.24.1 x86_64-linux-thread-multi
Date
2017-10-18 11:54:38
ID
1e988076-b3fb-11e7-9be1-bbe64cf6c7cd
This distribution has been tested as part of the CPAN Testers
project, supporting the Perl programming language.  See
http://wiki.cpantesters.org/ for more information or email
questions to cpan-testers-discuss@perl.org


--
Dear Rocky Bernstein,

This is a computer-generated report for Term-ReadLine-Perl5-1.45
on perl 5.24.1, created by CPAN-Reporter-1.2018.

Thank you for uploading your work to CPAN.  Congratulations!
All tests were successful.

Sections of this report:

    * Tester comments
    * Program output
    * Prerequisites
    * Environment and other context

------------------------------
TESTER COMMENTS
------------------------------

Additional comments from tester:

this report is from an automated smoke testing program
and was not reviewed by a human for accuracy

------------------------------
PROGRAM OUTPUT
------------------------------

Output from './Build test':

Unable to get Terminal Size. The TIOCGWINSZ ioctl didn't work. The COLUMNS and LINES environment variables didn't work. The resize program didn't work. The stty program didn't work. at /home/njh/.cpan/build/Term-ReadLine-Perl5-1.45-34/blib/lib/Term/ReadLine/Perl5/readline.pm line 2937.
Unable to get Terminal Size. The TIOCGWINSZ ioctl didn't work. The COLUMNS and LINES environment variables didn't work. The resize program didn't work. The stty program didn't work. at /home/njh/.cpan/build/Term-ReadLine-Perl5-1.45-34/blib/lib/Term/ReadLine/Perl5/readline.pm line 2937.
test.pl ........................ skipped: Not interactive: $ENV{PERL_MM_NONINTERACTIVE}='' $ENV{AUTOMATED_TESTING}='1'
t/02test-OO-history-max-len.t .. ok
Unable to get Terminal Size. The TIOCGWINSZ ioctl didn't work. The COLUMNS and LINES environment variables didn't work. The resize program didn't work. The stty program didn't work. at /home/njh/.cpan/build/Term-ReadLine-Perl5-1.45-34/blib/lib/Term/ReadLine/Perl5/readline.pm line 2937.
t/01test-OO-compile.t .......... ok
t/00test-pod.t ................. ok
Unable to get Terminal Size. The TIOCGWINSZ ioctl didn't work. The COLUMNS and LINES environment variables didn't work. The resize program didn't work. The stty program didn't work. at /home/njh/.cpan/build/Term-ReadLine-Perl5-1.45-34/blib/lib/Term/ReadLine/Perl5/readline.pm line 2937.
t/10test-common.t .............. ok
t/10test-changecase.t .......... ok
t/10test-basic.t ............... ok
t/10test-filelist.t ............ ok
t/10test-motion.t .............. ok
t/10test-history.t ............. ok
t/10test-readline.t ............ ok
t/15test-unescape.t ............ ok
Unable to get Terminal Size. The TIOCGWINSZ ioctl didn't work. The COLUMNS and LINES environment variables didn't work. The resize program didn't work. The stty program didn't work. at /home/njh/.cpan/build/Term-ReadLine-Perl5-1.45-34/blib/lib/Term/ReadLine/Perl5/readline.pm line 2937.
t/20test-read-input-file.t ..... ok
All tests successful.
Files=13, Tests=146,  1 wallclock secs ( 0.05 usr  0.02 sys +  1.29 cusr  0.14 csys =  1.50 CPU)
Result: PASS

------------------------------
PREREQUISITES
------------------------------

Prerequisite modules loaded:

requires:

    Module                          Need     Have    
    ------------------------------- -------- --------
    Class::Accessor::Lite           0.05     0.08    
    File::HomeDir                   0.81     1.002   
    File::Spec                      0        3.63_01 
    IO::Handle                      0        1.36    
    perl                            5.008005 5.024001
    POSIX                           0        1.65    
    Term::ReadKey                   2.3      2.37    
    Text::VisualWidth::PP           0        0.04    
    Unicode::EastAsianWidth::Detect 0.03     0.03    
    version                         0        0.9918  

build_requires:

    Module                          Need     Have    
    ------------------------------- -------- --------
    File::HomeDir                   0.81     1.002   
    File::Spec                      0        3.63_01 
    Term::Cap                       0        1.17    
    Term::ReadKey                   2.3      2.37    
    Test::More                      0.98     1.302085

configure_requires:

    Module                          Need     Have    
    ------------------------------- -------- --------
    Module::Build                   0.4004   0.4224  
    perl                            5.008005 5.024001


------------------------------
ENVIRONMENT AND OTHER CONTEXT
------------------------------

Environment variables:

    AUTOMATED_TESTING = 1
    HARNESS_OPTIONS = j4
    LANG = en_GB.UTF-8
    LANGUAGE = en_GB:en
    PATH = /home/njh/perl5/perlbrew/bin:/home/njh/perl5/perlbrew/perls/perl-5.24.1/bin:/home/njh/perl5/perlbrew/bin:/usr/bin:/bin
    PERL5LIB = /home/njh/.cpan/build/Unicode-EastAsianWidth-Detect-0.03-31/blib/arch:/home/njh/.cpan/build/Unicode-EastAsianWidth-Detect-0.03-31/blib/lib:/home/njh/.cpan/build/Text-VisualWidth-PP-0.04-31/blib/arch:/home/njh/.cpan/build/Text-VisualWidth-PP-0.04-31/blib/lib:/home/njh/.cpan/build/Unicode-EastAsianWidth-1.33-31/blib/arch:/home/njh/.cpan/build/Unicode-EastAsianWidth-1.33-31/blib/lib:/home/njh/.cpan/build/Class-Accessor-Lite-0.08-31/blib/arch:/home/njh/.cpan/build/Class-Accessor-Lite-0.08-31/blib/lib:/home/njh/.cpan/build/JSON-Parse-0.53-34/blib/arch:/home/njh/.cpan/build/JSON-Parse-0.53-34/blib/lib
    PERL5OPT = 
    PERL5_CPANPLUS_IS_RUNNING = 16697
    PERL5_CPAN_IS_RUNNING = 16697
    PERLBREW_BASHRC_VERSION = 0.80
    PERLBREW_HOME = /home/njh/.perlbrew
    PERLBREW_LIB = 
    PERLBREW_MANPATH = /home/njh/perl5/perlbrew/perls/perl-5.24.1/man
    PERLBREW_PATH = /home/njh/perl5/perlbrew/bin:/home/njh/perl5/perlbrew/perls/perl-5.24.1/bin
    PERLBREW_PERL = perl-5.24.1
    PERLBREW_ROOT = /home/njh/perl5/perlbrew
    PERLBREW_VERSION = 0.80
    PERL_LOCAL_LIB_ROOT = 
    SHELL = /bin/sh

Perl special variables (and OS-specific diagnostics, for MSWin32):

    $^X = /home/njh/perl5/perlbrew/perls/perl-5.24.1/bin/perl
    $UID/$EUID = 1000 / 1000
    $GID = 1000 4 24 25 29 30 44 46 108 112 1000
    $EGID = 1000 4 24 25 29 30 44 46 108 112 1000

Perl module toolchain versions installed:

    Module              Have    
    ------------------- --------
    CPAN                2.16    
    CPAN::Meta          2.150010
    Cwd                 3.63_01 
    ExtUtils::CBuilder  0.280225
    ExtUtils::Command   7.30    
    ExtUtils::Install   2.14    
    ExtUtils::MakeMaker 7.30    
    ExtUtils::Manifest  1.70    
    ExtUtils::ParseXS   3.31    
    File::Spec          3.63_01 
    JSON                2.94    
    JSON::PP            2.94    
    Module::Build       0.4224  
    Module::Signature   n/a     
    Parse::CPAN::Meta   2.150010
    Test::Harness       3.39    
    Test::More          1.302085
    YAML                1.23    
    YAML::Syck          1.30    
    version             0.9918  


--

Summary of my perl5 (revision 5 version 24 subversion 1) configuration:
   
  Platform:
    osname=linux, osvers=4.7.0-1-amd64, archname=x86_64-linux-thread-multi
    uname='linux gateway 4.7.0-1-amd64 #1 smp debian 4.7.5-1 (2016-09-26) x86_64 gnulinux '
    config_args='-de -Dprefix=/home/njh/perl5/perlbrew/perls/perl-5.24.1 -Duseithreads -Dusemultiplicity -Dusedevel -Accflags= -Aeval:scriptdir=/home/njh/perl5/perlbrew/perls/perl-5.24.1/bin'
    hint=recommended, useposix=true, d_sigaction=define
    useithreads=define, usemultiplicity=define
    use64bitint=define, use64bitall=define, uselongdouble=undef
    usemymalloc=n, bincompat5005=undef
  Compiler:
    cc='cc', ccflags ='-D_REENTRANT -D_GNU_SOURCE -fwrapv -fno-strict-aliasing -pipe -fstack-protector-strong -I/usr/local/include -D_LARGEFILE_SOURCE -D_FILE_OFFSET_BITS=64',
    optimize='-O2',
    cppflags='-D_REENTRANT -D_GNU_SOURCE -fwrapv -fno-strict-aliasing -pipe -fstack-protector-strong -I/usr/local/include'
    ccversion='', gccversion='6.2.1 20161124', gccosandvers=''
    intsize=4, longsize=8, ptrsize=8, doublesize=8, byteorder=12345678, doublekind=3
    d_longlong=define, longlongsize=8, d_longdbl=define, longdblsize=16, longdblkind=3
    ivtype='long', ivsize=8, nvtype='double', nvsize=8, Off_t='off_t', lseeksize=8
    alignbytes=8, prototype=define
  Linker and Libraries:
    ld='cc', ldflags =' -fstack-protector-strong -L/usr/local/lib'
    libpth=/usr/local/lib /usr/lib/gcc/x86_64-linux-gnu/6/include-fixed /usr/include/x86_64-linux-gnu /usr/lib /lib/x86_64-linux-gnu /lib/../lib /usr/lib/x86_64-linux-gnu /usr/lib/../lib /lib
    libs=-lpthread -lnsl -lgdbm -ldb -ldl -lm -lcrypt -lutil -lc -lgdbm_compat
    perllibs=-lpthread -lnsl -ldl -lm -lcrypt -lutil -lc
    libc=libc-2.24.so, so=so, useshrplib=false, libperl=libperl.a
    gnulibc_version='2.24'
  Dynamic Linking:
    dlsrc=dl_dlopen.xs, dlext=so, d_dlsymun=undef, ccdlflags='-Wl,-E'
    cccdlflags='-fPIC', lddlflags='-shared -O2 -L/usr/local/lib -fstack-protector-strong'


Characteristics of this binary (from libperl): 
  Compile-time options: HAS_TIMES MULTIPLICITY PERLIO_LAYERS
                        PERL_COPY_ON_WRITE PERL_DONT_CREATE_GVSV
                        PERL_HASH_FUNC_ONE_AT_A_TIME_HARD
                        PERL_IMPLICIT_CONTEXT PERL_MALLOC_WRAP
                        PERL_PRESERVE_IVUV PERL_USE_DEVEL USE_64_BIT_ALL
                        USE_64_BIT_INT USE_ITHREADS USE_LARGE_FILES
                        USE_LOCALE USE_LOCALE_COLLATE USE_LOCALE_CTYPE
                        USE_LOCALE_NUMERIC USE_LOCALE_TIME USE_PERLIO
                        USE_PERL_ATOF USE_REENTRANT_API
  Built under linux
  Compiled at Jan 24 2017 00:39:08
  %ENV:
    PERL5LIB="/home/njh/.cpan/build/Unicode-EastAsianWidth-Detect-0.03-31/blib/arch:/home/njh/.cpan/build/Unicode-EastAsianWidth-Detect-0.03-31/blib/lib:/home/njh/.cpan/build/Text-VisualWidth-PP-0.04-31/blib/arch:/home/njh/.cpan/build/Text-VisualWidth-PP-0.04-31/blib/lib:/home/njh/.cpan/build/Unicode-EastAsianWidth-1.33-31/blib/arch:/home/njh/.cpan/build/Unicode-EastAsianWidth-1.33-31/blib/lib:/home/njh/.cpan/build/Class-Accessor-Lite-0.08-31/blib/arch:/home/njh/.cpan/build/Class-Accessor-Lite-0.08-31/blib/lib:/home/njh/.cpan/build/JSON-Parse-0.53-34/blib/arch:/home/njh/.cpan/build/JSON-Parse-0.53-34/blib/lib"
    PERL5OPT=""
    PERL5_CPANPLUS_IS_RUNNING="16697"
    PERL5_CPAN_IS_RUNNING="16697"
    PERLBREW_BASHRC_VERSION="0.80"
    PERLBREW_HOME="/home/njh/.perlbrew"
    PERLBREW_LIB=""
    PERLBREW_MANPATH="/home/njh/perl5/perlbrew/perls/perl-5.24.1/man"
    PERLBREW_PATH="/home/njh/perl5/perlbrew/bin:/home/njh/perl5/perlbrew/perls/perl-5.24.1/bin"
    PERLBREW_PERL="perl-5.24.1"
    PERLBREW_ROOT="/home/njh/perl5/perlbrew"
    PERLBREW_VERSION="0.80"
    PERL_LOCAL_LIB_ROOT=""
  @INC:
    /home/njh/.cpan/build/Unicode-EastAsianWidth-Detect-0.03-31/blib/arch
    /home/njh/.cpan/build/Unicode-EastAsianWidth-Detect-0.03-31/blib/lib
    /home/njh/.cpan/build/Text-VisualWidth-PP-0.04-31/blib/arch
    /home/njh/.cpan/build/Text-VisualWidth-PP-0.04-31/blib/lib
    /home/njh/.cpan/build/Unicode-EastAsianWidth-1.33-31/blib/arch
    /home/njh/.cpan/build/Unicode-EastAsianWidth-1.33-31/blib/lib
    /home/njh/.cpan/build/Class-Accessor-Lite-0.08-31/blib/arch
    /home/njh/.cpan/build/Class-Accessor-Lite-0.08-31/blib/lib
    /home/njh/.cpan/build/JSON-Parse-0.53-34/blib/arch
    /home/njh/.cpan/build/JSON-Parse-0.53-34/blib/lib
    /home/njh/perl5/perlbrew/perls/perl-5.24.1/lib/site_perl/5.24.1/x86_64-linux-thread-multi
    /home/njh/perl5/perlbrew/perls/perl-5.24.1/lib/site_perl/5.24.1
    /home/njh/perl5/perlbrew/perls/perl-5.24.1/lib/5.24.1/x86_64-linux-thread-multi
    /home/njh/perl5/perlbrew/perls/perl-5.24.1/lib/5.24.1
    .