CXC-Exporter-Util v0.08 Perl 5 v5.39.6 x86_64-linux-ld

Status
Pass
From
Andreas J. König (ANDK)
Dist
CXC-Exporter-Util v0.08
Platform
Perl 5 v5.39.6 x86_64-linux-ld
Date
2024-07-18 05:32:27
ID
1e663cec-44c7-11ef-9446-daa02c1c91c9
This distribution has been tested as part of the CPAN Testers
project, supporting the Perl programming language.  See
http://wiki.cpantesters.org/ for more information or email
questions to cpan-testers-discuss@perl.org


--
Dear Diab Jerius,

This is a computer-generated report for CXC-Exporter-Util-0.08
on perl 5.39.6, created by CPAN-Reporter-1.2019.

Thank you for uploading your work to CPAN.  Congratulations!
All tests were successful.

Sections of this report:

    * Tester comments
    * Program output
    * Prerequisites
    * Environment and other context

------------------------------
TESTER COMMENTS
------------------------------

Additional comments from tester:

this report is from an automated smoke testing program
and was not reviewed by a human for accuracy

------------------------------
PROGRAM OUTPUT
------------------------------

Output from './Build test':

t/00-compile.t ......... ok
# 
# Versions for all modules listed in MYMETA.json (including optional ones):
# 
# === Configure Requires ===
# 
#     Module               Want  Have
#     ------------------- ----- -----
#     Module::Build::Tiny 0.034 0.047
# 
# === Test Requires ===
# 
#     Module                  Want     Have
#     ------------------- -------- --------
#     Exporter::Tiny           any 1.006002
#     ExtUtils::MakeMaker      any     7.70
#     File::Spec               any     3.90
#     IO::Handle               any     1.55
#     IPC::Open3               any     1.22
#     Import::Into             any 1.002005
#     Test2::V0                any 0.000163
#     Test::Lib                any    0.003
#     Test::More               any 1.302198
#     Type::Library            any 2.004000
#     Type::Tiny          1.012000 2.004000
#     Type::Tiny::Class        any 2.004000
#     Type::Utils              any 2.004000
#     base                     any     2.27
#     constant                 any     1.33
#     feature                  any     1.86
# 
# === Test Recommends ===
# 
#     Module         Want     Have
#     ---------- -------- --------
#     CPAN::Meta 2.120900 2.150010
# 
# === Runtime Requires ===
# 
#     Module          Want     Have
#     ------------ ------- --------
#     Carp             any     1.54
#     Exporter         any     5.77
#     Import::Into     any 1.002005
#     List::Util      1.45     1.63
#     Scalar::Util     any     1.63
#     experimental     any    0.032
#     perl         5.02200 5.039006
#     strict           any     1.13
#     warnings         any     1.67
# 
t/00-report-prereqs.t .. ok
"all" is not defined in %My::Exporter::Exporter::False::EXPORT_TAGS at /home/sand/src/perl/repoperls/installed-perls/host/k93msid/v5.39.6/fc43/lib/site_perl/5.39.6/Import/Into.pm line 40.
t/all.t ................ ok
t/basic.t .............. ok
t/bugs/backcompat.t .... ok
t/constants.t .......... ok
t/types.t .............. ok
All tests successful.
Files=7, Tests=25,  2 wallclock secs ( 0.03 usr  0.02 sys +  1.03 cusr  0.23 csys =  1.31 CPU)
Result: PASS

------------------------------
PREREQUISITES
------------------------------

Prerequisite modules loaded:

requires:

    Module              Need     Have    
    ------------------- -------- --------
    Carp                0        1.54    
    experimental        0        0.032   
    Exporter            0        5.77    
    Import::Into        0        1.002005
    List::Util          1.45     1.63    
    perl                5.02200  5.039006
    Scalar::Util        0        1.63    
    strict              0        1.13    
    warnings            0        1.67    

build_requires:

    Module              Need     Have    
    ------------------- -------- --------
    base                0        2.27    
    constant            0        1.33    
    Exporter::Tiny      0        1.006002
    ExtUtils::MakeMaker 0        7.70    
    feature             0        1.86    
    File::Spec          0        3.90    
    Import::Into        0        1.002005
    IO::Handle          0        1.55    
    IPC::Open3          0        1.22    
    Test2::V0           0        0.000163
    Test::Lib           0        0.003   
    Test::More          0        1.302198
    Type::Library       0        2.004000
    Type::Tiny          1.012000 2.004000
    Type::Tiny::Class   0        2.004000
    Type::Utils         0        2.004000

configure_requires:

    Module              Need     Have    
    ------------------- -------- --------
    Module::Build::Tiny 0.034    0.047   


------------------------------
ENVIRONMENT AND OTHER CONTEXT
------------------------------

Environment variables:

    AUTOMATED_TESTING = 1
    LANG = en_US.UTF-8
    LANGUAGE = en_US:en
    PATH = /home/sand/bin:/usr/local/bin:/usr/bin:/bin:/usr/games:/usr/local/perl/bin:/usr/X11/bin:/sbin:/usr/sbin
    PERL5LIB = 
    PERL5OPT = 
    PERL5_CPANPLUS_IS_RUNNING = 1303726
    PERL5_CPAN_IS_RUNNING = 1303726
    PERL_CANARY_STABILITY_NOPROMPT = 1
    PERL_MM_USE_DEFAULT = 1
    PERL_USE_UNSAFE_INC = 1
    SHELL = /usr/bin/zsh
    TERM = screen

Perl special variables (and OS-specific diagnostics, for MSWin32):

    $^X = /home/sand/src/perl/repoperls/installed-perls/host/k93msid/v5.39.6/fc43/bin/perl
    $UID/$EUID = 1005 / 1005
    $GID = 1005 1005
    $EGID = 1005 1005

Perl module toolchain versions installed:

    Module              Have    
    ------------------- --------
    CPAN                2.36    
    CPAN::Meta          2.150010
    Cwd                 3.90    
    ExtUtils::CBuilder  0.280240
    ExtUtils::Command   7.70    
    ExtUtils::Install   2.22    
    ExtUtils::MakeMaker 7.70    
    ExtUtils::Manifest  1.75    
    ExtUtils::ParseXS   3.51    
    File::Spec          3.90    
    JSON                4.10    
    JSON::PP            4.16    
    Module::Build       0.4234  
    Module::Signature   0.88    
    Parse::CPAN::Meta   2.150010
    Test2               1.302198
    Test::Harness       3.48    
    Test::More          1.302198
    YAML                1.31    
    YAML::Syck          1.34    
    version             0.9930  


--

Summary of my perl5 (revision 5 version 39 subversion 6) configuration:
  Commit id: 19d146d89647634621ee2291d0baa267addfef3d
  Platform:
    osname=linux
    osvers=6.5.0-5-amd64
    archname=x86_64-linux-ld
    uname='linux k93msid 6.5.0-5-amd64 #1 smp preempt_dynamic debian 6.5.13-1 (2023-11-29) x86_64 gnulinux '
    config_args='-Dprefix=/home/sand/src/perl/repoperls/installed-perls/host/k93msid/v5.39.6/fc43 -Dmyhostname=k93msid -Dinstallusrbinperl=n -Uversiononly -Dusedevel -des -Ui_db -Dlibswanted=cl pthread socket inet nsl gdbm dbm malloc dl ld sun m crypt sec util c cposix posix ucb BSD gdbm_compat -Uuseithreads -Duselongdouble -DEBUGGING=both'
    hint=recommended
    useposix=true
    d_sigaction=define
    useithreads=undef
    usemultiplicity=undef
    use64bitint=define
    use64bitall=define
    uselongdouble=define
    usemymalloc=n
    default_inc_excludes_dot=define
  Compiler:
    cc='cc'
    ccflags ='-fwrapv -DDEBUGGING -fno-strict-aliasing -pipe -fstack-protector-strong -I/usr/local/include -D_LARGEFILE_SOURCE -D_FILE_OFFSET_BITS=64 -D_FORTIFY_SOURCE=2'
    optimize='-O2 -g'
    cppflags='-fwrapv -DDEBUGGING -fno-strict-aliasing -pipe -fstack-protector-strong -I/usr/local/include'
    ccversion=''
    gccversion='13.2.0'
    gccosandvers=''
    intsize=4
    longsize=8
    ptrsize=8
    doublesize=8
    byteorder=12345678
    doublekind=3
    d_longlong=define
    longlongsize=8
    d_longdbl=define
    longdblsize=16
    longdblkind=3
    ivtype='long'
    ivsize=8
    nvtype='long double'
    nvsize=16
    Off_t='off_t'
    lseeksize=8
    alignbytes=16
    prototype=define
  Linker and Libraries:
    ld='cc'
    ldflags =' -fstack-protector-strong -L/usr/local/lib'
    libpth=/usr/local/lib /usr/lib/x86_64-linux-gnu /usr/lib /usr/lib64
    libs=-lpthread -lnsl -ldl -lm -lcrypt -lutil -lc
    perllibs=-lpthread -lnsl -ldl -lm -lcrypt -lutil -lc
    libc=/lib/x86_64-linux-gnu/libc.so.6
    so=so
    useshrplib=false
    libperl=libperl.a
    gnulibc_version='2.37'
  Dynamic Linking:
    dlsrc=dl_dlopen.xs
    dlext=so
    d_dlsymun=undef
    ccdlflags='-Wl,-E'
    cccdlflags='-fPIC'
    lddlflags='-shared -O2 -g -L/usr/local/lib -fstack-protector-strong'


Characteristics of this binary (from libperl): 
  Compile-time options:
    DEBUGGING
    HAS_LONG_DOUBLE
    HAS_STRTOLD
    HAS_TIMES
    PERLIO_LAYERS
    PERL_COPY_ON_WRITE
    PERL_DONT_CREATE_GVSV
    PERL_HASH_FUNC_SIPHASH13
    PERL_HASH_USE_SBOX32
    PERL_MALLOC_WRAP
    PERL_OP_PARENT
    PERL_PRESERVE_IVUV
    PERL_USE_DEVEL
    PERL_USE_SAFE_PUTENV
    USE_64_BIT_ALL
    USE_64_BIT_INT
    USE_LARGE_FILES
    USE_LOCALE
    USE_LOCALE_COLLATE
    USE_LOCALE_CTYPE
    USE_LOCALE_NUMERIC
    USE_LOCALE_TIME
    USE_LONG_DOUBLE
    USE_PERLIO
    USE_PERL_ATOF
  Built under linux
  Compiled at Dec 31 2023 07:15:29
  %ENV:
    PERL5LIB=""
    PERL5OPT=""
    PERL5_CPANPLUS_IS_RUNNING="1303726"
    PERL5_CPAN_IS_RUNNING="1303726"
    PERL_CANARY_STABILITY_NOPROMPT="1"
    PERL_MM_USE_DEFAULT="1"
    PERL_USE_UNSAFE_INC="1"
  @INC:
    /home/sand/src/perl/repoperls/installed-perls/host/k93msid/v5.39.6/fc43/lib/site_perl/5.39.6/x86_64-linux-ld
    /home/sand/src/perl/repoperls/installed-perls/host/k93msid/v5.39.6/fc43/lib/site_perl/5.39.6
    /home/sand/src/perl/repoperls/installed-perls/host/k93msid/v5.39.6/fc43/lib/5.39.6/x86_64-linux-ld
    /home/sand/src/perl/repoperls/installed-perls/host/k93msid/v5.39.6/fc43/lib/5.39.6
    .