Back
From: metabase:user:146460c9-6bf6-1014-b70d-0f55ce65dec9
Subject: PASS CSS-Tiny-1.19 v5.14.2
Date: 2012-07-31T00:01:57Z
This distribution has been tested as part of the CPAN Testers
project, supporting the Perl programming language. See
http://wiki.cpantesters.org/ for more information or email
questions to cpan-testers-discuss@perl.org
--
Dear Adam Kennedy,
This is a computer-generated report for CSS-Tiny-1.19
on perl 5.14.2, created by CPAN-Reporter-1.2006.
Thank you for uploading your work to CPAN. Congratulations!
All tests were successful.
Sections of this report:
* Tester comments
* Program output
* Prerequisites
* Environment and other context
------------------------------
TESTER COMMENTS
------------------------------
Additional comments from tester:
this report is from an automated smoke testing program
and was not reviewed by a human for accuracy
------------------------------
PROGRAM OUTPUT
------------------------------
Output from 'C:\strawberry\c\bin\dmake.EXE test':
C:\strawberry\perl\bin\perl.exe "-MExtUtils::Command::MM" "-e" "test_harness(0, 'blib\lib', 'blib\arch')" t/*.t xt/*.t
t/01_compile.t ....... ok
t/02_main.t .......... ok
t/03_inline_clone.t .. ok
t/04_rt.t ............ ok
xt/meta.t ............ skipped: Test::CPAN::Meta 0.17 not available for testing
xt/pmv.t ............. skipped: Perl::MinimumVersion 1.25 not available for testing
xt/pod.t ............. ok
All tests successful.
Files=7, Tests=35, 1 wallclock secs ( 0.04 usr + 0.08 sys = 0.12 CPU)
Result: PASS
------------------------------
PREREQUISITES
------------------------------
Prerequisite modules loaded:
requires:
Module Need Have
------------------- ----- --------
perl 5.004 5.014002
configure_requires:
Module Need Have
------------------- ----- --------
ExtUtils::MakeMaker 0 6.62
------------------------------
ENVIRONMENT AND OTHER CONTEXT
------------------------------
Environment variables:
AUTOMATED_TESTING = 1
COMSPEC = C:\WINDOWS\system32\cmd.exe
NUMBER_OF_PROCESSORS = 1
PATH = C:\WINDOWS\system32;C:\WINDOWS;C:\WINDOWS\System32\Wbem;C:\strawberry\c\bin;C:\strawberry\perl\site\bin;C:\strawberry\perl\bin;C:\Arquivos de programas\SlikSvn\bin
PERL5LIB = C:\strawberry\cpan\build\CAM-PDF-1.58-_B39Zh/blib/arch;C:\strawberry\cpan\build\CAM-PDF-1.58-_B39Zh/blib/lib;C:\strawberry\cpan\build\Text-PDF-0.29-NnhglW/blib/arch;C:\strawberry\cpan\build\Text-PDF-0.29-NnhglW/blib/lib;C:\strawberry\cpan\build\Crypt-RC4-2.02-Wu5tq6/blib/arch;C:\strawberry\cpan\build\Crypt-RC4-2.02-Wu5tq6/blib/lib;C:\strawberry\cpan\build\PDF-API2-2.019-VRscNJ/blib/arch;C:\strawberry\cpan\build\PDF-API2-2.019-VRscNJ/blib/lib;C:\strawberry\cpan\build\Font-TTF-0.48-0p5z8_/blib/arch;C:\strawberry\cpan\build\Font-TTF-0.48-0p5z8_/blib/lib;C:\strawberry\cpan\build\Image-Size-3.232-Y7P3Y9/blib/arch;C:\strawberry\cpan\build\Image-Size-3.232-Y7P3Y9/blib/lib
PERL5OPT =
PERL5_CPANPLUS_IS_RUNNING = 556
PERL5_CPAN_IS_RUNNING = 556
PERL5_CPAN_IS_RUNNING_IN_RECURSION = 1960,556
PERL_CR_SMOKER_CURRENT = Template-Flute-PDF-0.0042
PERL_EXTUTILS_AUTOINSTALL = --defaultdeps
PERL_JSON_BACKEND = JSON::XS
PERL_MM_USE_DEFAULT = 1
PERL_YAML_BACKEND = YAML
PROCESSOR_IDENTIFIER = x86 Family 6 Model 37 Stepping 5, GenuineIntel
TEMP = C:\DOCUME~1\jackal\CONFIG~1\Temp
TERM = dumb
Perl special variables (and OS-specific diagnostics, for MSWin32):
$^X = C:\strawberry\perl\bin\perl.exe
$UID/$EUID = 0 / 0
$GID = 0
$EGID = 0
Win32::GetOSName = WinXP/.Net
Win32::GetOSVersion = Service Pack 3, 5, 1, 2600, 2, 3, 0, 256, 1
Win32::FsType = NTFS
Win32::IsAdminUser = 1
Perl module toolchain versions installed:
Module Have
------------------- --------
CPAN 1.9800
CPAN::Meta 2.120921
Cwd 3.36
ExtUtils::CBuilder 0.280203
ExtUtils::Command 1.17
ExtUtils::Install 1.56
ExtUtils::MakeMaker 6.62
ExtUtils::Manifest 1.60
ExtUtils::ParseXS 3.05
File::Spec 3.33
JSON 2.53
JSON::PP 2.27200
Module::Build 0.3800
Module::Signature 0.68
Parse::CPAN::Meta 1.4404
Test::Harness 3.23
Test::More 0.98
YAML 0.77
YAML::Syck n/a
version 0.95
--
Summary of my perl5 (revision 5 version 14 subversion 2) configuration:
Platform:
osname=MSWin32, osvers=4.0, archname=MSWin32-x86-multi-thread
uname='Win32 strawberryperl 5.14.2.1 #1 Tue Nov 22 21:00:59 2011 i386'
config_args='undef'
hint=recommended, useposix=true, d_sigaction=undef
useithreads=define, usemultiplicity=define
useperlio=define, d_sfio=undef, uselargefiles=define, usesocks=undef
use64bitint=undef, use64bitall=undef, uselongdouble=undef
usemymalloc=n, bincompat5005=undef
Compiler:
cc='gcc', ccflags =' -s -O2 -DWIN32 -DPERL_TEXTMODE_SCRIPTS -DUSE_SITECUSTOMIZE -DPERL_IMPLICIT_CONTEXT -DPERL_IMPLICIT_SYS -fno-strict-aliasing -mms-bitfields',
optimize='-s -O2',
cppflags='-DWIN32'
ccversion='', gccversion='4.4.7', gccosandvers=''
intsize=4, longsize=4, ptrsize=4, doublesize=8, byteorder=1234
d_longlong=undef, longlongsize=8, d_longdbl=define, longdblsize=12
ivtype='long', ivsize=4, nvtype='double', nvsize=8, Off_t='long long', lseeksize=8
alignbytes=8, prototype=define
Linker and Libraries:
ld='g++', ldflags ='-s -L"C:\strawberry\perl\lib\CORE" -L"C:\strawberry\c\lib"'
libpth=C:\strawberry\c\lib C:\strawberry\c\i686-w64-mingw32\lib
libs=-lmoldname -lkernel32 -luser32 -lgdi32 -lwinspool -lcomdlg32 -ladvapi32 -lshell32 -lole32 -loleaut32 -lnetapi32 -luuid -lws2_32 -lmpr -lwinmm -lversion -lodbc32 -lodbccp32 -lcomctl32
perllibs=-lmoldname -lkernel32 -luser32 -lgdi32 -lwinspool -lcomdlg32 -ladvapi32 -lshell32 -lole32 -loleaut32 -lnetapi32 -luuid -lws2_32 -lmpr -lwinmm -lversion -lodbc32 -lodbccp32 -lcomctl32
libc=, so=dll, useshrplib=true, libperl=libperl514.a
gnulibc_version=''
Dynamic Linking:
dlsrc=dl_win32.xs, dlext=dll, d_dlsymun=undef, ccdlflags=' '
cccdlflags=' ', lddlflags='-mdll -s -L"C:\strawberry\perl\lib\CORE" -L"C:\strawberry\c\lib"'
Characteristics of this binary (from libperl):
Compile-time options: MULTIPLICITY PERL_DONT_CREATE_GVSV
PERL_IMPLICIT_CONTEXT PERL_IMPLICIT_SYS
PERL_MALLOC_WRAP PERL_PRESERVE_IVUV PL_OP_SLAB_ALLOC
USE_ITHREADS USE_LARGE_FILES USE_PERLIO USE_PERL_ATOF
USE_SITECUSTOMIZE
Built under MSWin32
Compiled at Nov 22 2011 21:13:28
%ENV:
PERL5LIB="C:\strawberry\cpan\build\CAM-PDF-1.58-_B39Zh/blib/arch;C:\strawberry\cpan\build\CAM-PDF-1.58-_B39Zh/blib/lib;C:\strawberry\cpan\build\Text-PDF-0.29-NnhglW/blib/arch;C:\strawberry\cpan\build\Text-PDF-0.29-NnhglW/blib/lib;C:\strawberry\cpan\build\Crypt-RC4-2.02-Wu5tq6/blib/arch;C:\strawberry\cpan\build\Crypt-RC4-2.02-Wu5tq6/blib/lib;C:\strawberry\cpan\build\PDF-API2-2.019-VRscNJ/blib/arch;C:\strawberry\cpan\build\PDF-API2-2.019-VRscNJ/blib/lib;C:\strawberry\cpan\build\Font-TTF-0.48-0p5z8_/blib/arch;C:\strawberry\cpan\build\Font-TTF-0.48-0p5z8_/blib/lib;C:\strawberry\cpan\build\Image-Size-3.232-Y7P3Y9/blib/arch;C:\strawberry\cpan\build\Image-Size-3.232-Y7P3Y9/blib/lib"
PERL5_CPANPLUS_IS_RUNNING="556"
PERL5_CPAN_IS_RUNNING="556"
PERL5_CPAN_IS_RUNNING_IN_RECURSION="1960,556"
PERL_CR_SMOKER_CURRENT="Template-Flute-PDF-0.0042"
PERL_EXTUTILS_AUTOINSTALL="--defaultdeps"
PERL_JSON_BACKEND="JSON::XS"
PERL_MM_USE_DEFAULT="1"
PERL_YAML_BACKEND="YAML"
@INC:
C:\strawberry\cpan\build\CAM-PDF-1.58-_B39Zh/blib/arch
C:\strawberry\cpan\build\CAM-PDF-1.58-_B39Zh/blib/lib
C:\strawberry\cpan\build\Text-PDF-0.29-NnhglW/blib/arch
C:\strawberry\cpan\build\Text-PDF-0.29-NnhglW/blib/lib
C:\strawberry\cpan\build\Crypt-RC4-2.02-Wu5tq6/blib/arch
C:\strawberry\cpan\build\Crypt-RC4-2.02-Wu5tq6/blib/lib
C:\strawberry\cpan\build\PDF-API2-2.019-VRscNJ/blib/arch
C:\strawberry\cpan\build\PDF-API2-2.019-VRscNJ/blib/lib
C:\strawberry\cpan\build\Font-TTF-0.48-0p5z8_/blib/arch
C:\strawberry\cpan\build\Font-TTF-0.48-0p5z8_/blib/lib
C:\strawberry\cpan\build\Image-Size-3.232-Y7P3Y9/blib/arch
C:\strawberry\cpan\build\Image-Size-3.232-Y7P3Y9/blib/lib
C:/strawberry/perl/site/lib
C:/strawberry/perl/vendor/lib
C:/strawberry/perl/lib
.