Vim-Debug v0.904 Perl 5 v5.41.1 amd64-netbsd

Status
Pass
From
Carlos Guevara
Dist
Vim-Debug v0.904
Platform
Perl 5 v5.41.1 amd64-netbsd
Date
2024-06-18 10:25:43
ID
1e5f0304-2d5d-11ef-8ae8-cea8aeb72d9f
This distribution has been tested as part of the CPAN Testers
project, supporting the Perl programming language.  See
http://wiki.cpantesters.org/ for more information or email
questions to cpan-testers-discuss@perl.org


--
Dear Eric D Johnson,

This is a computer-generated report for Vim-Debug-0.904
on perl 5.41.1, created by CPAN-Reporter-1.2019.

Thank you for uploading your work to CPAN.  Congratulations!
All tests were successful.

Sections of this report:

    * Tester comments
    * Program output
    * Prerequisites
    * Environment and other context

------------------------------
TESTER COMMENTS
------------------------------

Additional comments from tester:

this report is from an automated smoke testing program
and was not reviewed by a human for accuracy

------------------------------
PROGRAM OUTPUT
------------------------------

Output from '/usr/bin/make test':

PERL_DL_NONLAZY=1 "/home/cpan/bin/perl/bin/perl5.41.1" "-MExtUtils::Command::MM" "-MTest::Harness" "-e" "undef *Test::Harness::Switches; test_harness(0, 'blib/lib', 'blib/arch')" t/*.t
t/00-compile.t ......... ok
# Prerequisite Report:
#      Version Module                     
#   ---------- ---------------------------
#         1.54 Carp                       
#         0.11 Dir::Self                  
#         7.70 ExtUtils::MakeMaker        
#         2.86 File::Basename             
#         0.45 File::Copy::Recursive      
#         1.44 File::Find                 
#         2.18 File::Path                 
#         3.91 File::Spec::Functions      
#       0.2311 File::Temp                 
#         2.58 Getopt::Long               
#         1.20 IO::Pty                    
#   20231003.0 IPC::Run                   
#         1.63 List::Util                 
#       2.2207 Moose                      
#       2.2207 Moose::Role                
#       2.2207 Moose::Util                
#         0.29 MooseX::ClassAttribute     
#         3.05 Net::Telnet                
#        1.370 POE                        
#        1.370 POE::Component::Server::TCP
#     1.302199 Test::More                 
#         0.31 Try::Tiny                  
#         1.13 strict                     
#         1.70 warnings                   
t/00-report-prereqs.t .. ok
t/perl.parseOutput.t ... ok
Unescaped left brace in regex is passed through in regex; marked by <-- HERE in m/ { <-- HERE -VDEOR-} / at t/lib/Vim/Debug/Client.pm line 68.
Unescaped left brace in regex is passed through in regex; marked by <-- HERE in m/ { <-- HERE -VDEOR-} / at t/lib/Vim/Debug/Client.pm line 68.
t/perl.stop.t .......... ok
Unescaped left brace in regex is passed through in regex; marked by <-- HERE in m/ { <-- HERE -VDEOR-} / at t/lib/Vim/Debug/Client.pm line 68.
t/perl.t ............... ok
t/pod.t ................ ok
All tests successful.
Files=6, Tests=76,  7 wallclock secs ( 0.04 usr  0.00 sys +  2.05 cusr  0.39 csys =  2.48 CPU)
Result: PASS

------------------------------
PREREQUISITES
------------------------------

Prerequisite modules loaded:

requires:

    Module                      Need Have      
    --------------------------- ---- ----------
    Carp                        0    1.54      
    Dir::Self                   0    0.11      
    File::Basename              0    2.86      
    File::Copy::Recursive       0    0.45      
    File::Path                  0    2.18      
    Getopt::Long                0    2.58      
    IO::Pty                     0    1.20      
    IPC::Run                    0    20231003.0
    Moose                       0    2.2207    
    Moose::Role                 0    2.2207    
    Moose::Util                 0    2.2207    
    MooseX::ClassAttribute      0    0.29      
    POE                         0    1.370     
    POE::Component::Server::TCP 0    1.370     
    strict                      0    1.13      
    Try::Tiny                   0    0.31      
    warnings                    0    1.70      

build_requires:

    Module                      Need Have      
    --------------------------- ---- ----------
    ExtUtils::MakeMaker         0    7.70      
    File::Find                  0    1.44      
    File::Spec::Functions       0    3.91      
    File::Temp                  0    0.2311    
    List::Util                  0    1.63      
    Net::Telnet                 0    3.05      
    Test::More                  0    1.302199  

configure_requires:

    Module                      Need Have      
    --------------------------- ---- ----------
    ExtUtils::MakeMaker         6.30 7.70      


------------------------------
ENVIRONMENT AND OTHER CONTEXT
------------------------------

Environment variables:

    AUTOMATED_TESTING = 1
    DATE_MANIP_TEST_DM5 = 1
    LC_ALL = C
    NONINTERACTIVE_TESTING = 1
    NO_NETWORK_TESTING = 1
    PATH = /home/cpan/bin/perl/bin:/home/cpan/bin:/home/cpan/bin:/bin:/sbin:/usr/bin:/usr/sbin:/usr/X11R7/bin:/usr/pkg/bin:/usr/pkg/sbin:/usr/games:/usr/local/bin:/usr/local/sbin
    PERL5LIB = 
    PERL5OPT = 
    PERL5_CPANPLUS_IS_RUNNING = 14528
    PERL5_CPAN_IS_RUNNING = 14528
    PERL_MM_USE_DEFAULT = 1
    PERL_USE_UNSAFE_INC = 1
    SHELL = /usr/pkg/bin/bash
    TERM = screen
    TMPDIR = /home/cpan/tmp

Perl special variables (and OS-specific diagnostics, for MSWin32):

    $^X = /home/cpan/bin/perl/bin/perl5.41.1
    $UID/$EUID = 1001 / 1001
    $GID = 100 100
    $EGID = 100 100

Perl module toolchain versions installed:

    Module              Have    
    ------------------- --------
    CPAN                2.36    
    CPAN::Meta          2.150010
    Cwd                 3.90    
    ExtUtils::CBuilder  0.280240
    ExtUtils::Command   7.70    
    ExtUtils::Install   2.22    
    ExtUtils::MakeMaker 7.70    
    ExtUtils::Manifest  1.75    
    ExtUtils::ParseXS   3.51    
    File::Spec          3.90    
    JSON                4.10    
    JSON::PP            4.16    
    Module::Build       0.4234  
    Module::Signature   0.88    
    Parse::CPAN::Meta   2.150010
    Test2               1.302199
    Test::Harness       3.48    
    Test::More          1.302199
    YAML                1.31    
    YAML::Syck          1.34    
    version             0.9932  


--

Summary of my perl5 (revision 5 version 41 subversion 1) configuration:
  Commit id: d06d7106c2a33ff04a79463396bd9139f41380e3
  Platform:
    osname=netbsd
    osvers=10.0
    archname=amd64-netbsd
    uname='netbsd cjg-netbsd10 10.0 netbsd 10.0 (generic) #0: thu mar 28 08:33:33 utc 2024 mkrepro@mkrepro.netbsd.org:usrsrcsysarchamd64compilegeneric amd64 '
    config_args='-des -Dprefix=/home/cpan/bin/perl -Dscriptdir=/home/cpan/bin/perl/bin -Dusedevel -Duse64bitall'
    hint=recommended
    useposix=true
    d_sigaction=define
    useithreads=undef
    usemultiplicity=undef
    use64bitint=define
    use64bitall=define
    uselongdouble=undef
    usemymalloc=n
    default_inc_excludes_dot=define
  Compiler:
    cc='cc'
    ccflags ='-fwrapv -fno-strict-aliasing -pipe -fstack-protector-strong -I/usr/pkg/include -D_FORTIFY_SOURCE=2'
    optimize='-O'
    cppflags='-fwrapv -fno-strict-aliasing -pipe -fstack-protector-strong -I/usr/pkg/include'
    ccversion=''
    gccversion='10.5.0'
    gccosandvers=''
    intsize=4
    longsize=8
    ptrsize=8
    doublesize=8
    byteorder=12345678
    doublekind=3
    d_longlong=define
    longlongsize=8
    d_longdbl=define
    longdblsize=16
    longdblkind=3
    ivtype='long'
    ivsize=8
    nvtype='double'
    nvsize=8
    Off_t='off_t'
    lseeksize=8
    alignbytes=8
    prototype=define
  Linker and Libraries:
    ld='cc'
    ldflags =' -Wl,-rpath,/usr/pkg/lib -Wl,-rpath,/usr/local/lib -fstack-protector-strong -L/usr/pkg/lib'
    libpth=/usr/lib /usr/pkg/lib /lib
    libs=-lpthread -lm -lcrypt -lutil -lc -lposix
    perllibs=-lpthread -lm -lcrypt -lutil -lc -lposix
    libc=/lib/libc.so
    so=so
    useshrplib=false
    libperl=libperl.a
    gnulibc_version=''
  Dynamic Linking:
    dlsrc=dl_dlopen.xs
    dlext=so
    d_dlsymun=undef
    ccdlflags='-Wl,-E '
    cccdlflags='-DPIC -fPIC '
    lddlflags='-shared  -L/usr/pkg/lib -fstack-protector-strong'


Characteristics of this binary (from libperl): 
  Compile-time options:
    HAS_LONG_DOUBLE
    HAS_STRTOLD
    HAS_TIMES
    PERLIO_LAYERS
    PERL_COPY_ON_WRITE
    PERL_DONT_CREATE_GVSV
    PERL_HASH_FUNC_SIPHASH13
    PERL_HASH_USE_SBOX32
    PERL_MALLOC_WRAP
    PERL_OP_PARENT
    PERL_PRESERVE_IVUV
    PERL_USE_DEVEL
    PERL_USE_SAFE_PUTENV
    USE_64_BIT_ALL
    USE_64_BIT_INT
    USE_LARGE_FILES
    USE_LOCALE
    USE_LOCALE_COLLATE
    USE_LOCALE_CTYPE
    USE_LOCALE_NUMERIC
    USE_LOCALE_TIME
    USE_PERLIO
    USE_PERL_ATOF
  Built under netbsd
  Compiled at Jun 17 2024 18:55:23
  %ENV:
    PERL5LIB=""
    PERL5OPT=""
    PERL5_CPANPLUS_IS_RUNNING="14528"
    PERL5_CPAN_IS_RUNNING="14528"
    PERL_MM_USE_DEFAULT="1"
    PERL_USE_UNSAFE_INC="1"
  @INC:
    /home/cpan/bin/perl/lib/site_perl/5.41.1/amd64-netbsd
    /home/cpan/bin/perl/lib/site_perl/5.41.1
    /home/cpan/bin/perl/lib/5.41.1/amd64-netbsd
    /home/cpan/bin/perl/lib/5.41.1
    .