AI-Prolog v0.741 Perl 5 v5.36.3 x86_64-linux-ld
- Status
- Pass
- From
- Slaven Rezić
- Dist
-
AI-Prolog v0.741
- Platform
- Perl 5 v5.36.3 x86_64-linux-ld
- Date
- 2024-01-06 17:22:07
- ID
- 1e49d6da-acb8-11ee-9a81-ec4a6e8775ea
This distribution has been tested as part of the CPAN Testers
project, supporting the Perl programming language. See
http://wiki.cpantesters.org/ for more information or email
questions to cpan-testers-discuss@perl.org
--
Dear Douglas Wilson,
This is a computer-generated report for AI-Prolog-0.741
on perl 5.36.3, created by CPAN-Reporter-1.2019.
Thank you for uploading your work to CPAN. Congratulations!
All tests were successful.
Sections of this report:
* Tester comments
* Program output
* Prerequisites
* Environment and other context
------------------------------
TESTER COMMENTS
------------------------------
Additional comments from tester:
none provided
------------------------------
PROGRAM OUTPUT
------------------------------
Output from '/usr/bin/make test':
PERL_DL_NONLAZY=1 "/opt/perl-5.36.3D/bin/perl" "-MExtUtils::Command::MM" "-MTest::Harness" "-e" "undef *Test::Harness::Switches; test_harness(0, 'blib/lib', 'blib/arch')" t/*.t
t/01pod.t ................ ok
t/05examples.t ........... ok
t/10choicepoint.t ........ ok
t/20term.t ............... ok
t/25cut.t ................ ok
t/25number.t ............. ok
t/30termlist.t ........... ok
t/35clause.t ............. ok
t/35primitive.t .......... ok
# Flesh out the Step tests when we start using this more
t/35step.t ............... ok
t/40parser.t ............. skipped: Test::MockModule required for this
t/50engine.t ............. ok
t/60aiprolog.t ........... ok
t/70builtins.t ........... skipped: Test::MockModule, Test::Differences required for this
t/80math.t ............... ok
t/80preprocessor.t ....... ok
t/80preprocessor_math.t .. ok
t/90results.t ............ ok
t/99regression.t ......... skipped: Test::MockModule, Test::Exception required for this
All tests successful.
Files=19, Tests=461, 3 wallclock secs ( 0.14 usr 0.05 sys + 3.11 cusr 0.36 csys = 3.66 CPU)
Result: PASS
------------------------------
PREREQUISITES
------------------------------
Prerequisite modules loaded:
requires:
Module Need Have
------------------- ----- ----------
aliased 0.11 0.34
Clone 0.15 0.46
Exporter::Tidy 0.06 0.08
Hash::AsObject 0.05 0.13
Hash::Util 0 0.28
Pod::Usage 1.12 2.03
Regexp::Common 2.119 2017060201
Scalar::Util 0 1.63
Term::ReadKey 2.21 2.38
Term::ReadLine 1.01 1.17
Text::Balanced 1.95 2.04
Text::Quote 0.03 0.33
build_requires:
Module Need Have
------------------- ----- ----------
ExtUtils::MakeMaker 0 7.64
configure_requires:
Module Need Have
------------------- ----- ----------
ExtUtils::MakeMaker 0 7.64
------------------------------
ENVIRONMENT AND OTHER CONTEXT
------------------------------
Environment variables:
LANG = en_US.UTF-8
PATH = /usr/local/bin:/usr/bin:/bin:/usr/local/sbin:/usr/sbin:/sbin:/home/cpansand/bin/linux-gnu:/home/cpansand/bin/sh:/home/cpansand/bin:/usr/games:/home/cpansand/devel:/home/eserte/src/srezic-misc/scripts
PERL5LIB =
PERL5OPT =
PERL5_CPANPLUS_IS_RUNNING = 297579
PERL5_CPAN_IS_RUNNING = 297579
PERL5_CPAN_IS_RUNNING_IN_RECURSION = 187789,297579
PERLDOC = -MPod::Perldoc::ToTextOverstrike
PERL_BATCH = yes
PERL_CANARY_STABILITY_NOPROMPT = 1
PERL_CPAN_REPORTER_CONFIG = /var/tmp/cpansmoker-1023/2024010614/cpanreporter_000_config.ini
PERL_EXTUTILS_AUTOINSTALL = --defaultdeps
PERL_USE_UNSAFE_INC = 1
SHELL = /usr/bin/zsh
TERM = screen
TMPDIR = /var/tmp/cpansmoker-1023/2024010614
Perl special variables (and OS-specific diagnostics, for MSWin32):
$^X = /opt/perl-5.36.3D/bin/perl
$UID/$EUID = 1023 / 1023
$GID = 1023 1023
$EGID = 1023 1023
Perl module toolchain versions installed:
Module Have
------------------- --------
CPAN 2.33
CPAN::Meta 2.150010
Cwd 3.84
ExtUtils::CBuilder 0.280236
ExtUtils::Command 7.64
ExtUtils::Install 2.20
ExtUtils::MakeMaker 7.64
ExtUtils::Manifest 1.73
ExtUtils::ParseXS 3.51
File::Spec 3.84
JSON 4.10
JSON::PP 4.07
Module::Build 0.4234
Module::Signature n/a
Parse::CPAN::Meta 2.150010
Test2 1.302190
Test::Harness 3.44
Test::More 1.302190
YAML 1.31
YAML::Syck 1.34
version 0.9929
--
Summary of my perl5 (revision 5 version 36 subversion 3) configuration:
Platform:
osname=linux
osvers=5.10.0-27-amd64
archname=x86_64-linux-ld
uname='linux cloud7.bbbike.org 5.10.0-27-amd64 #1 smp debian 5.10.205-2 (2023-12-31) x86_64 gnulinux '
config_args='-ds -e -Dprefix=/opt/perl-5.36.3D -Duselongdouble -Dcf_email=srezic@cpan.org'
hint=recommended
useposix=true
d_sigaction=define
useithreads=undef
usemultiplicity=undef
use64bitint=define
use64bitall=define
uselongdouble=define
usemymalloc=n
default_inc_excludes_dot=define
Compiler:
cc='cc'
ccflags ='-fwrapv -fno-strict-aliasing -pipe -fstack-protector-strong -I/usr/local/include -D_LARGEFILE_SOURCE -D_FILE_OFFSET_BITS=64 -D_FORTIFY_SOURCE=2'
optimize='-O2'
cppflags='-fwrapv -fno-strict-aliasing -pipe -fstack-protector-strong -I/usr/local/include'
ccversion=''
gccversion='10.2.1 20210110'
gccosandvers=''
intsize=4
longsize=8
ptrsize=8
doublesize=8
byteorder=12345678
doublekind=3
d_longlong=define
longlongsize=8
d_longdbl=define
longdblsize=16
longdblkind=3
ivtype='long'
ivsize=8
nvtype='long double'
nvsize=16
Off_t='off_t'
lseeksize=8
alignbytes=16
prototype=define
Linker and Libraries:
ld='cc'
ldflags =' -fstack-protector-strong -L/usr/local/lib'
libpth=/usr/local/lib /usr/lib/x86_64-linux-gnu /usr/lib /usr/lib64
libs=-lpthread -lnsl -lgdbm -ldb -ldl -lm -lcrypt -lutil -lc
perllibs=-lpthread -lnsl -ldl -lm -lcrypt -lutil -lc
libc=libc-2.31.so
so=so
useshrplib=false
libperl=libperl.a
gnulibc_version='2.31'
Dynamic Linking:
dlsrc=dl_dlopen.xs
dlext=so
d_dlsymun=undef
ccdlflags='-Wl,-E'
cccdlflags='-fPIC'
lddlflags='-shared -O2 -L/usr/local/lib -fstack-protector-strong'
Characteristics of this binary (from libperl):
Compile-time options:
HAS_TIMES
PERLIO_LAYERS
PERL_COPY_ON_WRITE
PERL_DONT_CREATE_GVSV
PERL_MALLOC_WRAP
PERL_OP_PARENT
PERL_PRESERVE_IVUV
USE_64_BIT_ALL
USE_64_BIT_INT
USE_LARGE_FILES
USE_LOCALE
USE_LOCALE_COLLATE
USE_LOCALE_CTYPE
USE_LOCALE_NUMERIC
USE_LOCALE_TIME
USE_LONG_DOUBLE
USE_PERLIO
USE_PERL_ATOF
Built under linux
Compiled at Jan 6 2024 13:08:42
%ENV:
PERL5LIB=""
PERL5OPT=""
PERL5_CPANPLUS_IS_RUNNING="297579"
PERL5_CPAN_IS_RUNNING="297579"
PERL5_CPAN_IS_RUNNING_IN_RECURSION="187789,297579"
PERLDOC="-MPod::Perldoc::ToTextOverstrike"
PERL_BATCH="yes"
PERL_CANARY_STABILITY_NOPROMPT="1"
PERL_CPAN_REPORTER_CONFIG="/var/tmp/cpansmoker-1023/2024010614/cpanreporter_000_config.ini"
PERL_EXTUTILS_AUTOINSTALL="--defaultdeps"
PERL_USE_UNSAFE_INC="1"
@INC:
/opt/perl-5.36.3D/lib/site_perl/5.36.3/x86_64-linux-ld
/opt/perl-5.36.3D/lib/site_perl/5.36.3
/opt/perl-5.36.3D/lib/5.36.3/x86_64-linux-ld
/opt/perl-5.36.3D/lib/5.36.3
.