Alt-Crypt-RSA-BigInt v0.06 Perl 5 v5.27.10 MSWin32-x86-multi-thread-64int

Status
Pass
From
Alexandr Ciornii (CHORNY)
Dist
Alt-Crypt-RSA-BigInt v0.06
Platform
Perl 5 v5.27.10 MSWin32-x86-multi-thread-64int
Date
2018-04-06 08:02:50
ID
1e3d50b7-6bfa-1014-80dd-1a4f7458c724
This distribution has been tested as part of the CPAN Testers
project, supporting the Perl programming language.  See
http://wiki.cpantesters.org/ for more information or email
questions to cpan-testers-discuss@perl.org


--
Dear Dana Jacobsen,

This is a computer-generated report for Alt-Crypt-RSA-BigInt-0.06
on perl 5.27.10, created by CPAN-Reporter-1.2018.

Thank you for uploading your work to CPAN.  Congratulations!
All tests were successful.

Sections of this report:

    * Tester comments
    * Program output
    * Prerequisites
    * Environment and other context

------------------------------
TESTER COMMENTS
------------------------------

Additional comments from tester:

this report is from an automated smoke testing program
and was not reviewed by a human for accuracy

------------------------------
PROGRAM OUTPUT
------------------------------

Output from 'C:\STRAWB~1\c\bin\gmake.exe test':

"C:\Strawberry2710\perl\bin\perl.exe" "-MExtUtils::Command::MM" "-MTest::Harness" "-e" "undef *Test::Harness::Switches; test_harness(0, 'blib\lib', 'blib\arch')" t/*.t
t/00-errorhandler.t ........ ok
t/01-i2osp.t ............... ok
t/02-os2ip.t ............... ok
t/02a-h2osp.t .............. ok
t/03-random_octet.t ........ ok
t/04-octet_xor.t ........... ok
t/05-primitives.t .......... ok
# BigInt library: GMP
t/06-oaep.t ................ ok
t/07-pss.t ................. ok
t/08-secretkey.t ........... ok
t/09-publickey.t ........... ok
t/10-keygen.t .............. ok
t/11-wrapper.t ............. ok
t/12-versioning.t .......... ok
t/13-es-pkcs1v15.t ......... ok
t/14-ss-pkcs1v15.t ......... ok
t/15-benchmark.t ........... ok
t/16-serialize.t ........... ok
t/17-public-ssh.t .......... ok
t/18-private-ssh.t ......... ok
t/91-release-pod-syntax.t .. skipped: these tests are for release candidate testing
All tests successful.
Files=21, Tests=117, 12 wallclock secs ( 0.08 usr +  0.13 sys =  0.21 CPU)
Result: PASS

------------------------------
PREREQUISITES
------------------------------

Prerequisite modules loaded:

requires:

    Module                 Need  Have    
    ---------------------- ----- --------
    Carp                   0     1.49    
    Class::Loader          0     2.03    
    Convert::ASCII::Armour 0     1.4     
    Crypt::Blowfish        0     2.14    
    Crypt::CBC             2.17  2.33    
    Data::Buffer           0     0.04    
    Data::Dumper           0     2.170   
    Digest::MD2            0     2.04    
    Digest::MD5            0     2.55    
    Digest::SHA            0     6.01    
    Exporter               0     5.72    
    Math::BigInt           1.78  1.999811
    Math::BigInt::GMP      0     1.6004  
    Math::Prime::Util      0.64  0.70    
    Math::Prime::Util::GMP 0     0.50    
    perl                   5.008 5.027010
    Sort::Versions         0     1.62    
    Tie::EncryptedHash     0     1.8     

build_requires:

    Module                 Need  Have    
    ---------------------- ----- --------
    Benchmark              0     1.22    
    MIME::Base64           0     3.15    
    Test::More             0.45  1.302135

configure_requires:

    Module                 Need  Have    
    ---------------------- ----- --------
    ExtUtils::MakeMaker    0     7.34    


------------------------------
ENVIRONMENT AND OTHER CONTEXT
------------------------------

Environment variables:

    AUTOMATED_TESTING = 1
    COMSPEC = C:\WINDOWS\system32\cmd.exe
    NONINTERACTIVE_TESTING = 1
    NUMBER_OF_PROCESSORS = 1
    PATH = C:\Program Files\Far Manager\;C:\WINDOWS\system32;C:\WINDOWS;C:\WINDOWS\System32\Wbem;C:\Git\cmd;C:\Strawberry2710\c\bin;C:\Strawberry2710\perl\site\bin;C:\Strawberry2710\perl\bin
    PERL5LIB = 
    PERL5OPT = 
    PERL5_CPANPLUS_IS_RUNNING = 1688
    PERL5_CPAN_IS_RUNNING = 1688
    PERL5_CPAN_IS_RUNNING_IN_RECURSION = 1588,1688
    PERL_CR_SMOKER_CURRENT = Alt::Crypt::RSA::BigInt
    PERL_EXTUTILS_AUTOINSTALL = --defaultdeps
    PERL_HASH_SEED = 0x11111111
    PERL_MM_USE_DEFAULT = 1
    PERL_USE_UNSAFE_INC = 1
    PROCESSOR_IDENTIFIER = x86 Family 16 Model 5 Stepping 3, AuthenticAMD
    TEMP = C:\DOCUME~1\a\LOCALS~1\Temp

Perl special variables (and OS-specific diagnostics, for MSWin32):

    $^X = C:\Strawberry2710\perl\bin\perl.exe
    $UID/$EUID = 0 / 0
    $GID = 0
    $EGID = 0
    Win32::GetOSName = WinXP/.Net
    Win32::GetOSVersion = Service Pack 3, 5, 1, 2600, 2, 3, 0, 256, 1
    Win32::FsType = NTFS
    Win32::IsAdminUser = 1

Perl module toolchain versions installed:

    Module              Have    
    ------------------- --------
    CPAN                2.20    
    CPAN::Meta          2.150010
    Cwd                 3.74    
    ExtUtils::CBuilder  0.280230
    ExtUtils::Command   7.34    
    ExtUtils::Install   2.14    
    ExtUtils::MakeMaker 7.34    
    ExtUtils::Manifest  1.70    
    ExtUtils::ParseXS   3.39    
    File::Spec          3.74    
    JSON                2.97001 
    JSON::PP            2.97001 
    Module::Build       0.4224  
    Module::Signature   n/a     
    Parse::CPAN::Meta   2.150010
    Test::Harness       3.42    
    Test::More          1.302135
    YAML                1.24    
    YAML::Syck          n/a     
    version             0.9918  


--

Summary of my perl5 (revision 5 version 27 subversion 10) configuration:
   
  Platform:
    osname=MSWin32
    osvers=5.1.2600
    archname=MSWin32-x86-multi-thread-64int
    uname='Win32 strawberry-perl 5.27.10.1-beta1 #1 Mon Apr  2 14:36:35 2018 i386'
    config_args='undef'
    hint=recommended
    useposix=true
    d_sigaction=undef
    useithreads=define
    usemultiplicity=define
    use64bitint=define
    use64bitall=undef
    uselongdouble=undef
    usemymalloc=n
    default_inc_excludes_dot=define
    bincompat5005=undef
  Compiler:
    cc='gcc'
    ccflags =' -s -O2 -DWIN32 -D__USE_MINGW_ANSI_STDIO -DPERL_TEXTMODE_SCRIPTS -DPERL_IMPLICIT_CONTEXT -DPERL_IMPLICIT_SYS -DUSE_PERLIO -fwrapv -fno-strict-aliasing -mms-bitfields'
    optimize='-s -O2'
    cppflags='-DWIN32'
    ccversion=''
    gccversion='7.1.0'
    gccosandvers=''
    intsize=4
    longsize=4
    ptrsize=4
    doublesize=8
    byteorder=12345678
    doublekind=3
    d_longlong=define
    longlongsize=8
    d_longdbl=define
    longdblsize=12
    longdblkind=3
    ivtype='long long'
    ivsize=8
    nvtype='double'
    nvsize=8
    Off_t='long long'
    lseeksize=8
    alignbytes=8
    prototype=define
  Linker and Libraries:
    ld='g++'
    ldflags ='-s -L"C:\STRAWB~1\perl\lib\CORE" -L"C:\STRAWB~1\c\lib"'
    libpth=C:\STRAWB~1\c\lib C:\STRAWB~1\c\i686-w64-mingw32\lib C:\STRAWB~1\c\lib\gcc\i686-w64-mingw32\7.1.0
    libs= -lmoldname -lkernel32 -luser32 -lgdi32 -lwinspool -lcomdlg32 -ladvapi32 -lshell32 -lole32 -loleaut32 -lnetapi32 -luuid -lws2_32 -lmpr -lwinmm -lversion -lodbc32 -lodbccp32 -lcomctl32
    perllibs= -lmoldname -lkernel32 -luser32 -lgdi32 -lwinspool -lcomdlg32 -ladvapi32 -lshell32 -lole32 -loleaut32 -lnetapi32 -luuid -lws2_32 -lmpr -lwinmm -lversion -lodbc32 -lodbccp32 -lcomctl32
    libc=
    so=dll
    useshrplib=true
    libperl=libperl527.a
    gnulibc_version=''
  Dynamic Linking:
    dlsrc=dl_win32.xs
    dlext=xs.dll
    d_dlsymun=undef
    ccdlflags=' '
    cccdlflags=' '
    lddlflags='-mdll -s -L"C:\STRAWB~1\perl\lib\CORE" -L"C:\STRAWB~1\c\lib"'


Characteristics of this binary (from libperl): 
  Compile-time options:
    HAS_TIMES
    HAVE_INTERP_INTERN
    MULTIPLICITY
    PERLIO_LAYERS
    PERL_COPY_ON_WRITE
    PERL_DONT_CREATE_GVSV
    PERL_IMPLICIT_CONTEXT
    PERL_IMPLICIT_SYS
    PERL_MALLOC_WRAP
    PERL_OP_PARENT
    PERL_PRESERVE_IVUV
    USE_64_BIT_INT
    USE_ITHREADS
    USE_LARGE_FILES
    USE_LOCALE
    USE_LOCALE_COLLATE
    USE_LOCALE_CTYPE
    USE_LOCALE_NUMERIC
    USE_LOCALE_TIME
    USE_PERLIO
    USE_PERL_ATOF
  Built under MSWin32
  Compiled at Apr  2 2018 14:46:21
  %ENV:
    PERL5_CPANPLUS_IS_RUNNING="1688"
    PERL5_CPAN_IS_RUNNING="1688"
    PERL5_CPAN_IS_RUNNING_IN_RECURSION="1588,1688"
    PERL_CR_SMOKER_CURRENT="Alt::Crypt::RSA::BigInt"
    PERL_EXTUTILS_AUTOINSTALL="--defaultdeps"
    PERL_HASH_SEED="0x11111111"
    PERL_MM_USE_DEFAULT="1"
    PERL_USE_UNSAFE_INC="1"
  @INC:
    C:/Strawberry2710/perl/site/lib
    C:/Strawberry2710/perl/vendor/lib
    C:/Strawberry2710/perl/lib
    .