Report for HTML-Template-Compiled-0.97

Back
From: metabase:user:0b91ce32-3676-11e1-a1bc-bfed0df65b4f
Subject: PASS HTML-Template-Compiled-0.97 v5.17.0 GNU/Linux
Date: 2012-06-04T20:16:07Z

This distribution has been tested as part of the CPAN Testers
project, supporting the Perl programming language.  See
http://wiki.cpantesters.org/ for more information or email
questions to cpan-testers-discuss@perl.org


--
Dear Tina Muller,

This is a computer-generated report for HTML-Template-Compiled-0.97
on perl 5.17.0, created by CPAN-Reporter-1.2006.

Thank you for uploading your work to CPAN.  Congratulations!
All tests were successful.

Sections of this report:

    * Tester comments
    * Program output
    * Prerequisites
    * Environment and other context

------------------------------
TESTER COMMENTS
------------------------------

Additional comments from tester:

this report is from an automated smoke testing program
and was not reviewed by a human for accuracy

------------------------------
PROGRAM OUTPUT
------------------------------

Output from '/usr/bin/make test':

PERL_DL_NONLAZY=1 /opt/perl-5.17.0/bin/perl "-MExtUtils::Command::MM" "-e" "test_harness(0, 'blib/lib', 'blib/arch')" t/*.t
[13:15:33] t/01_HTML-Template-Compiled.t .. ok     5400 ms
[13:15:33] t/02_version.t ................. ok      381 ms
[13:15:34] t/03_param.t ................... ok      349 ms
[13:15:34] t/04_out_fh.t .................. ok      519 ms
Unescaped left brace in regex is deprecated, passed through in regex; marked by <-- HERE in m/{{ <-- HERE { nomen est (\w+) }}}/ at t/05_filter.t line 9.
Unescaped left brace in regex is deprecated, passed through in regex; marked by <-- HERE in m/{{{ <-- HERE  nomen est (\w+) }}}/ at t/05_filter.t line 9.
Unescaped left brace in regex is deprecated, passed through in regex; marked by <-- HERE in m/{{ <-- HERE { iterate over (\w+) }}}/ at t/05_filter.t line 10.
Unescaped left brace in regex is deprecated, passed through in regex; marked by <-- HERE in m/{{{ <-- HERE  iterate over (\w+) }}}/ at t/05_filter.t line 10.
Unescaped left brace in regex is deprecated, passed through in regex; marked by <-- HERE in m/{{ <-- HERE { end of iterate }}}/ at t/05_filter.t line 11.
Unescaped left brace in regex is deprecated, passed through in regex; marked by <-- HERE in m/{{{ <-- HERE  end of iterate }}}/ at t/05_filter.t line 11.
Unescaped left brace in regex is deprecated, passed through in regex; marked by <-- HERE in m/{{ <-- HERE { occupy (\S+) }}}/ at t/05_filter.t line 12.
Unescaped left brace in regex is deprecated, passed through in regex; marked by <-- HERE in m/{{{ <-- HERE  occupy (\S+) }}}/ at t/05_filter.t line 12.
warning: Unescaped left brace in regex is deprecated, passed through in regex; marked by <-- HERE in m/{{ <-- HERE { nomen est (\w+) }}}/ at (eval 106) line 3.

warning: Unescaped left brace in regex is deprecated, passed through in regex; marked by <-- HERE in m/{{{ <-- HERE  nomen est (\w+) }}}/ at (eval 106) line 3.

warning: Unescaped left brace in regex is deprecated, passed through in regex; marked by <-- HERE in m/{{ <-- HERE { iterate over (\w+) }}}/ at (eval 106) line 4.

warning: Unescaped left brace in regex is deprecated, passed through in regex; marked by <-- HERE in m/{{{ <-- HERE  iterate over (\w+) }}}/ at (eval 106) line 4.

warning: Unescaped left brace in regex is deprecated, passed through in regex; marked by <-- HERE in m/{{ <-- HERE { end of iterate }}}/ at (eval 106) line 5.

warning: Unescaped left brace in regex is deprecated, passed through in regex; marked by <-- HERE in m/{{{ <-- HERE  end of iterate }}}/ at (eval 106) line 5.

warning: Unescaped left brace in regex is deprecated, passed through in regex; marked by <-- HERE in m/{{ <-- HERE { occupy (\S+) }}}/ at (eval 106) line 6.

warning: Unescaped left brace in regex is deprecated, passed through in regex; marked by <-- HERE in m/{{{ <-- HERE  occupy (\S+) }}}/ at (eval 106) line 6.

warning: Unescaped left brace in regex is deprecated, passed through in regex; marked by <-- HERE in m/{{ <-- HERE { nomen est (\w+) }}}/ at (eval 111) line 3.

warning: Unescaped left brace in regex is deprecated, passed through in regex; marked by <-- HERE in m/{{{ <-- HERE  nomen est (\w+) }}}/ at (eval 111) line 3.

warning: Unescaped left brace in regex is deprecated, passed through in regex; marked by <-- HERE in m/{{ <-- HERE { iterate over (\w+) }}}/ at (eval 111) line 4.

warning: Unescaped left brace in regex is deprecated, passed through in regex; marked by <-- HERE in m/{{{ <-- HERE  iterate over (\w+) }}}/ at (eval 111) line 4.

warning: Unescaped left brace in regex is deprecated, passed through in regex; marked by <-- HERE in m/{{ <-- HERE { end of iterate }}}/ at (eval 111) line 5.

warning: Unescaped left brace in regex is deprecated, passed through in regex; marked by <-- HERE in m/{{{ <-- HERE  end of iterate }}}/ at (eval 111) line 5.

warning: Unescaped left brace in regex is deprecated, passed through in regex; marked by <-- HERE in m/{{ <-- HERE { occupy (\S+) }}}/ at (eval 111) line 6.

warning: Unescaped left brace in regex is deprecated, passed through in regex; marked by <-- HERE in m/{{{ <-- HERE  occupy (\S+) }}}/ at (eval 111) line 6.

warning: Unescaped left brace in regex is deprecated, passed through in regex; marked by <-- HERE in m/{{ <-- HERE { nomen est (\w+) }}}/ at (eval 121) line 3.

warning: Unescaped left brace in regex is deprecated, passed through in regex; marked by <-- HERE in m/{{{ <-- HERE  nomen est (\w+) }}}/ at (eval 121) line 3.

warning: Unescaped left brace in regex is deprecated, passed through in regex; marked by <-- HERE in m/{{ <-- HERE { iterate over (\w+) }}}/ at (eval 121) line 4.

warning: Unescaped left brace in regex is deprecated, passed through in regex; marked by <-- HERE in m/{{{ <-- HERE  iterate over (\w+) }}}/ at (eval 121) line 4.

warning: Unescaped left brace in regex is deprecated, passed through in regex; marked by <-- HERE in m/{{ <-- HERE { end of iterate }}}/ at (eval 121) line 5.

warning: Unescaped left brace in regex is deprecated, passed through in regex; marked by <-- HERE in m/{{{ <-- HERE  end of iterate }}}/ at (eval 121) line 5.

warning: Unescaped left brace in regex is deprecated, passed through in regex; marked by <-- HERE in m/{{ <-- HERE { occupy (\S+) }}}/ at (eval 121) line 6.

warning: Unescaped left brace in regex is deprecated, passed through in regex; marked by <-- HERE in m/{{{ <-- HERE  occupy (\S+) }}}/ at (eval 121) line 6.

warning: Unescaped left brace in regex is deprecated, passed through in regex; marked by <-- HERE in m/{{ <-- HERE { nomen est (\w+) }}}/ at (eval 126) line 3.

warning: Unescaped left brace in regex is deprecated, passed through in regex; marked by <-- HERE in m/{{{ <-- HERE  nomen est (\w+) }}}/ at (eval 126) line 3.

warning: Unescaped left brace in regex is deprecated, passed through in regex; marked by <-- HERE in m/{{ <-- HERE { iterate over (\w+) }}}/ at (eval 126) line 4.

warning: Unescaped left brace in regex is deprecated, passed through in regex; marked by <-- HERE in m/{{{ <-- HERE  iterate over (\w+) }}}/ at (eval 126) line 4.

warning: Unescaped left brace in regex is deprecated, passed through in regex; marked by <-- HERE in m/{{ <-- HERE { end of iterate }}}/ at (eval 126) line 5.

warning: Unescaped left brace in regex is deprecated, passed through in regex; marked by <-- HERE in m/{{{ <-- HERE  end of iterate }}}/ at (eval 126) line 5.

warning: Unescaped left brace in regex is deprecated, passed through in regex; marked by <-- HERE in m/{{ <-- HERE { occupy (\S+) }}}/ at (eval 126) line 6.

warning: Unescaped left brace in regex is deprecated, passed through in regex; marked by <-- HERE in m/{{{ <-- HERE  occupy (\S+) }}}/ at (eval 126) line 6.

warning: Unescaped left brace in regex is deprecated, passed through in regex; marked by <-- HERE in m/{{ <-- HERE { nomen est (\w+) }}}/ at (eval 136) line 3.

warning: Unescaped left brace in regex is deprecated, passed through in regex; marked by <-- HERE in m/{{{ <-- HERE  nomen est (\w+) }}}/ at (eval 136) line 3.

warning: Unescaped left brace in regex is deprecated, passed through in regex; marked by <-- HERE in m/{{ <-- HERE { iterate over (\w+) }}}/ at (eval 136) line 4.

warning: Unescaped left brace in regex is deprecated, passed through in regex; marked by <-- HERE in m/{{{ <-- HERE  iterate over (\w+) }}}/ at (eval 136) line 4.

warning: Unescaped left brace in regex is deprecated, passed through in regex; marked by <-- HERE in m/{{ <-- HERE { end of iterate }}}/ at (eval 136) line 5.

warning: Unescaped left brace in regex is deprecated, passed through in regex; marked by <-- HERE in m/{{{ <-- HERE  end of iterate }}}/ at (eval 136) line 5.

warning: Unescaped left brace in regex is deprecated, passed through in regex; marked by <-- HERE in m/{{ <-- HERE { occupy (\S+) }}}/ at (eval 136) line 6.

warning: Unescaped left brace in regex is deprecated, passed through in regex; marked by <-- HERE in m/{{{ <-- HERE  occupy (\S+) }}}/ at (eval 136) line 6.

[13:15:39] t/05_filter.t .................. ok     5065 ms
[13:15:40] t/06_dyn_include.t ............. ok      695 ms
[13:15:41] t/07_formatter.t ............... ok      283 ms
[13:15:41] t/08_global_vars.t ............. ok      330 ms
[13:15:41] t/09_wrong.t ................... ok      323 ms
[13:15:42] t/10_if_else.t ................. ok      294 ms
[13:15:42] t/11_dhtml.t ................... ok      338 ms
[13:15:42] t/12_path.t .................... ok      333 ms
[13:15:43] t/13_loop.t .................... ok      627 ms
[13:15:44] t/14_scalarref.t ............... ok      750 ms
[13:15:44] t/15_comment.t ................. ok      324 ms
[13:15:45] t/16_switch.t .................. ok      316 ms
[13:15:45] t/17_escape.t .................. ok      345 ms
[13:15:45] t/18_objects.t ................. ok      340 ms
[13:15:49] t/19_query.t ................... ok     3906 ms
[13:15:50] t/20_precompile.t .............. ok      568 ms
[13:15:50] t/21_while.t ................... ok      332 ms
[13:15:51] t/22_pod.t ..................... ok      932 ms
[13:15:51] t/23_tagstyles.t ............... ok      322 ms
# HTML::Template::Compiled::Plugin::DHTML: no public symbols defined
[13:15:52] t/24_pod_cover.t ............... ok      624 ms
[13:15:54] t/26_expr.t .................... ok     1565 ms
[13:15:54] t/27_chomp.t ................... ok      300 ms
[13:15:55] t/28_perl.t .................... ok      358 ms
[13:15:55] t/29_encoding.t ................ ok      529 ms
[13:15:55] t/30_arrays.t .................. ok      323 ms
[13:15:56] t/31_recurse.t ................. ok      410 ms
[13:15:56] t/32_compile_plugin.t .......... ok      334 ms
[13:15:57] t/33_plugins.t ................. ok      341 ms
[13:15:57] t/34_loop_context_vars.t ....... ok      389 ms
[13:15:58] t/35_debug.t ................... ok      576 ms
[13:15:58] t/36_default.t ................. ok      298 ms
[13:15:58] t/37_with.t .................... ok      279 ms
[13:15:59] t/38_vars.t .................... ok      309 ms
[13:16:00] t/39_number_format.t ........... ok     1395 ms
[13:16:00]
All tests successful.
Files=38, Tests=218, 33 wallclock secs ( 0.46 usr  0.07 sys + 16.91 cusr  1.23 csys = 18.67 CPU)
Result: PASS

------------------------------
PREREQUISITES
------------------------------

Prerequisite modules loaded:

requires:

    Module              Need Have
    ------------------- ---- ----
    Carp                0    1.25
    Digest::MD5         0    2.51
    File::Basename      0    2.84
    File::Spec          0    3.33
    Test::More          0    0.98

build_requires:

    Module              Need Have
    ------------------- ---- ----
    ExtUtils::MakeMaker 0    6.62

configure_requires:

    Module              Need Have
    ------------------- ---- ----
    Module::Build       0    0.40


------------------------------
ENVIRONMENT AND OTHER CONTEXT
------------------------------

Environment variables:

    AUTOMATED_TESTING = 1
    LANG = en_US.UTF-8
    PATH = /usr/kerberos/sbin:/usr/kerberos/bin:/usr/local/sbin:/usr/local/bin:/sbin:/bin:/usr/sbin:/usr/bin:/opt/real/RealPlayer:/root/bin:/opt/real/RealPlayer
    PERL5LIB = 
    PERL5OPT = 
    PERL5_CPANPLUS_IS_RUNNING = 30639
    PERL5_CPAN_IS_RUNNING = 30639
    PERL_AUTOINSTALL = defaultdeps
    PERL_EXTUTILS_AUTOINSTALL = --defaultdeps
    PERL_MM_USE_DEFAULT = 1
    SHELL = /bin/bash
    TERM = xterm

Perl special variables (and OS-specific diagnostics, for MSWin32):

    $^X = /opt/perl-5.17.0/bin/perl
    $UID/$EUID = 0 / 0
    $GID = 0 0 1 2 3 4 6 10
    $EGID = 0 0 1 2 3 4 6 10

Perl module toolchain versions installed:

    Module              Have    
    ------------------- --------
    CPAN                1.9800  
    CPAN::Meta          2.120921
    Cwd                 3.33    
    ExtUtils::CBuilder  0.280205
    ExtUtils::Command   1.17    
    ExtUtils::Install   1.54    
    ExtUtils::MakeMaker 6.62    
    ExtUtils::Manifest  1.60    
    ExtUtils::ParseXS   3.15    
    File::Spec          3.33    
    JSON                2.53    
    JSON::PP            2.27200 
    Module::Build       0.40    
    Module::Signature   0.68    
    Parse::CPAN::Meta   1.4404  
    Test::Harness       3.23    
    Test::More          0.98    
    YAML                0.81    
    YAML::Syck          1.20    
    version             0.99    


--

Summary of my perl5 (revision 5 version 17 subversion 0) configuration:
   
  Platform:
    osname=linux, osvers=2.6.18-1.2798.fc6, archname=i686-linux-thread-multi-64int-ld
    uname='linux localhost.localdomain 2.6.18-1.2798.fc6 #1 smp mon oct 16 14:37:32 edt 2006 i686 i686 i386 gnulinux '
    config_args='-Dcc=gcc -Dprefix=/opt/perl-5.17.0 -DDEBUGGING'
    hint=recommended, useposix=true, d_sigaction=define
    useithreads=define, usemultiplicity=define
    useperlio=define, d_sfio=undef, uselargefiles=define, usesocks=undef
    use64bitint=define, use64bitall=undef, uselongdouble=define
    usemymalloc=y, bincompat5005=undef
  Compiler:
    cc='gcc', ccflags ='-D_REENTRANT -D_GNU_SOURCE -DDEBUGGING -fno-strict-aliasing -pipe -fstack-protector -I/usr/local/include -D_LARGEFILE_SOURCE -D_FILE_OFFSET_BITS=64',
    optimize='-O2 -g',
    cppflags='-D_REENTRANT -D_GNU_SOURCE -DDEBUGGING -fno-strict-aliasing -pipe -fstack-protector -I/usr/local/include'
    ccversion='', gccversion='4.1.1 20061011 (Red Hat 4.1.1-30)', gccosandvers=''
    intsize=4, longsize=4, ptrsize=4, doublesize=8, byteorder=12345678
    d_longlong=define, longlongsize=8, d_longdbl=define, longdblsize=12
    ivtype='long long', ivsize=8, nvtype='long double', nvsize=12, Off_t='off_t', lseeksize=8
    alignbytes=4, prototype=define
  Linker and Libraries:
    ld='gcc', ldflags =' -fstack-protector -L/usr/local/lib'
    libpth=/usr/local/lib /lib /usr/lib
    libs=-lnsl -lgdbm -ldb -ldl -lm -lcrypt -lutil -lpthread -lc
    perllibs=-lnsl -ldl -lm -lcrypt -lutil -lpthread -lc
    libc=/lib/libc-2.5.so, so=so, useshrplib=true, libperl=libperl.so
    gnulibc_version='2.5'
  Dynamic Linking:
    dlsrc=dl_dlopen.xs, dlext=so, d_dlsymun=undef, ccdlflags='-Wl,-E -Wl,-rpath,/opt/perl-5.17.0/lib/5.17.0/i686-linux-thread-multi-64int-ld/CORE'
    cccdlflags='-fPIC', lddlflags='-shared -O2 -g -L/usr/local/lib -fstack-protector'


Characteristics of this binary (from libperl): 
  Compile-time options: DEBUGGING HAS_TIMES MULTIPLICITY MYMALLOC
                        PERLIO_LAYERS PERL_DONT_CREATE_GVSV
                        PERL_IMPLICIT_CONTEXT PERL_MALLOC_WRAP
                        PERL_PRESERVE_IVUV PERL_TRACK_MEMPOOL USE_64_BIT_INT
                        USE_FAST_STDIO USE_ITHREADS USE_LARGE_FILES
                        USE_LOCALE USE_LOCALE_COLLATE USE_LOCALE_CTYPE
                        USE_LOCALE_NUMERIC USE_LONG_DOUBLE USE_PERLIO
                        USE_PERL_ATOF USE_REENTRANT_API
  Built under linux
  Compiled at May 28 2012 07:04:07
  %ENV:
    PERL5LIB=""
    PERL5OPT=""
    PERL5_CPANPLUS_IS_RUNNING="30639"
    PERL5_CPAN_IS_RUNNING="30639"
    PERL_AUTOINSTALL="defaultdeps"
    PERL_EXTUTILS_AUTOINSTALL="--defaultdeps"
    PERL_MM_USE_DEFAULT="1"
  @INC:
    /opt/perl-5.17.0/lib/site_perl/5.17.0/i686-linux-thread-multi-64int-ld
    /opt/perl-5.17.0/lib/site_perl/5.17.0
    /opt/perl-5.17.0/lib/5.17.0/i686-linux-thread-multi-64int-ld
    /opt/perl-5.17.0/lib/5.17.0
    .