Report for HPC-Runner-Command-3.2.7

Back
From: metabase:user:314402c4-2aae-11df-837a-5e0a49663a4f
Subject: PASS HPC-Runner-Command-3.2.7 v5.22.2 FreeBSD
Date: 2017-07-07T10:22:02Z

This distribution has been tested as part of the CPAN Testers
project, supporting the Perl programming language.  See
http://wiki.cpantesters.org/ for more information or email
questions to cpan-testers-discuss@perl.org


--
Dear Jillian Rowe,

This is a computer-generated report for HPC-Runner-Command-3.2.7
on perl 5.22.2, created by CPAN-Reporter-1.2018.

Thank you for uploading your work to CPAN.  Congratulations!
All tests were successful.

Sections of this report:

    * Tester comments
    * Program output
    * Prerequisites
    * Environment and other context

------------------------------
TESTER COMMENTS
------------------------------

Additional comments from tester:

none provided

------------------------------
PROGRAM OUTPUT
------------------------------

Output from './Build test':

t/author-pod-syntax.t .. skipped: these tests are for testing by the author
t/basic.t .............. ok
[2017/07/07 12:18:34] There are uncommited files in your repo!
	We will try to commit these files before running. 
[2017/07/07 12:18:34] Files were commited to git 
[2017/07/07 12:18:34] Loaded plugin Slurm 
[2017/07/07 12:18:34] There are uncommited files in your repo!
	We will try to commit these files before running. 
[2017/07/07 12:18:34] Files were commited to git 
INFO - Project: my_new_project Initialized...
INFO - Git repo successfully initialized : : Leeres Git-Repository in /var/tmp/cpansmoker-1023/2017070712/hpcrunnerklkFoP1/my_new_project/.git/ initialisiert

INFO - Added .gitignore...: 
INFO - By default ./data and ./hpcrunner are added to your git ignore.
INFO - Setup complete!
        # In Test001
t/test_class_tests.t ... ok
All tests successful.
Files=3, Tests=2, 13 wallclock secs ( 0.00 usr  0.03 sys +  0.96 cusr  1.73 csys =  2.73 CPU)
Result: PASS

------------------------------
PREREQUISITES
------------------------------

Prerequisite modules loaded:

requires:

    Module                                   Need  Have    
    ---------------------------------------- ----- --------
    Algorithm::Dependency::Ordered           0     1.110   
    Algorithm::Dependency::Source::HoA       0     1.110   
    Archive::Tar                             0     2.24    
    Array::Compare                           0     3.0.0   
    Cwd                                      0     3.62    
    Data::Dumper                             0     2.161   
    Data::UUID                               0     1.221   
    DateTime                                 0     1.42    
    DateTime::Format::Duration               0     1.04    
    DBM::Deep                                0     2.0013  
    File::Basename                           0     2.85    
    File::Copy                               0     2.30    
    File::Find::Rule                         0     0.34    
    File::Path                               0     2.13    
    File::Slurp                              0     9999.19 
    File::Spec                               0     3.62    
    File::stat                               0     1.07    
    File::Temp                               0     0.2304  
    Git::Wrapper                             0     0.047   
    Git::Wrapper::Plus::Branches             0     0.004010
    Git::Wrapper::Plus::Ref::Tag             0     0.004010
    Git::Wrapper::Plus::Tags                 0     0.004010
    HPC::Runner::Command::Utils::ManyConfigs 0     0.03    
    IO::Dir                                  0     1.10    
    IO::File                                 0     1.16    
    IO::Interactive                          0     1.022   
    IO::Select                               0     1.22    
    IPC::Cmd                                 0     0.96    
    IPC::Open3                               0     1.18    
    JSON                                     0     2.94    
    JSON::XS                                 0     3.03    
    List::MoreUtils                          0     0.419   
    List::Uniq                               0     0.20    
    List::Util                               0     1.48    
    Log::Log4perl                            0     1.49    
    MCE                                      0     1.829   
    MCE::Queue                               0     1.829   
    Memoize                                  0     1.03    
    Moose                                    0     2.2005  
    Moose::Role                              0     2.2005  
    Moose::Util                              0     2.2005  
    Moose::Util::TypeConstraints             0     2.2005  
    MooseX::App                              0     1.38    
    MooseX::App::Command                     0     0       
    MooseX::App::Role                        0     0       
    MooseX::App::Role::Log4perl              0     0.03    
    MooseX::Object::Pluggable                0     0.0014  
    MooseX::Types                            0     0.50    
    MooseX::Types::Moose                     0     0.50    
    MooseX::Types::Path::Tiny                0     0.011   
    namespace::autoclean                     0     0.28    
    Number::Bytes::Human                     0     0.10    
    Path::Tiny                               0     0.104   
    perl                                     5.010 5.022002
    POSIX                                    0     1.53_01 
    Sort::Versions                           0     1.62    
    Storable                                 0     2.53_01 
    strict                                   0     1.09    
    String::Approx                           0     3.27    
    Symbol                                   0     1.07    
    Sys::Hostname                            0     1.20    
    Template                                 0     2.26    
    Text::ASCIITable                         0     0.20    
    Time::HiRes                              0     1.9741  
    Try::Tiny                                0     0.28    
    utf8                                     0     1.17    
    Version::Next                            0     1.000   
    warnings                                 0     1.34    
    YAML::XS                                 0     0.65    

build_requires:

    Module                                   Need  Have    
    ---------------------------------------- ----- --------
    Algorithm::Dependency                    0     1.110   
    Capture::Tiny                            0     0.46    
    File::Spec::Functions                    0     3.62    
    FindBin                                  0     1.51    
    Slurp                                    0     0.4     
    Test::Class::Moose                       0     0.83    
    Test::Class::Moose::Load                 0     0.83    
    Test::Class::Moose::Runner               0     0.83    
    Test::More                               0     1.302086
    Text::Diff                               0     1.44    

configure_requires:

    Module                                   Need  Have    
    ---------------------------------------- ----- --------
    Module::Build::Tiny                      0.034 0.039   


------------------------------
ENVIRONMENT AND OTHER CONTEXT
------------------------------

Environment variables:

    LC_ALL = de_DE.ISO8859-1
    PATH = /usr/local/bin:/usr/bin:/bin:/usr/local/sbin:/usr/sbin:/sbin:/home/cpansand/bin/freebsd10.3:/home/cpansand/bin/sh:/home/cpansand/bin:/usr/games:/home/cpansand/devel:/home/eserte/src/srezic-misc/scripts
    PERL5LIB = 
    PERL5OPT = 
    PERL5_CPANPLUS_IS_RUNNING = 55527
    PERL5_CPAN_IS_RUNNING = 55527
    PERL5_CPAN_IS_RUNNING_IN_RECURSION = 55488,55527
    PERLDOC = -MPod::Perldoc::ToTextOverstrike
    PERL_BATCH = yes
    PERL_CANARY_STABILITY_NOPROMPT = 1
    PERL_CPAN_REPORTER_CONFIG = /var/tmp/cpansmoker-1023/2017070712/cpanreporter_000_config.ini
    PERL_EXTUTILS_AUTOINSTALL = --defaultdeps
    SHELL = /usr/local/bin/zsh
    TERM = screen
    TMPDIR = /var/tmp/cpansmoker-1023/2017070712

Perl special variables (and OS-specific diagnostics, for MSWin32):

    $^X = /usr/perl5.22.2p/bin/perl5.22.2
    $UID/$EUID = 1023 / 1023
    $GID = 1023 1023
    $EGID = 1023 1023

Perl module toolchain versions installed:

    Module              Have    
    ------------------- --------
    CPAN                2.16    
    CPAN::Meta          2.150010
    Cwd                 3.62    
    ExtUtils::CBuilder  0.280224
    ExtUtils::Command   7.28    
    ExtUtils::Install   2.14    
    ExtUtils::MakeMaker 7.28    
    ExtUtils::Manifest  1.70    
    ExtUtils::ParseXS   3.28    
    File::Spec          3.62    
    JSON                2.94    
    JSON::PP            2.27400 
    Module::Build       0.4222  
    Module::Signature   0.81    
    Parse::CPAN::Meta   2.150010
    Test::Harness       3.38    
    Test::More          1.302086
    YAML                1.23    
    YAML::Syck          1.29    
    version             0.9917  


--

Summary of my perl5 (revision 5 version 22 subversion 2) configuration:
   
  Platform:
    osname=freebsd, osvers=10.1-release, archname=amd64-freebsd
    uname='freebsd cvrsnica-freebsd-101.herceg.de 10.1-release freebsd 10.1-release #0 r274401: tue nov 11 21:02:49 utc 2014 root@releng1.nyi.freebsd.org:usrobjusrsrcsysgeneric amd64 '
    config_args='-ds -e -Dprefix=/usr/perl5.22.2p -Dcf_email=srezic@cpan.org -Doptimize=-O2 -pipe'
    hint=recommended, useposix=true, d_sigaction=define
    useithreads=undef, usemultiplicity=undef
    use64bitint=define, use64bitall=define, uselongdouble=undef
    usemymalloc=n, bincompat5005=undef
  Compiler:
    cc='cc', ccflags ='-DHAS_FPSETMASK -DHAS_FLOATINGPOINT_H -fno-strict-aliasing -pipe -fstack-protector -I/usr/local/include -D_FORTIFY_SOURCE=2',
    optimize='-O2 -pipe',
    cppflags='-DHAS_FPSETMASK -DHAS_FLOATINGPOINT_H -fno-strict-aliasing -pipe -fstack-protector -I/usr/local/include'
    ccversion='', gccversion='4.2.1 Compatible FreeBSD Clang 3.4.1 (tags/RELEASE_34/dot1-final 208032)', gccosandvers=''
    intsize=4, longsize=8, ptrsize=8, doublesize=8, byteorder=12345678, doublekind=3
    d_longlong=define, longlongsize=8, d_longdbl=define, longdblsize=16, longdblkind=3
    ivtype='long', ivsize=8, nvtype='double', nvsize=8, Off_t='off_t', lseeksize=8
    alignbytes=8, prototype=define
  Linker and Libraries:
    ld='cc', ldflags ='-pthread -Wl,-E  -fstack-protector -L/usr/local/lib'
    libpth=/usr/lib /usr/local/lib /usr/include/clang/3.4.1 /usr/lib
    libs=-lpthread -lgdbm -lm -lcrypt -lutil -lc
    perllibs=-lpthread -lm -lcrypt -lutil -lc
    libc=, so=so, useshrplib=false, libperl=libperl.a
    gnulibc_version=''
  Dynamic Linking:
    dlsrc=dl_dlopen.xs, dlext=so, d_dlsymun=undef, ccdlflags=' '
    cccdlflags='-DPIC -fPIC', lddlflags='-shared  -L/usr/local/lib -fstack-protector'


Characteristics of this binary (from libperl): 
  Compile-time options: HAS_TIMES PERLIO_LAYERS PERL_DONT_CREATE_GVSV
                        PERL_HASH_FUNC_ONE_AT_A_TIME_HARD PERL_MALLOC_WRAP
                        PERL_NEW_COPY_ON_WRITE PERL_PRESERVE_IVUV
                        USE_64_BIT_ALL USE_64_BIT_INT USE_LARGE_FILES
                        USE_LOCALE USE_LOCALE_COLLATE USE_LOCALE_CTYPE
                        USE_LOCALE_NUMERIC USE_LOCALE_TIME USE_PERLIO
                        USE_PERL_ATOF
  Built under freebsd
  Compiled at May 29 2016 23:34:36
  %ENV:
    PERL5LIB=""
    PERL5OPT=""
    PERL5_CPANPLUS_IS_RUNNING="55527"
    PERL5_CPAN_IS_RUNNING="55527"
    PERL5_CPAN_IS_RUNNING_IN_RECURSION="55488,55527"
    PERLDOC="-MPod::Perldoc::ToTextOverstrike"
    PERL_BATCH="yes"
    PERL_CANARY_STABILITY_NOPROMPT="1"
    PERL_CPAN_REPORTER_CONFIG="/var/tmp/cpansmoker-1023/2017070712/cpanreporter_000_config.ini"
    PERL_EXTUTILS_AUTOINSTALL="--defaultdeps"
  @INC:
    /usr/perl5.22.2p/lib/site_perl/5.22.2/amd64-freebsd
    /usr/perl5.22.2p/lib/site_perl/5.22.2
    /usr/perl5.22.2p/lib/5.22.2/amd64-freebsd
    /usr/perl5.22.2p/lib/5.22.2
    .