Dancer2-Plugin-ParamTypes v0.006 Perl 5 v5.24.0 amd64-freebsd

Status
Pass
From
Slaven Rezić (SREZIC)
Dist
Dancer2-Plugin-ParamTypes v0.006
Platform
Perl 5 v5.24.0 amd64-freebsd
Date
2019-04-22 15:55:57
ID
1e1e8a2c-6517-11e9-86b0-9a751f24ea8f
This distribution has been tested as part of the CPAN Testers
project, supporting the Perl programming language.  See
http://wiki.cpantesters.org/ for more information or email
questions to cpan-testers-discuss@perl.org


--
Dear Sawyer X,

This is a computer-generated report for Dancer2-Plugin-ParamTypes-0.006
on perl 5.24.0, created by CPAN-Reporter-1.2018.

Thank you for uploading your work to CPAN.  Congratulations!
All tests were successful.

Sections of this report:

    * Tester comments
    * Program output
    * Prerequisites
    * Environment and other context

------------------------------
TESTER COMMENTS
------------------------------

Additional comments from tester:

none provided

------------------------------
PROGRAM OUTPUT
------------------------------

Output from '/usr/bin/make test':

PERL_DL_NONLAZY=1 "/usr/perl5.24.0p/bin/perl5.24.0" "-MExtUtils::Command::MM" "-MTest::Harness" "-e" "undef *Test::Harness::Switches; test_harness(0, 'blib/lib', 'blib/arch')" t/*.t
t/00-compile.t ......... ok
# 
# Versions for all modules listed in MYMETA.json (including optional ones):
# 
# === Configure Requires ===
# 
#     Module                Want Have
#     ------------------- ------ ----
#     ExtUtils::MakeMaker 7.1101 7.34
# 
# === Build Requires ===
# 
#     Module              Want Have
#     ------------------- ---- ----
#     ExtUtils::MakeMaker  any 7.34
# 
# === Test Requires ===
# 
#     Module                Want     Have
#     --------------------- ---- --------
#     ExtUtils::MakeMaker    any     7.34
#     File::Spec             any     3.75
#     HTTP::Request::Common  any     6.16
#     IO::Handle             any     1.39
#     IPC::Open3             any     1.20
#     Plack::Test            any    undef
#     Test::Memory::Cycle    any     1.06
#     Test::More             any 1.302162
# 
# === Test Recommends ===
# 
#     Module         Want     Have
#     ---------- -------- --------
#     CPAN::Meta 2.120900 2.150010
# 
# === Test Suggests ===
# 
#     Module                       Want Have
#     ---------------------------- ---- ----
#     MooX::Types::MooseLike::Base  any 0.29
# 
# === Runtime Requires ===
# 
#     Module    Want     Have
#     --------- ---- --------
#     Dancer2    any 0.206000
#     Ref::Util  any    0.204
#     constant   any     1.33
# 
t/00-report-prereqs.t .. ok
t/author-no-tabs.t ..... skipped: these tests are for testing by the author
t/author-pod-syntax.t .. skipped: these tests are for testing by the author
WWW::Form::UrlEncoded::XS 0.25 is require. fallback to PP version at /usr/perl5.24.0p/lib/site_perl/5.24.0/amd64-freebsd/WWW/Form/UrlEncoded.pm line 17.
t/basic.t .............. ok
WWW::Form::UrlEncoded::XS 0.25 is require. fallback to PP version at /usr/perl5.24.0p/lib/site_perl/5.24.0/amd64-freebsd/WWW/Form/UrlEncoded.pm line 17.
t/memleak.t ............ ok
WWW::Form::UrlEncoded::XS 0.25 is require. fallback to PP version at /usr/perl5.24.0p/lib/site_perl/5.24.0/amd64-freebsd/WWW/Form/UrlEncoded.pm line 17.
t/moox.t ............... ok
WWW::Form::UrlEncoded::XS 0.25 is require. fallback to PP version at /usr/perl5.24.0p/lib/site_perl/5.24.0/amd64-freebsd/WWW/Form/UrlEncoded.pm line 17.
t/multiple-sources.t ... ok
WWW::Form::UrlEncoded::XS 0.25 is require. fallback to PP version at /usr/perl5.24.0p/lib/site_perl/5.24.0/amd64-freebsd/WWW/Form/UrlEncoded.pm line 17.
t/optional.t ........... ok
WWW::Form::UrlEncoded::XS 0.25 is require. fallback to PP version at /usr/perl5.24.0p/lib/site_perl/5.24.0/amd64-freebsd/WWW/Form/UrlEncoded.pm line 17.
t/plugin.t ............. ok
t/release-distmeta.t ... skipped: these tests are for release candidate testing
WWW::Form::UrlEncoded::XS 0.25 is require. fallback to PP version at /usr/perl5.24.0p/lib/site_perl/5.24.0/amd64-freebsd/WWW/Form/UrlEncoded.pm line 17.
t/type-action.t ........ ok
All tests successful.
Files=12, Tests=18,  5 wallclock secs ( 0.01 usr  0.09 sys +  0.60 cusr  2.44 csys =  3.13 CPU)
Result: PASS

------------------------------
PREREQUISITES
------------------------------

Prerequisite modules loaded:

requires:

    Module                Need   Have    
    --------------------- ------ --------
    constant              0      1.33    
    Dancer2               0      0.206000
    perl                  5.008  5.024000
    Ref::Util             0      0.204   

build_requires:

    Module                Need   Have    
    --------------------- ------ --------
    ExtUtils::MakeMaker   0      7.34    
    File::Spec            0      3.75    
    HTTP::Request::Common 0      6.16    
    IO::Handle            0      1.39    
    IPC::Open3            0      1.20    
    Plack::Test           0      0       
    Test::Memory::Cycle   0      1.06    
    Test::More            0      1.302162

configure_requires:

    Module                Need   Have    
    --------------------- ------ --------
    ExtUtils::MakeMaker   7.1101 7.34    


------------------------------
ENVIRONMENT AND OTHER CONTEXT
------------------------------

Environment variables:

    LC_ALL = de_DE.ISO8859-1
    PATH = /usr/local/bin:/usr/bin:/bin:/usr/local/sbin:/usr/sbin:/sbin:/home/cpansand/bin/freebsd10.3:/home/cpansand/bin/sh:/home/cpansand/bin:/usr/games:/home/cpansand/devel:/home/eserte/src/srezic-misc/scripts
    PERL5LIB = 
    PERL5OPT = 
    PERL5_CPANPLUS_IS_RUNNING = 98263
    PERL5_CPAN_IS_RUNNING = 98263
    PERL5_CPAN_IS_RUNNING_IN_RECURSION = 86461,98263
    PERLDOC = -MPod::Perldoc::ToTextOverstrike
    PERL_BATCH = yes
    PERL_CANARY_STABILITY_NOPROMPT = 1
    PERL_CPAN_REPORTER_CONFIG = /var/tmp/cpansmoker-1023/2019042216/cpanreporter_000_config.ini
    PERL_EXTUTILS_AUTOINSTALL = --defaultdeps
    SHELL = /usr/local/bin/zsh
    TERM = screen
    TMPDIR = /var/tmp/cpansmoker-1023/2019042216

Perl special variables (and OS-specific diagnostics, for MSWin32):

    $^X = /usr/perl5.24.0p/bin/perl5.24.0
    $UID/$EUID = 1023 / 1023
    $GID = 1023 1023
    $EGID = 1023 1023

Perl module toolchain versions installed:

    Module              Have    
    ------------------- --------
    CPAN                2.16    
    CPAN::Meta          2.150010
    Cwd                 3.75    
    ExtUtils::CBuilder  0.280231
    ExtUtils::Command   7.34    
    ExtUtils::Install   2.14    
    ExtUtils::MakeMaker 7.34    
    ExtUtils::Manifest  1.70    
    ExtUtils::ParseXS   3.35    
    File::Spec          3.75    
    JSON                2.97001 
    JSON::PP            2.97001 
    Module::Build       0.4229  
    Module::Signature   0.83    
    Parse::CPAN::Meta   2.150010
    Test::Harness       3.42    
    Test::More          1.302162
    YAML                1.27    
    YAML::Syck          1.30    
    version             0.9924  


--

Summary of my perl5 (revision 5 version 24 subversion 0) configuration:
   
  Platform:
    osname=freebsd, osvers=10.1-release, archname=amd64-freebsd
    uname='freebsd cvrsnica-freebsd-101.herceg.de 10.1-release freebsd 10.1-release #0 r274401: tue nov 11 21:02:49 utc 2014 root@releng1.nyi.freebsd.org:usrobjusrsrcsysgeneric amd64 '
    config_args='-ds -e -Dprefix=/usr/perl5.24.0p -Dcf_email=srezic@cpan.org -Doptimize=-O2 -pipe'
    hint=recommended, useposix=true, d_sigaction=define
    useithreads=undef, usemultiplicity=undef
    use64bitint=define, use64bitall=define, uselongdouble=undef
    usemymalloc=n, bincompat5005=undef
  Compiler:
    cc='cc', ccflags ='-DHAS_FPSETMASK -DHAS_FLOATINGPOINT_H -fno-strict-aliasing -pipe -fstack-protector -I/usr/local/include -D_FORTIFY_SOURCE=2',
    optimize='-O2 -pipe',
    cppflags='-DHAS_FPSETMASK -DHAS_FLOATINGPOINT_H -fno-strict-aliasing -pipe -fstack-protector -I/usr/local/include'
    ccversion='', gccversion='4.2.1 Compatible FreeBSD Clang 3.4.1 (tags/RELEASE_34/dot1-final 208032)', gccosandvers=''
    intsize=4, longsize=8, ptrsize=8, doublesize=8, byteorder=12345678, doublekind=3
    d_longlong=define, longlongsize=8, d_longdbl=define, longdblsize=16, longdblkind=3
    ivtype='long', ivsize=8, nvtype='double', nvsize=8, Off_t='off_t', lseeksize=8
    alignbytes=8, prototype=define
  Linker and Libraries:
    ld='cc', ldflags ='-pthread -Wl,-E  -fstack-protector -L/usr/local/lib'
    libpth=/usr/lib /usr/local/lib /usr/include/clang/3.4.1 /usr/lib
    libs=-lpthread -lgdbm -lm -lcrypt -lutil -lc
    perllibs=-lpthread -lm -lcrypt -lutil -lc
    libc=, so=so, useshrplib=false, libperl=libperl.a
    gnulibc_version=''
  Dynamic Linking:
    dlsrc=dl_dlopen.xs, dlext=so, d_dlsymun=undef, ccdlflags=' '
    cccdlflags='-DPIC -fPIC', lddlflags='-shared  -L/usr/local/lib -fstack-protector'


Characteristics of this binary (from libperl): 
  Compile-time options: HAS_TIMES PERLIO_LAYERS PERL_COPY_ON_WRITE
                        PERL_DONT_CREATE_GVSV
                        PERL_HASH_FUNC_ONE_AT_A_TIME_HARD PERL_MALLOC_WRAP
                        PERL_PRESERVE_IVUV USE_64_BIT_ALL USE_64_BIT_INT
                        USE_LARGE_FILES USE_LOCALE USE_LOCALE_COLLATE
                        USE_LOCALE_CTYPE USE_LOCALE_NUMERIC USE_LOCALE_TIME
                        USE_PERLIO USE_PERL_ATOF
  Built under freebsd
  Compiled at May 10 2016 08:49:38
  %ENV:
    PERL5LIB=""
    PERL5OPT=""
    PERL5_CPANPLUS_IS_RUNNING="98263"
    PERL5_CPAN_IS_RUNNING="98263"
    PERL5_CPAN_IS_RUNNING_IN_RECURSION="86461,98263"
    PERLDOC="-MPod::Perldoc::ToTextOverstrike"
    PERL_BATCH="yes"
    PERL_CANARY_STABILITY_NOPROMPT="1"
    PERL_CPAN_REPORTER_CONFIG="/var/tmp/cpansmoker-1023/2019042216/cpanreporter_000_config.ini"
    PERL_EXTUTILS_AUTOINSTALL="--defaultdeps"
  @INC:
    /usr/perl5.24.0p/lib/site_perl/5.24.0/amd64-freebsd
    /usr/perl5.24.0p/lib/site_perl/5.24.0
    /usr/perl5.24.0p/lib/5.24.0/amd64-freebsd
    /usr/perl5.24.0p/lib/5.24.0
    .