Test-HTML-Content v0.13 Perl 5 v5.36.3 aarch64-linux

Status
Pass
From
Slaven Rezić
Dist
Test-HTML-Content v0.13
Platform
Perl 5 v5.36.3 aarch64-linux
Date
2024-08-15 20:44:07
ID
1e16386e-5b47-11ef-b2dd-c2076e8775ea
This distribution has been tested as part of the CPAN Testers
project, supporting the Perl programming language.  See
http://wiki.cpantesters.org/ for more information or email
questions to cpan-testers-discuss@perl.org


--
Dear Max Maischein,

This is a computer-generated report for Test-HTML-Content-0.13
on perl 5.36.3, created by CPAN-Reporter-1.2019.

Thank you for uploading your work to CPAN.  Congratulations!
All tests were successful.

Sections of this report:

    * Tester comments
    * Program output
    * Prerequisites
    * Environment and other context

------------------------------
TESTER COMMENTS
------------------------------

Additional comments from tester:

none provided

------------------------------
PROGRAM OUTPUT
------------------------------

Output from '/usr/bin/make test':

PERL_DL_NONLAZY=1 "/opt/perl-5.36.3/bin/perl" "-MExtUtils::Command::MM" "-MTest::Harness" "-e" "undef *Test::Harness::Switches; test_harness(0, 'blib/lib', 'blib/arch')" t/00-load.t t/00-prerequisites.t t/01-fallback-libxml.t t/01-fallback-pureperl.t t/01-fallback-xpath.t t/01-internal-api.t t/01-libxml-xpath-abstraction.t t/01-xpath-query-builder.t t/02-tags.t t/03-links.t t/04-comments.t t/05-doctype.t t/06-text.t t/07-errors.link.t t/08-errors.comment.t t/09-errors.declaration.t t/09-errors.xpath.t t/10-errors.text.t t/12-title-fallback.t t/12-title.t t/13-xpath-gracefull-errors.t t/embedded-Test-HTML-Content-NoXPath.t t/embedded-Test-HTML-Content-XPathExtensions.t t/embedded-Test-HTML-Content.t
# Testing Test::HTML::Content 0.13, Perl 5.036003
# Carp 1.52
# Config 5.036003
# Cwd 3.84
# Encode 3.17
# Encode::Alias 2.24
# Encode::Config 2.05
# Encode::Encoding 2.08
# Encode::MIME::Name 1.03
# Exporter 5.77
# Exporter::Heavy 5.77
# ExtUtils::Liblist 7.70
# ExtUtils::Liblist::Kid 7.70
# ExtUtils::MM 7.70
# ExtUtils::MM_Any 7.70
# ExtUtils::MM_Unix 7.70
# ExtUtils::MY 7.70
# ExtUtils::MakeMaker 7.70
# ExtUtils::MakeMaker::Config 7.70
# ExtUtils::MakeMaker::Locale 7.70
# ExtUtils::MakeMaker::version 7.70
# Fcntl 1.15
# File::Basename 2.85
# File::Glob 1.37
# File::Path 2.18
# File::Spec 3.84
# File::Spec::Unix 3.84
# HTML::Entities 3.83
# HTML::Parser 3.83
# HTML::PullParser 3.83
# HTML::Tagset 3.24
# HTML::TokeParser 3.83
# I18N::Langinfo 0.21
# IO 1.55
# IO::Handle 1.55
# List::Util 1.63
# POSIX 2.03
# PerlIO 1.12
# Scalar::Util 1.63
# SelectSaver 1.02
# Storable 3.26
# Symbol 1.09
# Test::Builder 1.302199
# Test::Builder::Formatter 1.302199
# Test::Builder::Module 1.302199
# Test::Builder::TodoDiag 1.302199
# Test::HTML::Content 0.13
# Test::More 1.302199
# Test2::API 1.302199
# Test2::API::Context 1.302199
# Test2::API::Instance 1.302199
# Test2::API::Stack 1.302199
# Test2::Event 1.302199
# Test2::Event::Bail 1.302199
# Test2::Event::Diag 1.302199
# Test2::Event::Exception 1.302199
# Test2::Event::Fail 1.302199
# Test2::Event::Note 1.302199
# Test2::Event::Ok 1.302199
# Test2::Event::Pass 1.302199
# Test2::Event::Plan 1.302199
# Test2::Event::Skip 1.302199
# Test2::Event::Subtest 1.302199
# Test2::Event::V2 1.302199
# Test2::Event::Waiting 1.302199
# Test2::EventFacet 1.302199
# Test2::EventFacet::About 1.302199
# Test2::EventFacet::Amnesty 1.302199
# Test2::EventFacet::Assert 1.302199
# Test2::EventFacet::Control 1.302199
# Test2::EventFacet::Error 1.302199
# Test2::EventFacet::Hub 1.302199
# Test2::EventFacet::Info 1.302199
# Test2::EventFacet::Meta 1.302199
# Test2::EventFacet::Parent 1.302199
# Test2::EventFacet::Plan 1.302199
# Test2::EventFacet::Trace 1.302199
# Test2::Formatter 1.302199
# Test2::Formatter::TAP 1.302199
# Test2::Hub 1.302199
# Test2::Hub::Interceptor 1.302199
# Test2::Hub::Interceptor::Terminator 1.302199
# Test2::Hub::Subtest 1.302199
# Test2::Util 1.302199
# Test2::Util::ExternalMeta 1.302199
# Test2::Util::Facets2Legacy 1.302199
# Test2::Util::HashBase 1.302199
# Test2::Util::Trace 1.302199
# Tie::Hash 1.06
# Time::HiRes 1.977
# XML::LibXML 2.0210
# XML::LibXML::AttributeHash 2.0210
# XML::LibXML::Boolean 2.0210
# XML::LibXML::Error 2.0210
# XML::LibXML::Literal 2.0210
# XML::LibXML::NodeList 2.0210
# XML::LibXML::Number 2.0210
# XML::LibXML::XPathContext 2.0210
# XML::SAX::Exception 1.09
# XSLoader 0.31
# base 2.27
# bytes 1.08
# constant 1.33
# mro 1.26
# overload 1.35
# overloading 0.02
# parent 0.238
# strict 1.12
# vars 1.05
# version 0.9929
# version::regex 0.9929
# warnings 1.58
# warnings::register 1.04
t/00-load.t ..................................... ok
t/00-prerequisites.t ............................ ok
t/01-fallback-libxml.t .......................... ok
t/01-fallback-pureperl.t ........................ ok
t/01-fallback-xpath.t ........................... ok
t/01-internal-api.t ............................. ok
t/01-libxml-xpath-abstraction.t ................. ok
t/01-xpath-query-builder.t ...................... ok
HTML parser error : Unexpected end tag : a
<html><!-- <A href="http://www.perl.com"> -->Title</A></html>
                                                      ^
HTML parser error : Unexpected end tag : a
<html><!-- <A href="http://www.perl.com"> -->Title</A></html>
                                                      ^
HTML parser error : Unexpected end tag : a
<html><!-- <A href="http://www.perl.com"> -->Title</A></html>
                                                      ^
HTML parser error : Unexpected end tag : a
<html><!-- <A href="http://www.perl.com"> -->Title</A></html>
                                                      ^
t/02-tags.t ..................................... ok
t/03-links.t .................................... ok
t/04-comments.t ................................. ok
t/05-doctype.t .................................. ok
t/06-text.t ..................................... ok
t/07-errors.link.t .............................. ok
t/08-errors.comment.t ........................... ok
t/09-errors.declaration.t ....................... ok
t/09-errors.xpath.t ............................. ok
t/10-errors.text.t .............................. ok
t/12-title-fallback.t ........................... ok
t/12-title.t .................................... ok
t/13-xpath-gracefull-errors.t ................... ok
t/embedded-Test-HTML-Content-NoXPath.t .......... ok
t/embedded-Test-HTML-Content-XPathExtensions.t .. ok
t/embedded-Test-HTML-Content.t .................. ok
All tests successful.
Files=24, Tests=625,  2 wallclock secs ( 0.13 usr  0.05 sys +  1.93 cusr  0.31 csys =  2.42 CPU)
Result: PASS

------------------------------
PREREQUISITES
------------------------------

Prerequisite modules loaded:

requires:

    Module              Need   Have    
    ------------------- ------ --------
    HTML::TokeParser    0      3.83    
    perl                5.006  5.036003
    Test::Builder       0      1.302199
    Test::More          0      1.302199
    XML::LibXML         2.0133 2.0210  

build_requires:

    Module              Need   Have    
    ------------------- ------ --------
    ExtUtils::MakeMaker 0      7.70    
    Test::More          0      1.302199

configure_requires:

    Module              Need   Have    
    ------------------- ------ --------
    ExtUtils::MakeMaker 0      7.70    


------------------------------
ENVIRONMENT AND OTHER CONTEXT
------------------------------

Environment variables:

    LANG = en_US.UTF-8
    PATH = /usr/local/bin:/usr/bin:/bin:/usr/local/sbin:/usr/sbin:/sbin:/home/cpansand/bin/linux-gnu:/home/cpansand/bin/sh:/home/cpansand/bin:/usr/games:/home/cpansand/devel:/home/eserte/src/srezic-misc/scripts
    PERL5LIB = 
    PERL5OPT = 
    PERL5_CPANPLUS_IS_RUNNING = 2916684
    PERL5_CPAN_IS_RUNNING = 2916684
    PERL5_CPAN_IS_RUNNING_IN_RECURSION = 2916341,2916684
    PERLDOC = -MPod::Perldoc::ToTextOverstrike
    PERL_BATCH = yes
    PERL_CANARY_STABILITY_NOPROMPT = 1
    PERL_CPAN_REPORTER_CONFIG = /var/tmp/cpansmoker-1023/2024081520/cpanreporter_000_config.ini
    PERL_EXTUTILS_AUTOINSTALL = --defaultdeps
    PERL_USE_UNSAFE_INC = 1
    SHELL = /usr/bin/zsh
    TERM = screen
    TMPDIR = /var/tmp/cpansmoker-1023/2024081520

Perl special variables (and OS-specific diagnostics, for MSWin32):

    $^X = /opt/perl-5.36.3/bin/perl
    $UID/$EUID = 1023 / 1023
    $GID = 1023 1023
    $EGID = 1023 1023

Perl module toolchain versions installed:

    Module              Have    
    ------------------- --------
    CPAN                2.33    
    CPAN::Meta          2.150010
    Cwd                 3.84    
    ExtUtils::CBuilder  0.280236
    ExtUtils::Command   7.70    
    ExtUtils::Install   2.20    
    ExtUtils::MakeMaker 7.70    
    ExtUtils::Manifest  1.75    
    ExtUtils::ParseXS   3.45    
    File::Spec          3.84    
    JSON                4.10    
    JSON::PP            4.16    
    Module::Build       0.4234  
    Module::Signature   0.88    
    Parse::CPAN::Meta   2.150010
    Test2               1.302199
    Test::Harness       3.44    
    Test::More          1.302199
    YAML                1.31    
    YAML::Syck          1.34    
    version             0.9929  


--

Summary of my perl5 (revision 5 version 36 subversion 3) configuration:
   
  Platform:
    osname=linux
    osvers=6.8.0-35-generic
    archname=aarch64-linux
    uname='linux cloud6.bbbike.org 6.8.0-35-generic #35-ubuntu smp preempt_dynamic tue may 21 07:52:29 utc 2024 aarch64 aarch64 aarch64 gnulinux '
    config_args='-ds -e -Dprefix=/opt/perl-5.36.3 -Uinstallusrbinperl -Dcf_email=srezic@cpan.org'
    hint=recommended
    useposix=true
    d_sigaction=define
    useithreads=undef
    usemultiplicity=undef
    use64bitint=define
    use64bitall=define
    uselongdouble=undef
    usemymalloc=n
    default_inc_excludes_dot=define
  Compiler:
    cc='cc'
    ccflags ='-fwrapv -fno-strict-aliasing -pipe -fstack-protector-strong -I/usr/local/include -D_LARGEFILE_SOURCE -D_FILE_OFFSET_BITS=64'
    optimize='-O2'
    cppflags='-fwrapv -fno-strict-aliasing -pipe -fstack-protector-strong -I/usr/local/include'
    ccversion=''
    gccversion='13.2.0'
    gccosandvers=''
    intsize=4
    longsize=8
    ptrsize=8
    doublesize=8
    byteorder=12345678
    doublekind=3
    d_longlong=define
    longlongsize=8
    d_longdbl=define
    longdblsize=16
    longdblkind=1
    ivtype='long'
    ivsize=8
    nvtype='double'
    nvsize=8
    Off_t='off_t'
    lseeksize=8
    alignbytes=8
    prototype=define
  Linker and Libraries:
    ld='cc'
    ldflags =' -fstack-protector-strong -L/usr/local/lib'
    libpth=/usr/local/lib /usr/lib/aarch64-linux-gnu /usr/lib
    libs=-lpthread -ldl -lm -lcrypt -lutil -lc
    perllibs=-lpthread -ldl -lm -lcrypt -lutil -lc
    libc=/lib/aarch64-linux-gnu/libc.so.6
    so=so
    useshrplib=false
    libperl=libperl.a
    gnulibc_version='2.39'
  Dynamic Linking:
    dlsrc=dl_dlopen.xs
    dlext=so
    d_dlsymun=undef
    ccdlflags='-Wl,-E'
    cccdlflags='-fPIC'
    lddlflags='-shared -O2 -L/usr/local/lib -fstack-protector-strong'


Characteristics of this binary (from libperl): 
  Compile-time options:
    HAS_TIMES
    PERLIO_LAYERS
    PERL_COPY_ON_WRITE
    PERL_DONT_CREATE_GVSV
    PERL_MALLOC_WRAP
    PERL_OP_PARENT
    PERL_PRESERVE_IVUV
    USE_64_BIT_ALL
    USE_64_BIT_INT
    USE_LARGE_FILES
    USE_LOCALE
    USE_LOCALE_COLLATE
    USE_LOCALE_CTYPE
    USE_LOCALE_NUMERIC
    USE_LOCALE_TIME
    USE_PERLIO
    USE_PERL_ATOF
  Built under linux
  Compiled at Jun  9 2024 15:42:22
  %ENV:
    PERL5LIB=""
    PERL5OPT=""
    PERL5_CPANPLUS_IS_RUNNING="2916684"
    PERL5_CPAN_IS_RUNNING="2916684"
    PERL5_CPAN_IS_RUNNING_IN_RECURSION="2916341,2916684"
    PERLDOC="-MPod::Perldoc::ToTextOverstrike"
    PERL_BATCH="yes"
    PERL_CANARY_STABILITY_NOPROMPT="1"
    PERL_CPAN_REPORTER_CONFIG="/var/tmp/cpansmoker-1023/2024081520/cpanreporter_000_config.ini"
    PERL_EXTUTILS_AUTOINSTALL="--defaultdeps"
    PERL_USE_UNSAFE_INC="1"
  @INC:
    /opt/perl-5.36.3/lib/site_perl/5.36.3/aarch64-linux
    /opt/perl-5.36.3/lib/site_perl/5.36.3
    /opt/perl-5.36.3/lib/5.36.3/aarch64-linux
    /opt/perl-5.36.3/lib/5.36.3
    .