ParseUtil-Domain v2.427 Perl 5 v5.27.2 i86pc-solaris-thread-multi

Status
Pass
From
Serguei Trouchelle (STRO)
Dist
ParseUtil-Domain v2.427
Platform
Perl 5 v5.27.2 i86pc-solaris-thread-multi
Date
2017-10-22 05:44:48
ID
1df92fbe-b6ec-11e7-a23a-8119f5067b6b
This distribution has been tested as part of the CPAN Testers
project, supporting the Perl programming language.  See
http://wiki.cpantesters.org/ for more information or email
questions to cpan-testers-discuss@perl.org


--
Dear William Travis Holton,

This is a computer-generated report for ParseUtil-Domain-2.427
on perl 5.27.2, created by CPAN-Reporter-1.2018.

Thank you for uploading your work to CPAN.  Congratulations!
All tests were successful.

Sections of this report:

    * Tester comments
    * Program output
    * Prerequisites
    * Environment and other context

------------------------------
TESTER COMMENTS
------------------------------

Additional comments from tester:

this report is from an automated smoke testing program
and was not reviewed by a human for accuracy

------------------------------
PROGRAM OUTPUT
------------------------------

Output from '/usr/bin/make test':

PERL_DL_NONLAZY=1 "/home/stro/perl/5.27.2t/bin/perl" "-MExtUtils::Command::MM" "-MTest::Harness" "-e" "undef *Test::Harness::Switches; test_harness(0, 'blib/lib', 'blib/arch')" t/*.t
# 
# Versions for all modules listed in MYMETA.json (including optional ones):
# 
# === Configure Requires ===
# 
#     Module              Want Have
#     ------------------- ---- ----
#     ExtUtils::MakeMaker  any 7.30
# 
# === Build Requires ===
# 
#     Module              Want Have
#     ------------------- ---- ----
#     ExtUtils::MakeMaker  any 7.30
# 
# === Test Requires ===
# 
#     Module               Want     Have
#     -------------------- ---- --------
#     English               any     1.10
#     ExtUtils::MakeMaker   any     7.30
#     File::Spec            any     3.68
#     Mock::Quick           any    1.111
#     Moose                 any   2.2006
#     Test::Class           any     0.50
#     Test::Deep            any    1.127
#     Test::Exception       any     0.43
#     Test::More            any 1.302103
#     Test::Perl::Critic    any     1.03
#     Test::Routine         any    0.025
#     Test::Routine::Util   any    0.025
#     namespace::autoclean  any     0.28
#     parent                any    0.236
#     strict                any     1.11
#     utf8                  any     1.19
#     warnings              any     1.37
# 
# === Test Recommends ===
# 
#     Module         Want     Have
#     ---------- -------- --------
#     CPAN::Meta 2.120900 2.150010
# 
# === Runtime Requires ===
# 
#     Module             Want       Have
#     ------------------ ---- ----------
#     Carp                any       1.43
#     Exporter            any       5.72
#     Getopt::Long        any        2.5
#     List::MoreUtils     any      0.426
#     Modern::Perl        any 1.20170117
#     Net::IDN::Encode    any      2.400
#     Net::IDN::Nameprep  any      1.102
#     Net::IDN::Punycode  any      1.102
#     autobox             any       2.85
#     autobox::Core       any       1.33
#     charnames           any       1.45
# 
t/00-report-prereqs.t ......... ok
t/error_behaviour.t ........... ok
t/parse_ascii.t ............... ok
t/parse_ascii_test_routine.t .. ok
t/parse_idn.t ................. ok
t/perlcritic.t ................ skipped: Author test. Set $ENV{TEST_AUTHOR} to a true value to run.
t/public_suffix_test.t ........ ok
t/undefined_mapping.t ......... ok
All tests successful.
Files=8, Tests=112,  4 wallclock secs ( 0.06 usr  0.03 sys +  2.94 cusr  0.43 csys =  3.46 CPU)
Result: PASS

------------------------------
PREREQUISITES
------------------------------

Prerequisite modules loaded:

requires:

    Module               Need     Have      
    -------------------- -------- ----------
    autobox              0        2.85      
    autobox::Core        0        1.33      
    Carp                 0        1.43      
    charnames            0        1.45      
    Exporter             0        5.72      
    Getopt::Long         0        2.5       
    List::MoreUtils      0        0.426     
    Modern::Perl         0        1.20170117
    Net::IDN::Encode     0        2.400     
    Net::IDN::Nameprep   0        1.102     
    Net::IDN::Punycode   0        1.102     

build_requires:

    Module               Need     Have      
    -------------------- -------- ----------
    English              0        1.10      
    ExtUtils::MakeMaker  0        7.30      
    File::Spec           0        3.68      
    Mock::Quick          0        1.111     
    Moose                0        2.2006    
    namespace::autoclean 0        0.28      
    parent               0        0.236     
    strict               0        1.11      
    Test::Class          0        0.50      
    Test::Deep           0        1.127     
    Test::Exception      0        0.43      
    Test::More           0        1.302103  
    Test::Perl::Critic   0        1.03      
    Test::Routine        0        0.025     
    Test::Routine::Util  0        0.025     
    utf8                 0        1.19      
    warnings             0        1.37      

configure_requires:

    Module               Need     Have      
    -------------------- -------- ----------
    ExtUtils::MakeMaker  0        7.30      

opt_build_requires:

    Module               Need     Have      
    -------------------- -------- ----------
    CPAN::Meta           2.120900 2.150010  


------------------------------
ENVIRONMENT AND OTHER CONTEXT
------------------------------

Environment variables:

    AUTOMATED_TESTING = 1
    LANG = en_US.UTF-8
    PATH = /usr/gnu/bin:/usr/bin:/usr/sbin:/sbin:/usr/sfw/bin:
    PERL5LIB = 
    PERL5OPT = 
    PERL5_CPANPLUS_IS_RUNNING = 14605
    PERL5_CPAN_IS_RUNNING = 14605
    PERL5_CPAN_IS_RUNNING_IN_RECURSION = 25912,14605
    PERL_CR_SMOKER_CURRENT = ParseUtil-Domain-2.427
    PERL_EXTUTILS_AUTOINSTALL = --defaultdeps
    PERL_MM_USE_DEFAULT = 1
    PERL_USE_UNSAFE_INC = 1
    SHELL = /bin/bash
    TERM = xterm-256color

Perl special variables (and OS-specific diagnostics, for MSWin32):

    $^X = /home/stro/perl/5.27.2t/bin/perl
    $UID/$EUID = 101 / 101
    $GID = 10 10
    $EGID = 10 10

Perl module toolchain versions installed:

    Module              Have    
    ------------------- --------
    CPAN                2.18    
    CPAN::Meta          2.150010
    Cwd                 3.68    
    ExtUtils::CBuilder  0.280228
    ExtUtils::Command   7.30    
    ExtUtils::Install   2.14    
    ExtUtils::MakeMaker 7.30    
    ExtUtils::Manifest  1.70    
    ExtUtils::ParseXS   3.34    
    File::Spec          3.68    
    JSON                2.94    
    JSON::PP            2.94    
    Module::Build       0.4224  
    Module::Signature   n/a     
    Parse::CPAN::Meta   2.150010
    Test::Harness       3.39    
    Test::More          1.302103
    YAML                1.23    
    YAML::Syck          1.30    
    version             0.9918  


--

Summary of my perl5 (revision 5 version 27 subversion 2) configuration:
   
  Platform:
    osname=solaris
    osvers=2.11
    archname=i86pc-solaris-thread-multi
    uname='sunos vm-openindiana-001 5.11 illumos-ed992b0aac i86pc i386 i86pc solaris '
    config_args=''
    hint=recommended
    useposix=true
    d_sigaction=define
    useithreads=define
    usemultiplicity=define
    use64bitint=undef
    use64bitall=undef
    uselongdouble=undef
    usemymalloc=n
    default_inc_excludes_dot=define
    bincompat5005=undef
  Compiler:
    cc='/opt/SUNWspro/bin/cc'
    ccflags ='-D_REENTRANT -I/usr/gnu/include -D_LARGEFILE_SOURCE -D_FILE_OFFSET_BITS=64 -DPERL_USE_SAFE_PUTENV'
    optimize='-O'
    cppflags='-D_REENTRANT -I/usr/gnu/include'
    ccversion='Sun C 5.10 SunOS_i386 2009/06/03'
    gccversion=''
    gccosandvers=''
    intsize=4
    longsize=4
    ptrsize=4
    doublesize=8
    byteorder=1234
    doublekind=3
    d_longlong=define
    longlongsize=8
    d_longdbl=define
    longdblsize=12
    longdblkind=3
    ivtype='long'
    ivsize=4
    nvtype='double'
    nvsize=8
    Off_t='off_t'
    lseeksize=8
    alignbytes=4
    prototype=define
  Linker and Libraries:
    ld='/opt/SUNWspro/bin/cc'
    ldflags =' -L/usr/lib -L/usr/ccs/lib -L/opt/sunstudio12.1/prod/lib -L/lib -L/usr/gnu/lib '
    libpth=/usr/lib /usr/ccs/lib /opt/sunstudio12.1/prod/lib /lib /usr/gnu/lib
    libs=-lpthread -lsocket -lnsl -lgdbm -ldb -ldl -lm -lc
    perllibs=-lpthread -lsocket -lnsl -ldl -lm -lc
    libc=/lib/libc.so
    so=so
    useshrplib=true
    libperl=libperl.so
    gnulibc_version=''
  Dynamic Linking:
    dlsrc=dl_dlopen.xs
    dlext=so
    d_dlsymun=undef
    ccdlflags='  -R /home/stro/perl/5.27.2t/lib/5.27.2/i86pc-solaris-thread-multi/CORE'
    cccdlflags='-KPIC'
    lddlflags='-G -L/usr/lib -L/usr/ccs/lib -L/opt/sunstudio12.1/prod/lib -L/lib -L/usr/gnu/lib'


Characteristics of this binary (from libperl): 
  Compile-time options:
    HAS_TIMES
    MULTIPLICITY
    PERLIO_LAYERS
    PERL_COPY_ON_WRITE
    PERL_DONT_CREATE_GVSV
    PERL_IMPLICIT_CONTEXT
    PERL_MALLOC_WRAP
    PERL_OP_PARENT
    PERL_PRESERVE_IVUV
    PERL_USE_SAFE_PUTENV
    USE_ITHREADS
    USE_LARGE_FILES
    USE_LOCALE
    USE_LOCALE_COLLATE
    USE_LOCALE_CTYPE
    USE_LOCALE_NUMERIC
    USE_LOCALE_TIME
    USE_PERLIO
    USE_PERL_ATOF
    USE_REENTRANT_API
  Built under solaris
  Compiled at Sep 21 2017 23:06:56
  %ENV:
    PERL5LIB=""
    PERL5OPT=""
    PERL5_CPANPLUS_IS_RUNNING="14605"
    PERL5_CPAN_IS_RUNNING="14605"
    PERL5_CPAN_IS_RUNNING_IN_RECURSION="25912,14605"
    PERL_CR_SMOKER_CURRENT="ParseUtil-Domain-2.427"
    PERL_EXTUTILS_AUTOINSTALL="--defaultdeps"
    PERL_MM_USE_DEFAULT="1"
    PERL_USE_UNSAFE_INC="1"
  @INC:
    /home/stro/perl/5.27.2t/lib/site_perl/5.27.2/i86pc-solaris-thread-multi
    /home/stro/perl/5.27.2t/lib/site_perl/5.27.2
    /home/stro/perl/5.27.2t/lib/5.27.2/i86pc-solaris-thread-multi
    /home/stro/perl/5.27.2t/lib/5.27.2
    .