HTTP-Body v1.23 Perl 5 v5.28.1 x86_64-linux-thread-multi-ld
- Status
- Pass
- From
- Nigel Horne
- Dist
-
HTTP-Body v1.23
- Platform
- Perl 5 v5.28.1 x86_64-linux-thread-multi-ld
- Date
- 2025-10-29 11:55:08
- ID
- 1decdbbe-b4be-11f0-9edf-29e1aa89be80
This distribution has been tested as part of the CPAN Testers
project, supporting the Perl programming language. See
http://wiki.cpantesters.org/ for more information or email
questions to cpan-testers-discuss@perl.org
--
Dear Torsten Raudssus,
This is a computer-generated report for HTTP-Body-1.23
on perl 5.28.1, created by CPAN-Reporter-1.2020.
Thank you for uploading your work to CPAN. Congratulations!
All tests were successful.
Sections of this report:
* Tester comments
* Program output
* Prerequisites
* Environment and other context
------------------------------
TESTER COMMENTS
------------------------------
Additional comments from tester:
this report is from an automated smoke testing program
and was not reviewed by a human for accuracy
------------------------------
PROGRAM OUTPUT
------------------------------
Output from '/usr/bin/make test':
PERL_DL_NONLAZY=1 "/home/njh/perl5/perlbrew/perls/perl-5.28.1-thread-multi-ld/bin/perl5.28.1" "-MExtUtils::Command::MM" "-MTest::Harness" "-e" "undef *Test::Harness::Switches; test_harness(0, 'blib/lib', 'blib/arch')" t/*.t
t/02pod.t .................. skipped: set TEST_POD to enable this test
t/04critic.t ............... skipped: Critic test only for developers.
t/01use.t .................. ok
t/03podcoverage.t .......... skipped: set TEST_POD to enable this test
t/06octetstream.t .......... ok
t/07xforms.t ............... ok
t/05urlencoded.t ........... ok
t/04multipart.t ............ ok
t/08multipart-suffix.t ..... ok
t/09rt88342-diff-regexp.t .. ok
t/11new-suffix.t ........... ok
t/10mixparamcontent.t ...... ok
t/12rt88342-new.t .......... ok
All tests successful.
Files=13, Tests=250, 1 wallclock secs ( 0.05 usr 0.01 sys + 0.76 cusr 0.25 csys = 1.07 CPU)
Result: PASS
------------------------------
PREREQUISITES
------------------------------
Prerequisite modules loaded:
requires:
Module Need Have
--------------------- ---- --------
Carp 0 1.50
Digest::MD5 0 2.55
File::Temp 0.14 0.2309
HTTP::Headers 0 6.24
IO::File 1.14 1.41
build_requires:
Module Need Have
--------------------- ---- --------
Encode 0 3.06
ExtUtils::MakeMaker 0 7.62
File::Spec::Functions 0 3.75
File::Temp 0.14 0.2309
HTTP::Request::Common 0 6.24
Test::Deep 0 1.130
Test::More 0.86 1.302186
configure_requires:
Module Need Have
--------------------- ---- --------
ExtUtils::MakeMaker 0 7.62
------------------------------
ENVIRONMENT AND OTHER CONTEXT
------------------------------
Environment variables:
AUTOMATED_TESTING = 1
HARNESS_OPTIONS = j4
LANG = en_US.UTF-8
PATH = /home/njh/perl5/perlbrew/bin:/home/njh/perl5/perlbrew/perls/perl-5.28.1-thread-multi-ld/bin:/home/njh/perl5/perlbrew/bin:/home/njh/src/njh/smoker/bin:/usr/bin:/bin
PERL5LIB = /tmp/user/1000/build/Data-Dump-1.25-0/blib/arch:/tmp/user/1000/build/Data-Dump-1.25-0/blib/lib:/tmp/user/1000/build/Class-C3-Adopt-NEXT-0.14-0/blib/arch:/tmp/user/1000/build/Class-C3-Adopt-NEXT-0.14-0/blib/lib:/tmp/user/1000/build/MRO-Compat-0.15-0/blib/arch:/tmp/user/1000/build/MRO-Compat-0.15-0/blib/lib:/tmp/user/1000/build/CGI-Struct-1.21-0/blib/arch:/tmp/user/1000/build/CGI-Struct-1.21-0/blib/lib:/tmp/user/1000/build/CGI-Simple-1.282-0/blib/arch:/tmp/user/1000/build/CGI-Simple-1.282-0/blib/lib
PERL5OPT =
PERL5_CPANPLUS_IS_RUNNING = 2238759
PERL5_CPAN_IS_RUNNING = 2238759
PERL5_CPAN_IS_RUNNING_IN_RECURSION = 2238748,2238759
PERLBREW_LIB =
PERLBREW_MANPATH = /home/njh/perl5/perlbrew/perls/perl-5.28.1-thread-multi-ld/man
PERLBREW_PATH = /home/njh/perl5/perlbrew/bin:/home/njh/perl5/perlbrew/perls/perl-5.28.1-thread-multi-ld/bin
PERLBREW_PERL = perl-5.28.1-thread-multi-ld
PERLBREW_ROOT = /home/njh/perl5/perlbrew
PERLBREW_SHELLRC_VERSION = 1.02
PERLBREW_VERSION = 1.02
PERL_LOCAL_LIB_ROOT =
PERL_MM_USE_DEFAULT = 1
PERL_USE_UNSAFE_INC = 1
SHELL = /bin/sh
TEMP = /tmp/user/1000
TMPDIR = /tmp/user/1000/testwrapper.2238751
Perl special variables (and OS-specific diagnostics, for MSWin32):
$^X = /home/njh/perl5/perlbrew/perls/perl-5.28.1-thread-multi-ld/bin/perl5.28.1
$UID/$EUID = 1000 / 1000
$GID = 1000 4 24 25 29 30 44 46 103 108 115 123 996 1000
$EGID = 1000 4 24 25 29 30 44 46 103 108 115 123 996 1000
Perl module toolchain versions installed:
Module Have
------------------- --------
CPAN 2.28
CPAN::Meta 2.150010
Cwd 3.75
ExtUtils::CBuilder 0.280234
ExtUtils::Command 7.62
ExtUtils::Install 2.14
ExtUtils::MakeMaker 7.62
ExtUtils::Manifest 1.72
ExtUtils::ParseXS 3.39
File::Spec 3.75
JSON 4.02
JSON::PP 4.04
Module::Build 0.4231
Module::Signature n/a
Parse::CPAN::Meta 2.150010
Test2 1.302186
Test::Harness 3.42
Test::More 1.302186
YAML 1.31
YAML::Syck 1.34
version 0.9924
--
Summary of my perl5 (revision 5 version 28 subversion 1) configuration:
Platform:
osname=linux
osvers=4.16.0-2-amd64
archname=x86_64-linux-thread-multi-ld
uname='linux amelia 4.16.0-2-amd64 #1 smp debian 4.16.16-2 (2018-06-22) x86_64 gnulinux '
config_args='-de -Dprefix=/home/njh/perl5/perlbrew/perls/perl-5.28.1-thread-multi-ld -Dusedevel -Duselongdouble -Dusethreads -Dusemultiplicity -Accflags= -Aeval:scriptdir=/home/njh/perl5/perlbrew/perls/perl-5.28.1-thread-multi-ld/bin'
hint=recommended
useposix=true
d_sigaction=define
useithreads=define
usemultiplicity=define
use64bitint=define
use64bitall=define
uselongdouble=define
usemymalloc=n
default_inc_excludes_dot=define
bincompat5005=undef
Compiler:
cc='cc'
ccflags ='-D_REENTRANT -D_GNU_SOURCE -fwrapv -fno-strict-aliasing -pipe -fstack-protector-strong -I/usr/local/include -D_LARGEFILE_SOURCE -D_FILE_OFFSET_BITS=64'
optimize='-O2'
cppflags='-D_REENTRANT -D_GNU_SOURCE -fwrapv -fno-strict-aliasing -pipe -fstack-protector-strong -I/usr/local/include'
ccversion=''
gccversion='8.2.0'
gccosandvers=''
intsize=4
longsize=8
ptrsize=8
doublesize=8
byteorder=12345678
doublekind=3
d_longlong=define
longlongsize=8
d_longdbl=define
longdblsize=16
longdblkind=3
ivtype='long'
ivsize=8
nvtype='long double'
nvsize=16
Off_t='off_t'
lseeksize=8
alignbytes=16
prototype=define
Linker and Libraries:
ld='cc'
ldflags =' -fstack-protector-strong -L/usr/local/lib'
libpth=/usr/local/lib /usr/lib/gcc/x86_64-linux-gnu/8/include-fixed /usr/include/x86_64-linux-gnu /usr/lib /lib/x86_64-linux-gnu /lib/../lib /usr/lib/x86_64-linux-gnu /usr/lib/../lib /lib /lib64 /usr/lib64
libs=-lpthread -lnsl -lgdbm -ldb -ldl -lm -lcrypt -lutil -lc
perllibs=-lpthread -lnsl -ldl -lm -lcrypt -lutil -lc
libc=libc-2.27.so
so=so
useshrplib=false
libperl=libperl.a
gnulibc_version='2.27'
Dynamic Linking:
dlsrc=dl_dlopen.xs
dlext=so
d_dlsymun=undef
ccdlflags='-Wl,-E'
cccdlflags='-fPIC'
lddlflags='-shared -O2 -L/usr/local/lib -fstack-protector-strong'
Characteristics of this binary (from libperl):
Compile-time options:
HAS_TIMES
MULTIPLICITY
PERLIO_LAYERS
PERL_COPY_ON_WRITE
PERL_DONT_CREATE_GVSV
PERL_IMPLICIT_CONTEXT
PERL_MALLOC_WRAP
PERL_OP_PARENT
PERL_PRESERVE_IVUV
PERL_USE_DEVEL
USE_64_BIT_ALL
USE_64_BIT_INT
USE_ITHREADS
USE_LARGE_FILES
USE_LOCALE
USE_LOCALE_COLLATE
USE_LOCALE_CTYPE
USE_LOCALE_NUMERIC
USE_LOCALE_TIME
USE_LONG_DOUBLE
USE_PERLIO
USE_PERL_ATOF
USE_REENTRANT_API
Locally applied patches:
Devel::PatchPerl 1.48
Built under linux
Compiled at Dec 5 2018 01:25:47
%ENV:
PERL5LIB="/tmp/user/1000/build/Data-Dump-1.25-0/blib/arch:/tmp/user/1000/build/Data-Dump-1.25-0/blib/lib:/tmp/user/1000/build/Class-C3-Adopt-NEXT-0.14-0/blib/arch:/tmp/user/1000/build/Class-C3-Adopt-NEXT-0.14-0/blib/lib:/tmp/user/1000/build/MRO-Compat-0.15-0/blib/arch:/tmp/user/1000/build/MRO-Compat-0.15-0/blib/lib:/tmp/user/1000/build/CGI-Struct-1.21-0/blib/arch:/tmp/user/1000/build/CGI-Struct-1.21-0/blib/lib:/tmp/user/1000/build/CGI-Simple-1.282-0/blib/arch:/tmp/user/1000/build/CGI-Simple-1.282-0/blib/lib"
PERL5OPT=""
PERL5_CPANPLUS_IS_RUNNING="2238759"
PERL5_CPAN_IS_RUNNING="2238759"
PERL5_CPAN_IS_RUNNING_IN_RECURSION="2238748,2238759"
PERLBREW_LIB=""
PERLBREW_MANPATH="/home/njh/perl5/perlbrew/perls/perl-5.28.1-thread-multi-ld/man"
PERLBREW_PATH="/home/njh/perl5/perlbrew/bin:/home/njh/perl5/perlbrew/perls/perl-5.28.1-thread-multi-ld/bin"
PERLBREW_PERL="perl-5.28.1-thread-multi-ld"
PERLBREW_ROOT="/home/njh/perl5/perlbrew"
PERLBREW_SHELLRC_VERSION="1.02"
PERLBREW_VERSION="1.02"
PERL_LOCAL_LIB_ROOT=""
PERL_MM_USE_DEFAULT="1"
PERL_USE_UNSAFE_INC="1"
@INC:
/tmp/user/1000/build/Data-Dump-1.25-0/blib/arch
/tmp/user/1000/build/Data-Dump-1.25-0/blib/lib
/tmp/user/1000/build/Class-C3-Adopt-NEXT-0.14-0/blib/arch
/tmp/user/1000/build/Class-C3-Adopt-NEXT-0.14-0/blib/lib
/tmp/user/1000/build/MRO-Compat-0.15-0/blib/arch
/tmp/user/1000/build/MRO-Compat-0.15-0/blib/lib
/tmp/user/1000/build/CGI-Struct-1.21-0/blib/arch
/tmp/user/1000/build/CGI-Struct-1.21-0/blib/lib
/tmp/user/1000/build/CGI-Simple-1.282-0/blib/arch
/tmp/user/1000/build/CGI-Simple-1.282-0/blib/lib
/home/njh/perl5/perlbrew/perls/perl-5.28.1-thread-multi-ld/lib/site_perl/5.28.1/x86_64-linux-thread-multi-ld
/home/njh/perl5/perlbrew/perls/perl-5.28.1-thread-multi-ld/lib/site_perl/5.28.1
/home/njh/perl5/perlbrew/perls/perl-5.28.1-thread-multi-ld/lib/5.28.1/x86_64-linux-thread-multi-ld
/home/njh/perl5/perlbrew/perls/perl-5.28.1-thread-multi-ld/lib/5.28.1
.