Art-World v0.18_14 Perl 5 v5.26.0 amd64-freebsd

Status
Pass
From
Slaven Rezić
Dist
Art-World v0.18_14
Platform
Perl 5 v5.26.0 amd64-freebsd
Date
2021-03-19T04:25:20
ID
1d9e278c-886b-11eb-926f-0b271f24ea8f
This distribution has been tested as part of the CPAN Testers
project, supporting the Perl programming language.  See
http://wiki.cpantesters.org/ for more information or email
questions to cpan-testers-discuss@perl.org


--
Dear Sebastien Feugere,

This is a computer-generated report for Art-World-0.18_14
on perl 5.26.0, created by CPAN-Reporter-1.2018.

Thank you for uploading your work to CPAN.  Congratulations!
All tests were successful.

Sections of this report:

    * Tester comments
    * Program output
    * Prerequisites
    * Environment and other context

------------------------------
TESTER COMMENTS
------------------------------

Additional comments from tester:

none provided

------------------------------
PROGRAM OUTPUT
------------------------------

Output from './Build test':

t/00_pod.t ............ ok
t/01_basic.t .......... ok
t/02_abstraction.t .... ok
t/03_agent.t .......... ok
t/04_artist.t ......... ok
t/05_collector.t ...... ok
t/06_public.t ......... ok
t/07_manager.t ........ ok
t/11_artwork.t ........ ok
t/12_place.t .......... ok
# This is a very nice Iterate
t/14_exhibition.t ..... ok
t/15_gallery.t ........ ok
# voluptate ab dolor qui corrupti id dignissimos ut quia illum.
# 2020-02-16T08:18:43
# West Elise
# Red wine, White wine, Peanuts, Candies
t/16_opening.t ........ ok
t/20_crud.t ........... ok
t/30_introspection.t .. ok
t/40_concept.t ........ ok
# Error messages displayed during tests are part of the testing process
You tried to update reputation to a value smaller than zero. Nothing changed. at t/50_fame.t line 42.
# Can't locate object method "aura" via package "Art::World::Artist" at t/50_fame.t line 48.
# Can't locate object method "reputation" via package "Art::World::Artwork" at t/50_fame.t line 93.
t/50_fame.t ........... ok
All tests successful.
Files=17, Tests=206, 72 wallclock secs ( 0.00 usr  0.16 sys + 57.27 cusr  9.22 csys = 66.64 CPU)
Result: PASS

------------------------------
PREREQUISITES
------------------------------

Prerequisite modules loaded:

requires:

    Module               Need        Have    
    -------------------- ----------- --------
    Config::Tiny         == 2.26     2.26    
    Data::Printer        == 1.000004 1.000004
    DBD::SQLite          == 1.66     1.66    
    DBI                  == 1.643    1.643   
    Faker                == 1.04     1.04    
    Math::Round          == 0.07     0.07    
    PadWalker            == 2.5      2.5     
    perl                 v5.20.0     5.026000
    Syntax::Keyword::Try == 0.21     0.21    
    Teng                 == 0.32     0.32    
    Type::Tiny           == 1.012001 1.012001
    Type::Tiny::XS       == 0.022    0.022   
    Types::XSD           == 0.007    0.007   
    Zydeco               == 0.613    0.613   

build_requires:

    Module               Need        Have    
    -------------------- ----------- --------
    DateTimeX::Auto      == 0.009    0.009   
    Path::Tiny           == 0.118    0.118   
    Test::Pod            == 1.52     1.52    

configure_requires:

    Module               Need        Have    
    -------------------- ----------- --------
    Module::Build::Tiny  0.034       0.039   


------------------------------
ENVIRONMENT AND OTHER CONTEXT
------------------------------

Environment variables:

    LC_ALL = de_DE.ISO8859-1
    PATH = /usr/local/bin:/usr/bin:/bin:/usr/local/sbin:/usr/sbin:/sbin:/home/cpansand/bin/freebsd10.3:/home/cpansand/bin/sh:/home/cpansand/bin:/usr/games:/home/cpansand/devel:/home/eserte/src/srezic-misc/scripts
    PERL5LIB = /home/cpansand/.cpan/build/2021031905/Types-XSD-0.007-2/blib/arch:/home/cpansand/.cpan/build/2021031905/Types-XSD-0.007-2/blib/lib:/home/cpansand/.cpan/build/2021031905/Types-XSD-Lite-0.006-2/blib/arch:/home/cpansand/.cpan/build/2021031905/Types-XSD-Lite-0.006-2/blib/lib:/home/cpansand/.cpan/build/2021031905/Type-Tiny-XS-0.022-2/blib/arch:/home/cpansand/.cpan/build/2021031905/Type-Tiny-XS-0.022-2/blib/lib:/home/cpansand/.cpan/build/2021031905/Path-Tiny-0.118-2/blib/arch:/home/cpansand/.cpan/build/2021031905/Path-Tiny-0.118-2/blib/lib:/home/cpansand/.cpan/build/2021031905/PadWalker-2.5-2/blib/arch:/home/cpansand/.cpan/build/2021031905/PadWalker-2.5-2/blib/lib:/home/cpansand/.cpan/build/2021031905/Faker-1.04-2/blib/arch:/home/cpansand/.cpan/build/2021031905/Faker-1.04-2/blib/lib:/home/cpansand/.cpan/build/2021031905/Config-Tiny-2.26-2/blib/arch:/home/cpansand/.cpan/build/2021031905/Config-Tiny-2.26-2/blib/lib
    PERL5OPT = 
    PERL5_CPANPLUS_IS_RUNNING = 27498
    PERL5_CPAN_IS_RUNNING = 27498
    PERL5_CPAN_IS_RUNNING_IN_RECURSION = 21627,27498
    PERLDOC = -MPod::Perldoc::ToTextOverstrike
    PERL_BATCH = yes
    PERL_CANARY_STABILITY_NOPROMPT = 1
    PERL_CPAN_REPORTER_CONFIG = /var/tmp/cpansmoker-1023/2021031905/cpanreporter_000_config.ini
    PERL_EXTUTILS_AUTOINSTALL = --defaultdeps
    PERL_USE_UNSAFE_INC = 1
    SHELL = /usr/local/bin/zsh
    TERM = screen
    TMPDIR = /var/tmp/cpansmoker-1023/2021031905

Perl special variables (and OS-specific diagnostics, for MSWin32):

    $^X = /usr/perl5.26.0p/bin/perl
    $UID/$EUID = 1023 / 1023
    $GID = 1023 1023
    $EGID = 1023 1023

Perl module toolchain versions installed:

    Module              Have    
    ------------------- --------
    CPAN                2.28    
    CPAN::Meta          2.150010
    Cwd                 3.75    
    ExtUtils::CBuilder  0.280235
    ExtUtils::Command   7.58    
    ExtUtils::Install   2.16    
    ExtUtils::MakeMaker 7.58    
    ExtUtils::Manifest  1.70    
    ExtUtils::ParseXS   3.35    
    File::Spec          3.75    
    JSON                4.03    
    JSON::PP            4.05    
    Module::Build       0.4229  
    Module::Signature   0.87    
    Parse::CPAN::Meta   2.150010
    Test::Harness       3.42    
    Test::More          1.302183
    YAML                1.30    
    YAML::Syck          1.34    
    version             0.9928  


--

Summary of my perl5 (revision 5 version 26 subversion 0) configuration:
   
  Platform:
    osname=freebsd
    osvers=10.3-release-p11
    archname=amd64-freebsd
    uname='freebsd cvrsnica-freebsd-101.herceg.de 10.3-release-p11 freebsd 10.3-release-p11 #0: mon oct 24 18:49:24 utc 2016 root@amd64-builder.daemonology.net:usrobjusrsrcsysgeneric amd64 '
    config_args='-ds -e -Dprefix=/usr/perl5.26.0p -Dcf_email=srezic@cpan.org -Doptimize=-O2 -pipe'
    hint=recommended
    useposix=true
    d_sigaction=define
    useithreads=undef
    usemultiplicity=undef
    use64bitint=define
    use64bitall=define
    uselongdouble=undef
    usemymalloc=n
    default_inc_excludes_dot=define
    bincompat5005=undef
  Compiler:
    cc='cc'
    ccflags ='-DHAS_FPSETMASK -DHAS_FLOATINGPOINT_H -fno-strict-aliasing -pipe -fstack-protector -I/usr/local/include -D_FORTIFY_SOURCE=2'
    optimize='-O2 -pipe'
    cppflags='-DHAS_FPSETMASK -DHAS_FLOATINGPOINT_H -fno-strict-aliasing -pipe -fstack-protector -I/usr/local/include'
    ccversion=''
    gccversion='4.2.1 Compatible FreeBSD Clang 3.4.1 (tags/RELEASE_34/dot1-final 208032)'
    gccosandvers=''
    intsize=4
    longsize=8
    ptrsize=8
    doublesize=8
    byteorder=12345678
    doublekind=3
    d_longlong=define
    longlongsize=8
    d_longdbl=define
    longdblsize=16
    longdblkind=3
    ivtype='long'
    ivsize=8
    nvtype='double'
    nvsize=8
    Off_t='off_t'
    lseeksize=8
    alignbytes=8
    prototype=define
  Linker and Libraries:
    ld='cc'
    ldflags ='-pthread -Wl,-E  -fstack-protector -L/usr/local/lib'
    libpth=/usr/lib /usr/local/lib /usr/include/clang/3.4.1 /usr/lib
    libs=-lpthread -lgdbm -lm -lcrypt -lutil -lc -lelf
    perllibs=-lpthread -lm -lcrypt -lutil -lc -lelf
    libc=
    so=so
    useshrplib=false
    libperl=libperl.a
    gnulibc_version=''
  Dynamic Linking:
    dlsrc=dl_dlopen.xs
    dlext=so
    d_dlsymun=undef
    ccdlflags=' '
    cccdlflags='-DPIC -fPIC'
    lddlflags='-shared  -L/usr/local/lib -fstack-protector'


Characteristics of this binary (from libperl): 
  Compile-time options:
    HAS_TIMES
    PERLIO_LAYERS
    PERL_COPY_ON_WRITE
    PERL_DONT_CREATE_GVSV
    PERL_MALLOC_WRAP
    PERL_OP_PARENT
    PERL_PRESERVE_IVUV
    USE_64_BIT_ALL
    USE_64_BIT_INT
    USE_LARGE_FILES
    USE_LOCALE
    USE_LOCALE_COLLATE
    USE_LOCALE_CTYPE
    USE_LOCALE_NUMERIC
    USE_LOCALE_TIME
    USE_PERLIO
    USE_PERL_ATOF
  Built under freebsd
  Compiled at Jun  3 2017 22:58:33
  %ENV:
    PERL5LIB="/home/cpansand/.cpan/build/2021031905/Types-XSD-0.007-2/blib/arch:/home/cpansand/.cpan/build/2021031905/Types-XSD-0.007-2/blib/lib:/home/cpansand/.cpan/build/2021031905/Types-XSD-Lite-0.006-2/blib/arch:/home/cpansand/.cpan/build/2021031905/Types-XSD-Lite-0.006-2/blib/lib:/home/cpansand/.cpan/build/2021031905/Type-Tiny-XS-0.022-2/blib/arch:/home/cpansand/.cpan/build/2021031905/Type-Tiny-XS-0.022-2/blib/lib:/home/cpansand/.cpan/build/2021031905/Path-Tiny-0.118-2/blib/arch:/home/cpansand/.cpan/build/2021031905/Path-Tiny-0.118-2/blib/lib:/home/cpansand/.cpan/build/2021031905/PadWalker-2.5-2/blib/arch:/home/cpansand/.cpan/build/2021031905/PadWalker-2.5-2/blib/lib:/home/cpansand/.cpan/build/2021031905/Faker-1.04-2/blib/arch:/home/cpansand/.cpan/build/2021031905/Faker-1.04-2/blib/lib:/home/cpansand/.cpan/build/2021031905/Config-Tiny-2.26-2/blib/arch:/home/cpansand/.cpan/build/2021031905/Config-Tiny-2.26-2/blib/lib"
    PERL5OPT=""
    PERL5_CPANPLUS_IS_RUNNING="27498"
    PERL5_CPAN_IS_RUNNING="27498"
    PERL5_CPAN_IS_RUNNING_IN_RECURSION="21627,27498"
    PERLDOC="-MPod::Perldoc::ToTextOverstrike"
    PERL_BATCH="yes"
    PERL_CANARY_STABILITY_NOPROMPT="1"
    PERL_CPAN_REPORTER_CONFIG="/var/tmp/cpansmoker-1023/2021031905/cpanreporter_000_config.ini"
    PERL_EXTUTILS_AUTOINSTALL="--defaultdeps"
    PERL_USE_UNSAFE_INC="1"
  @INC:
    /home/cpansand/.cpan/build/2021031905/Types-XSD-0.007-2/blib/arch
    /home/cpansand/.cpan/build/2021031905/Types-XSD-0.007-2/blib/lib
    /home/cpansand/.cpan/build/2021031905/Types-XSD-Lite-0.006-2/blib/arch
    /home/cpansand/.cpan/build/2021031905/Types-XSD-Lite-0.006-2/blib/lib
    /home/cpansand/.cpan/build/2021031905/Type-Tiny-XS-0.022-2/blib/arch
    /home/cpansand/.cpan/build/2021031905/Type-Tiny-XS-0.022-2/blib/lib
    /home/cpansand/.cpan/build/2021031905/Path-Tiny-0.118-2/blib/arch
    /home/cpansand/.cpan/build/2021031905/Path-Tiny-0.118-2/blib/lib
    /home/cpansand/.cpan/build/2021031905/PadWalker-2.5-2/blib/arch
    /home/cpansand/.cpan/build/2021031905/PadWalker-2.5-2/blib/lib
    /home/cpansand/.cpan/build/2021031905/Faker-1.04-2/blib/arch
    /home/cpansand/.cpan/build/2021031905/Faker-1.04-2/blib/lib
    /home/cpansand/.cpan/build/2021031905/Config-Tiny-2.26-2/blib/arch
    /home/cpansand/.cpan/build/2021031905/Config-Tiny-2.26-2/blib/lib
    /usr/perl5.26.0p/lib/site_perl/5.26.0/amd64-freebsd
    /usr/perl5.26.0p/lib/site_perl/5.26.0
    /usr/perl5.26.0p/lib/5.26.0/amd64-freebsd
    /usr/perl5.26.0p/lib/5.26.0
    .