Test-CleanNamespaces v0.24 Perl 5 v5.31.2 darwin-2level

Status
Pass
From
Carlos Guevara
Dist
Test-CleanNamespaces v0.24
Platform
Perl 5 v5.31.2 darwin-2level
Date
2019-06-22 22:07:24
ID
1d8f9076-953a-11e9-8c6e-fae1683264fb
This distribution has been tested as part of the CPAN Testers
project, supporting the Perl programming language.  See
http://wiki.cpantesters.org/ for more information or email
questions to cpan-testers-discuss@perl.org


--
Dear Karen Etheridge,

This is a computer-generated report for Test-CleanNamespaces-0.24
on perl 5.31.2, created by CPAN-Reporter-1.2018.

Thank you for uploading your work to CPAN.  Congratulations!
All tests were successful.

Sections of this report:

    * Tester comments
    * Program output
    * Prerequisites
    * Environment and other context

------------------------------
TESTER COMMENTS
------------------------------

Additional comments from tester:

none provided

------------------------------
PROGRAM OUTPUT
------------------------------

Output from '/usr/bin/make test':

PERL_DL_NONLAZY=1 "/Users/cpan/bin/perl-blead/bin/perl5.31.2" "-MExtUtils::Command::MM" "-MTest::Harness" "-e" "undef *Test::Harness::Switches; test_harness(0, 'blib/lib', 'blib/arch')" t/*.t
# 
# Versions for all modules listed in MYMETA.json (including optional ones):
# 
# === Configure Requires ===
# 
#     Module                       Want     Have
#     ------------------------ -------- --------
#     CPAN::Meta::Requirements 2.120620    2.140
#     ExtUtils::MakeMaker           any     7.36
#     Module::Metadata              any 1.000036
# 
# === Build Requires ===
# 
#     Module              Want Have
#     ------------------- ---- ----
#     ExtUtils::MakeMaker  any 7.36
# 
# === Test Requires ===
# 
#     Module                 Want     Have
#     --------------------- ----- --------
#     ExtUtils::MakeMaker     any     7.36
#     File::Spec              any     3.78
#     File::Spec::Functions   any     3.78
#     File::pushd             any    1.016
#     Scalar::Util            any     1.50
#     Sub::Exporter           any    0.987
#     Test::Deep              any    1.128
#     Test::More             0.96 1.302164
#     Test::Needs             any 0.002006
#     Test::Tester            any 1.302164
#     Test::Warnings        0.009    0.026
#     constant                any     1.33
#     if                      any   0.0608
#     lib                     any     0.65
#     namespace::clean        any     0.27
#     overload                any     1.31
#     parent                  any    0.237
# 
# === Test Recommends ===
# 
#     Module         Want     Have
#     ---------- -------- --------
#     CPAN::Meta 2.120900 2.150010
# 
# === Test Suggests ===
# 
#     Module                          Want     Have
#     --------------------------- -------- --------
#     Class::MOP::Class                any  missing
#     Moo                              any 2.003004
#     Moo::Role                        any 2.003004
#     Moose                            any  missing
#     Moose::Exporter                  any  missing
#     Moose::Role                      any  missing
#     MooseX::Role::Parameterized      any  missing
#     Mouse                            any  missing
#     Mouse::Role                      any  missing
#     Role::Tiny                  1.003000 2.000006
#     metaclass                        any  missing
# 
# === Runtime Requires ===
# 
#     Module              Want     Have
#     --------------- -------- --------
#     Exporter            5.57     5.73
#     File::Find           any     1.36
#     File::Spec           any     3.78
#     Module::Runtime      any    0.016
#     Package::Stash      0.14     0.38
#     Role::Tiny      1.003000 2.000006
#     Sub::Identify        any     0.14
#     Test::Builder        any 1.302164
#     strict               any     1.11
#     warnings             any     1.45
# 
# === Runtime Recommends ===
# 
#     Module             Want Have
#     ------------------ ---- ----
#     Package::Stash::XS  any 0.29
# 
# === Runtime Suggests ===
# 
#     Module     Want     Have
#     ---------- ---- --------
#     Role::Tiny  any 2.000006
# 
# === Other Modules ===
# 
#     Module            Have
#     --------------- ------
#     Encode            3.01
#     File::Temp      0.2309
#     JSON::PP          4.02
#     Module::Runtime  0.016
#     Pod::Coverage     0.23
#     Sub::Name         0.21
#     YAML              1.29
#     autodie           2.29
# 
t/00-report-prereqs.t ......... ok
t/basic.t ..................... ok
t/class_mop.t ................. skipped: skipping for regular installs, due to possible circular dependency issues
t/clean-namespaces.t .......... ok
t/find_modules.t .............. ok
t/moo.t ....................... ok
t/moose-parameterized-role.t .. skipped: skipping for regular installs, due to possible circular dependency issues
t/moose.t ..................... skipped: skipping for regular installs, due to possible circular dependency issues
t/mouse.t ..................... skipped: Need Mouse
t/overload.t .................. ok
t/role_tiny.t ................. ok
t/self.t ...................... ok
t/zzz-check-breaks.t .......... ok
All tests successful.
Files=13, Tests=134,  1 wallclock secs ( 0.06 usr  0.03 sys +  1.23 cusr  0.19 csys =  1.51 CPU)
Result: PASS

------------------------------
PREREQUISITES
------------------------------

Prerequisite modules loaded:

requires:

    Module                   Need     Have    
    ------------------------ -------- --------
    Exporter                 5.57     5.73    
    File::Find               0        1.36    
    File::Spec               0        3.78    
    Module::Runtime          0        0.016   
    Package::Stash           0.14     0.38    
    perl                     5.006    5.031002
    Role::Tiny               1.003000 2.000006
    strict                   0        1.11    
    Sub::Identify            0        0.14    
    Test::Builder            0        1.302164
    warnings                 0        1.45    

build_requires:

    Module                   Need     Have    
    ------------------------ -------- --------
    constant                 0        1.33    
    ExtUtils::MakeMaker      0        7.36    
    File::pushd              0        1.016   
    File::Spec               0        3.78    
    File::Spec::Functions    0        3.78    
    if                       0        0.0608  
    lib                      0        0.65    
    namespace::clean         0        0.27    
    overload                 0        1.31    
    parent                   0        0.237   
    Scalar::Util             0        1.50    
    Sub::Exporter            0        0.987   
    Test::Deep               0        1.128   
    Test::More               0.96     1.302164
    Test::Needs              0        0.002006
    Test::Tester             0        1.302164
    Test::Warnings           0.009    0.026   

configure_requires:

    Module                   Need     Have    
    ------------------------ -------- --------
    CPAN::Meta::Requirements 2.120620 2.140   
    ExtUtils::MakeMaker      0        7.36    
    Module::Metadata         0        1.000036
    perl                     5.006    5.031002


------------------------------
ENVIRONMENT AND OTHER CONTEXT
------------------------------

Environment variables:

    LC_ALL = C
    NONINTERACTIVE_TESTING = 1
    PATH = /Users/cpan/bin/perl-blead/bin:/Users/cpan/bin/perl-blead/bin:/Users/cpan/bin:/Users/cpan/bin/perl-blead/bin:/Users/cpan/bin:/usr/local/bin:/usr/bin:/bin:/usr/sbin:/sbin
    PERL5LIB = 
    PERL5OPT = 
    PERL5_CPANPLUS_IS_RUNNING = 66783
    PERL5_CPAN_IS_RUNNING = 66783
    PERL_MM_USE_DEFAULT = 1
    PERL_USE_UNSAFE_INC = 1
    PERL_VERSION = blead
    SHELL = /bin/bash
    TERM = screen
    TMPDIR = /Users/cpan/tmp

Perl special variables (and OS-specific diagnostics, for MSWin32):

    $^X = /Users/cpan/bin/perl-blead/bin/perl5.31.2
    $UID/$EUID = 503 / 503
    $GID = 20 20 12 61 399 701 702 703 100
    $EGID = 20 20 12 61 399 701 702 703 100

Perl module toolchain versions installed:

    Module              Have    
    ------------------- --------
    CPAN                2.27    
    CPAN::Meta          2.150010
    Cwd                 3.78    
    ExtUtils::CBuilder  0.280232
    ExtUtils::Command   7.36    
    ExtUtils::Install   2.14    
    ExtUtils::MakeMaker 7.36    
    ExtUtils::Manifest  1.72    
    ExtUtils::ParseXS   3.40    
    File::Spec          3.78    
    JSON                n/a     
    JSON::PP            4.02    
    Module::Build       0.4229  
    Module::Signature   n/a     
    Parse::CPAN::Meta   2.150010
    Test::Harness       3.42    
    Test::More          1.302164
    YAML                1.29    
    YAML::Syck          n/a     
    version             0.9924  


--

Summary of my perl5 (revision 5 version 31 subversion 2) configuration:
  Commit id: f6c49686d30d066bfb0eb583cbbfeb243f65a727
  Platform:
    osname=darwin
    osvers=18.6.0
    archname=darwin-2level
    uname='darwin cjg-mac.local 18.6.0 darwin kernel version 18.6.0: thu apr 25 23:16:27 pdt 2019; root:xnu-4903.261.4~2release_x86_64 x86_64 '
    config_args='-des -Dprefix=~/bin/perl-blead -Dscriptdir=~/bin/perl-blead/bin -Dusedevel -Duse64bitall'
    hint=recommended
    useposix=true
    d_sigaction=define
    useithreads=undef
    usemultiplicity=undef
    use64bitint=define
    use64bitall=define
    uselongdouble=undef
    usemymalloc=n
    default_inc_excludes_dot=define
    bincompat5005=undef
  Compiler:
    cc='cc'
    ccflags ='-fno-common -DPERL_DARWIN -mmacosx-version-min=10.14 -arch x86_64 -fno-strict-aliasing -pipe -fstack-protector-strong -DPERL_USE_SAFE_PUTENV'
    optimize='-O3'
    cppflags='-arch x86_64 -fno-common -DPERL_DARWIN -mmacosx-version-min=10.14 -arch x86_64 -fno-strict-aliasing -pipe -fstack-protector-strong'
    ccversion=''
    gccversion='4.2.1 Compatible Apple LLVM 10.0.1 (clang-1001.0.46.4)'
    gccosandvers=''
    intsize=4
    longsize=8
    ptrsize=8
    doublesize=8
    byteorder=12345678
    doublekind=3
    d_longlong=define
    longlongsize=8
    d_longdbl=define
    longdblsize=16
    longdblkind=3
    ivtype='long'
    ivsize=8
    nvtype='double'
    nvsize=8
    Off_t='off_t'
    lseeksize=8
    alignbytes=8
    prototype=define
  Linker and Libraries:
    ld='cc -arch x86_64'
    ldflags =' -mmacosx-version-min=10.14 -arch x86_64 -fstack-protector-strong'
    libpth=/Applications/Xcode.app/Contents/Developer/Toolchains/XcodeDefault.xctoolchain/usr/lib/clang/10.0.1/lib /Applications/Xcode.app/Contents/Developer/Toolchains/XcodeDefault.xctoolchain/usr/lib /Applications/Xcode.app/Contents/Developer/Platforms/MacOSX.platform/Developer/SDKs/MacOSX10.14.sdk/usr/lib /usr/lib
    libs=-lpthread -ldbm -ldl -lm -lutil -lc
    perllibs=-lpthread -ldl -lm -lutil -lc
    libc=
    so=dylib
    useshrplib=false
    libperl=libperl.a
    gnulibc_version=''
  Dynamic Linking:
    dlsrc=dl_dlopen.xs
    dlext=bundle
    d_dlsymun=undef
    ccdlflags=' '
    cccdlflags=' '
    lddlflags=' -mmacosx-version-min=10.14 -bundle -undefined dynamic_lookup -fstack-protector-strong'


Characteristics of this binary (from libperl): 
  Compile-time options:
    HAS_TIMES
    PERLIO_LAYERS
    PERL_COPY_ON_WRITE
    PERL_DONT_CREATE_GVSV
    PERL_MALLOC_WRAP
    PERL_OP_PARENT
    PERL_PRESERVE_IVUV
    PERL_USE_DEVEL
    PERL_USE_SAFE_PUTENV
    USE_64_BIT_ALL
    USE_64_BIT_INT
    USE_LARGE_FILES
    USE_LOCALE
    USE_LOCALE_COLLATE
    USE_LOCALE_CTYPE
    USE_LOCALE_NUMERIC
    USE_LOCALE_TIME
    USE_PERLIO
    USE_PERL_ATOF
  Built under darwin
  Compiled at Jun 22 2019 15:18:40
  %ENV:
    PERL5LIB=""
    PERL5OPT=""
    PERL5_CPANPLUS_IS_RUNNING="66783"
    PERL5_CPAN_IS_RUNNING="66783"
    PERL_MM_USE_DEFAULT="1"
    PERL_USE_UNSAFE_INC="1"
    PERL_VERSION="blead"
  @INC:
    /Users/cpan/bin/perl-blead/lib/site_perl/5.31.2/darwin-2level
    /Users/cpan/bin/perl-blead/lib/site_perl/5.31.2
    /Users/cpan/bin/perl-blead/lib/5.31.2/darwin-2level
    /Users/cpan/bin/perl-blead/lib/5.31.2
    .