Back
From: metabase:user:30f4dfbe-2aae-11df-837a-5e0a49663a4f
Subject: PASS XML-FOAF-0.04 v5.12.4 RC1 GNU/Linux
Date: 2011-06-17T23:47:09Z
This distribution has been tested as part of the CPAN Testers
project, supporting the Perl programming language. See
http://wiki.cpantesters.org/ for more information or email
questions to cpan-testers-discuss@perl.org
--
Dear Benjamin Trott,
This is a computer-generated report for XML-FOAF-0.04
on perl 5.12.4 patch v5.12.4-RC1-2-g77ab288, created by CPAN-Reporter-1.1902.
Thank you for uploading your work to CPAN. Congratulations!
All tests were successful.
Sections of this report:
* Tester comments
* Program output
* Prerequisites
* Environment and other context
------------------------------
TESTER COMMENTS
------------------------------
Additional comments from tester:
this report is from an automated smoke testing program
and was not reviewed by a human for accuracy
------------------------------
PROGRAM OUTPUT
------------------------------
Output from '/usr/bin/make test':
PERL_DL_NONLAZY=1 /usr/local/bin/perl5.12.4 "-MExtUtils::Command::MM" "-e" "test_harness(0, 'inc', 'blib/lib', 'blib/arch')" t/*.t
t/00-compile.t .......... ok
t/01-new.t .............. ok
t/02-parse.t ............ ok
t/03-person.t ........... ok
t/04-external-entity.t .. ok
All tests successful.
Files=5, Tests=28, 3 wallclock secs ( 0.04 usr 0.02 sys + 0.91 cusr 0.12 csys = 1.09 CPU)
Result: PASS
------------------------------
PREREQUISITES
------------------------------
Prerequisite modules loaded:
requires:
Module Need Have
------------------- ---- ----
ExtUtils::MakeMaker 6.42 6.56
Filter::Util::Call 0 1.08
RDF::Core 0 0.51
Test::More 0 0.98
URI 0 1.58
configure_requires:
Module Need Have
------------------- ---- ----
ExtUtils::MakeMaker 6.42 6.56
------------------------------
ENVIRONMENT AND OTHER CONTEXT
------------------------------
Environment variables:
AUTOMATED_TESTING = 1
LANG = en_US.UTF-8
PATH = /usr/bin:/bin
PERL5LIB = /root/.cpan/build/RDF-Core-0.51-dWcB6n/blib/arch:/root/.cpan/build/RDF-Core-0.51-dWcB6n/blib/lib:/root/.cpan/build/DBI-1.616-2wsLBE/blib/arch:/root/.cpan/build/DBI-1.616-2wsLBE/blib/lib:/root/.cpan/build/XML-Parser-2.41-PLlFVY/blib/arch:/root/.cpan/build/XML-Parser-2.41-PLlFVY/blib/lib
PERL5OPT =
PERL5_CPANPLUS_IS_RUNNING = 23880
PERL5_CPAN_IS_RUNNING = 23880
PERL5_MINISMOKEBOX = 0.54
PERL_EXTUTILS_AUTOINSTALL = --defaultdeps
PERL_MM_USE_DEFAULT = 1
SHELL = /bin/sh
Perl special variables (and OS-specific diagnostics, for MSWin32):
$^X = /usr/local/bin/perl5.12.4
$UID/$EUID = 0 / 0
$GID = 0 0
$EGID = 0 0
Perl module toolchain versions installed:
Module Have
------------------- --------
CPAN 1.9600
Cwd 3.33
ExtUtils::CBuilder 0.280202
ExtUtils::Command 1.16
ExtUtils::Install 1.55
ExtUtils::MakeMaker 6.56
ExtUtils::Manifest 1.57
ExtUtils::ParseXS 2.21
File::Spec 3.33
Module::Build 0.3800
Module::Signature n/a
Test::Harness 3.23
Test::More 0.98
YAML 0.73
YAML::Syck 1.17
version 0.91
--
Summary of my perl5 (revision 5 version 12 subversion 4 patch v5.12.4-RC1-2-g77ab288) configuration:
Snapshot of: 77ab2884ea4d6c3fff81ea673caff7258615574a
Platform:
osname=linux, osvers=2.6.39-2-amd64, archname=x86_64-linux-thread-multi
uname='linux bandsman.dyndns-ip.com 2.6.39-2-amd64 #1 smp wed jun 8 11:01:04 utc 2011 x86_64 gnulinux '
config_args='-des -Dusedevel -Accflags=-O2 -W -Wformat=2 -Wall -Wextra -pipe -mtune=native -march=native -fomit-frame-pointer -msse2 -msse -mmmx -mfpmath=sse -D_FORTIFY_SOURCE=2 -fstack-protector -Wstack-protector -Wfloat-equal -Duseithreads'
hint=recommended, useposix=true, d_sigaction=define
useithreads=define, usemultiplicity=define
useperlio=define, d_sfio=undef, uselargefiles=define, usesocks=undef
use64bitint=define, use64bitall=define, uselongdouble=undef
usemymalloc=n, bincompat5005=undef
Compiler:
cc='cc', ccflags ='-D_REENTRANT -D_GNU_SOURCE -DDEBUGGING -O2 -W -Wformat=2 -Wall -Wextra -pipe -mtune=native -march=native -fomit-frame-pointer -msse2 -msse -mmmx -mfpmath=sse -D_FORTIFY_SOURCE=2 -fstack-protector -Wstack-protector -Wfloat-equal -fno-strict-aliasing -I/usr/local/include -D_LARGEFILE_SOURCE -D_FILE_OFFSET_BITS=64',
optimize='-O2',
cppflags='-D_REENTRANT -D_GNU_SOURCE -DDEBUGGING -O2 -W -Wformat=2 -Wall -Wextra -pipe -mtune=native -march=native -fomit-frame-pointer -msse2 -msse -mmmx -mfpmath=sse -D_FORTIFY_SOURCE=2 -fstack-protector -Wstack-protector -Wfloat-equal -fno-strict-aliasing -I/usr/local/include'
ccversion='', gccversion='4.6.1 20110611 (prerelease)', gccosandvers=''
intsize=4, longsize=8, ptrsize=8, doublesize=8, byteorder=12345678
d_longlong=define, longlongsize=8, d_longdbl=define, longdblsize=16
ivtype='long', ivsize=8, nvtype='double', nvsize=8, Off_t='off_t', lseeksize=8
alignbytes=8, prototype=define
Linker and Libraries:
ld='cc', ldflags =' -fstack-protector -L/usr/local/lib'
libpth=/usr/local/lib /lib /usr/lib /usr/lib/x86_64-linux-gnu /lib64 /usr/lib64
libs=-lnsl -ldb -ldl -lm -lcrypt -lutil -lpthread -lc
perllibs=-lnsl -ldl -lm -lcrypt -lutil -lpthread -lc
libc=, so=so, useshrplib=false, libperl=libperl.a
gnulibc_version='2.13'
Dynamic Linking:
dlsrc=dl_dlopen.xs, dlext=so, d_dlsymun=undef, ccdlflags='-Wl,-E'
cccdlflags='-fPIC', lddlflags='-shared -O2 -L/usr/local/lib -fstack-protector'
Characteristics of this binary (from libperl):
Compile-time options: DEBUGGING MULTIPLICITY PERL_DONT_CREATE_GVSV
PERL_IMPLICIT_CONTEXT PERL_MALLOC_WRAP
PERL_TRACK_MEMPOOL PERL_USE_DEVEL USE_64_BIT_ALL
USE_64_BIT_INT USE_ITHREADS USE_LARGE_FILES
USE_PERLIO USE_PERL_ATOF USE_REENTRANT_API
Locally applied patches:
RC1
SMOKE77ab2884ea4d6c3fff81ea673caff7258615574a
Built under linux
Compiled at Jun 13 2011 08:56:17
%ENV:
PERL5LIB="/root/.cpan/build/RDF-Core-0.51-dWcB6n/blib/arch:/root/.cpan/build/RDF-Core-0.51-dWcB6n/blib/lib:/root/.cpan/build/DBI-1.616-2wsLBE/blib/arch:/root/.cpan/build/DBI-1.616-2wsLBE/blib/lib:/root/.cpan/build/XML-Parser-2.41-PLlFVY/blib/arch:/root/.cpan/build/XML-Parser-2.41-PLlFVY/blib/lib"
PERL5OPT=""
PERL5_CPANPLUS_IS_RUNNING="23880"
PERL5_CPAN_IS_RUNNING="23880"
PERL5_MINISMOKEBOX="0.54"
PERL_EXTUTILS_AUTOINSTALL="--defaultdeps"
PERL_MM_USE_DEFAULT="1"
@INC:
/root/.cpan/build/RDF-Core-0.51-dWcB6n/blib/arch
/root/.cpan/build/RDF-Core-0.51-dWcB6n/blib/lib
/root/.cpan/build/DBI-1.616-2wsLBE/blib/arch
/root/.cpan/build/DBI-1.616-2wsLBE/blib/lib
/root/.cpan/build/XML-Parser-2.41-PLlFVY/blib/arch
/root/.cpan/build/XML-Parser-2.41-PLlFVY/blib/lib
/usr/local/lib/perl5/site_perl/5.12.4/x86_64-linux-thread-multi
/usr/local/lib/perl5/site_perl/5.12.4
/usr/local/lib/perl5/5.12.4/x86_64-linux-thread-multi
/usr/local/lib/perl5/5.12.4
/usr/local/lib/perl5/site_perl
.