WWW-Mechanize-Cached v1.56 Perl 5 v5.41.12 x86_64-linux
- Status
- Pass
- From
- Andreas J. König (ANDK)
- Dist
-
WWW-Mechanize-Cached v1.56
- Platform
- Perl 5 v5.41.12 x86_64-linux
- Date
- 2025-05-08 04:30:05
- ID
- 1d675c64-2bc5-11f0-914a-a42fae58487c
This distribution has been tested as part of the CPAN Testers
project, supporting the Perl programming language. See
http://wiki.cpantesters.org/ for more information or email
questions to cpan-testers-discuss@perl.org
--
Dear Olaf Alders,
This is a computer-generated report for WWW-Mechanize-Cached-1.56
on perl 5.41.12, created by CPAN-Reporter-1.2020.
Thank you for uploading your work to CPAN. Congratulations!
All tests were successful.
Sections of this report:
* Tester comments
* Program output
* Prerequisites
* Environment and other context
------------------------------
TESTER COMMENTS
------------------------------
Additional comments from tester:
this report is from an automated smoke testing program
and was not reviewed by a human for accuracy
------------------------------
PROGRAM OUTPUT
------------------------------
Output from '/usr/bin/make test':
PERL_DL_NONLAZY=1 "/home/sand/src/perl/repoperls/installed-perls/host/k93msid/v5.41.12/bb7f/bin/perl" "-MExtUtils::Command::MM" "-MTest::Harness" "-e" "undef *Test::Harness::Switches; test_harness(0, 'blib/lib', 'blib/arch')" t/*.t
#
# Versions for all modules listed in MYMETA.json (including optional ones):
#
# === Configure Requires ===
#
# Module Want Have
# ------------------- ---- ----
# ExtUtils::MakeMaker any 7.74
#
# === Build Requires ===
#
# Module Want Have
# ------------------- ---- ----
# ExtUtils::MakeMaker any 7.74
#
# === Test Requires ===
#
# Module Want Have
# ---------------------- ---- --------
# CHI any 0.61
# Cache::FileCache any undef
# ExtUtils::MakeMaker any 7.74
# File::Spec any 3.94
# HTTP::Request any 7.00
# HTTP::Response any 7.00
# Path::Tiny any 0.148
# Test::Fatal any 0.017
# Test::More any 1.302210
# Test::Needs any 0.002010
# Test::RequiresInternet any 0.05
# Test::Warnings any 0.038
# URI::file any 5.31
# constant any 1.33
# lib any 0.65
# strict any 1.13
#
# === Test Recommends ===
#
# Module Want Have
# ---------- -------- --------
# CPAN::Meta 2.120900 2.150010
#
# === Runtime Requires ===
#
# Module Want Have
# ---------------------------- -------- --------
# Cache::FileCache any undef
# Carp any 1.54
# Data::Dump any 1.25
# LWP::UserAgent 6.66 6.78
# Module::Runtime any 0.018
# Moo 1.004005 2.005005
# MooX::Types::MooseLike::Base any 0.29
# Storable 2.21 3.37
# WWW::Mechanize any 2.19
# namespace::clean any 0.27
# warnings any 1.74
#
# === Runtime Recommends ===
#
# Module Want Have
# ------ ---- ----
# CHI any 0.61
#
t/00-report-prereqs.t ........ ok
t/002-bad-custom-cache.t ..... ok
t/004-cached.t ............... ok
t/005-custom-cache.t ......... ok
t/006-cached-chi.t ........... ok
t/007-clear-cache.t .......... ok
t/007-initialize-warnings.t .. ok
# reversing page order
t/cache_key.t ................ ok
t/cache_ok.t ................. ok
t/default.t .................. ok
t/is_cached.t ................ ok
t/response_cache_ok.t ........ ok
All tests successful.
Files=12, Tests=129, 24 wallclock secs ( 0.06 usr 0.07 sys + 3.86 cusr 0.94 csys = 4.93 CPU)
Result: PASS
------------------------------
PREREQUISITES
------------------------------
Prerequisite modules loaded:
requires:
Module Need Have
---------------------------- -------- --------
Cache::FileCache 0 0
Carp 0 1.54
Data::Dump 0 1.25
LWP::UserAgent 6.66 6.78
Module::Runtime 0 0.018
Moo 1.004005 2.005005
MooX::Types::MooseLike::Base 0 0.29
namespace::clean 0 0.27
perl 5.008 5.041012
Storable 2.21 3.37
warnings 0 1.74
WWW::Mechanize 0 2.19
build_requires:
Module Need Have
---------------------------- -------- --------
Cache::FileCache 0 0
CHI 0 0.61
constant 0 1.33
ExtUtils::MakeMaker 0 7.74
File::Spec 0 3.94
HTTP::Request 0 7.00
HTTP::Response 0 7.00
lib 0 0.65
Path::Tiny 0 0.148
strict 0 1.13
Test::Fatal 0 0.017
Test::More 0 1.302210
Test::Needs 0 0.002010
Test::RequiresInternet 0 0.05
Test::Warnings 0 0.038
URI::file 0 5.31
configure_requires:
Module Need Have
---------------------------- -------- --------
ExtUtils::MakeMaker 0 7.74
perl 5.006 5.041012
opt_requires:
Module Need Have
---------------------------- -------- --------
CHI 0 0.61
------------------------------
ENVIRONMENT AND OTHER CONTEXT
------------------------------
Environment variables:
AUTOMATED_TESTING = 1
LANG = en_US.UTF-8
LANGUAGE = en_US:en
PATH = /home/sand/bin:/usr/local/bin:/usr/bin:/bin:/usr/games:/usr/local/perl/bin:/usr/X11/bin:/sbin:/usr/sbin
PERL5LIB =
PERL5OPT =
PERL5_CPANPLUS_IS_RUNNING = 1960256
PERL5_CPAN_IS_RUNNING = 1960256
PERL_CANARY_STABILITY_NOPROMPT = 1
PERL_MM_USE_DEFAULT = 1
PERL_USE_UNSAFE_INC = 1
SHELL = /usr/bin/zsh
TERM = screen
Perl special variables (and OS-specific diagnostics, for MSWin32):
$^X = /home/sand/src/perl/repoperls/installed-perls/host/k93msid/v5.41.12/bb7f/bin/perl
$UID/$EUID = 1005 / 1005
$GID = 1005 1005
$EGID = 1005 1005
Perl module toolchain versions installed:
Module Have
------------------- --------
CPAN 2.38
CPAN::Meta 2.150010
Cwd 3.94
ExtUtils::CBuilder 0.280240
ExtUtils::Command 7.74
ExtUtils::Install 2.22
ExtUtils::MakeMaker 7.74
ExtUtils::Manifest 1.75
ExtUtils::ParseXS 3.57
File::Spec 3.94
JSON 4.10
JSON::PP 4.16
Module::Build 0.4234
Module::Signature 0.89
Parse::CPAN::Meta 2.150010
Test2 1.302210
Test::Harness 3.50
Test::More 1.302210
YAML 1.31
YAML::Syck 1.34
version 0.9933
--
Summary of my perl5 (revision 5 version 41 subversion 12) configuration:
Commit id: bc4cd0b708bd15e68ef7f85105f7edb5be1f0f58
Platform:
osname=linux
osvers=6.8.12-amd64
archname=x86_64-linux
uname='linux k93msid 6.8.12-amd64 #1 smp preempt_dynamic debian 6.8.12-1 (2024-05-31) x86_64 gnulinux '
config_args='-Dprefix=/home/sand/src/perl/repoperls/installed-perls/host/k93msid/v5.41.12/bb7f -Dmyhostname=k93msid -Dinstallusrbinperl=n -Uversiononly -Dusedevel -des -Ui_db -Dlibswanted=cl pthread socket inet nsl gdbm dbm malloc dl ld sun m crypt sec util c cposix posix ucb BSD gdbm_compat -Uuseithreads -Uuselongdouble -DEBUGGING=both'
hint=recommended
useposix=true
d_sigaction=define
useithreads=undef
usemultiplicity=undef
use64bitint=define
use64bitall=define
uselongdouble=undef
usemymalloc=n
default_inc_excludes_dot=define
Compiler:
cc='cc'
ccflags ='-fwrapv -DDEBUGGING -fno-strict-aliasing -pipe -fstack-protector-strong -I/usr/local/include -D_LARGEFILE_SOURCE -D_FILE_OFFSET_BITS=64 -D_FORTIFY_SOURCE=2'
optimize='-O2 -g'
cppflags='-fwrapv -DDEBUGGING -fno-strict-aliasing -pipe -fstack-protector-strong -I/usr/local/include'
ccversion=''
gccversion='13.3.0'
gccosandvers=''
intsize=4
longsize=8
ptrsize=8
doublesize=8
byteorder=12345678
doublekind=3
d_longlong=define
longlongsize=8
d_longdbl=define
longdblsize=16
longdblkind=3
ivtype='long'
ivsize=8
nvtype='double'
nvsize=8
Off_t='off_t'
lseeksize=8
alignbytes=8
prototype=define
Linker and Libraries:
ld='cc'
ldflags =' -fstack-protector-strong -L/usr/local/lib'
libpth=/usr/local/lib /usr/lib/x86_64-linux-gnu /usr/lib /usr/lib64
libs=-lpthread -ldl -lm -lcrypt -lutil -lc
perllibs=-lpthread -ldl -lm -lcrypt -lutil -lc
libc=/lib/x86_64-linux-gnu/libc.so.6
so=so
useshrplib=false
libperl=libperl.a
gnulibc_version='2.38'
Dynamic Linking:
dlsrc=dl_dlopen.xs
dlext=so
d_dlsymun=undef
ccdlflags='-Wl,-E'
cccdlflags='-fPIC'
lddlflags='-shared -O2 -g -L/usr/local/lib -fstack-protector-strong'
Characteristics of this binary (from libperl):
Compile-time options:
DEBUGGING
HAS_LONG_DOUBLE
HAS_STRTOLD
HAS_TIMES
PERLIO_LAYERS
PERL_COPY_ON_WRITE
PERL_DONT_CREATE_GVSV
PERL_HASH_FUNC_SIPHASH13
PERL_HASH_USE_SBOX32
PERL_MALLOC_WRAP
PERL_OP_PARENT
PERL_PRESERVE_IVUV
PERL_USE_DEVEL
PERL_USE_SAFE_PUTENV
USE_64_BIT_ALL
USE_64_BIT_INT
USE_LARGE_FILES
USE_LOCALE
USE_LOCALE_COLLATE
USE_LOCALE_CTYPE
USE_LOCALE_NUMERIC
USE_LOCALE_TIME
USE_PERLIO
USE_PERL_ATOF
Built under linux
Compiled at Apr 22 2025 04:03:28
%ENV:
PERL5LIB=""
PERL5OPT=""
PERL5_CPANPLUS_IS_RUNNING="1960256"
PERL5_CPAN_IS_RUNNING="1960256"
PERL_CANARY_STABILITY_NOPROMPT="1"
PERL_MM_USE_DEFAULT="1"
PERL_USE_UNSAFE_INC="1"
@INC:
/home/sand/src/perl/repoperls/installed-perls/host/k93msid/v5.41.12/bb7f/lib/site_perl/5.41.12/x86_64-linux
/home/sand/src/perl/repoperls/installed-perls/host/k93msid/v5.41.12/bb7f/lib/site_perl/5.41.12
/home/sand/src/perl/repoperls/installed-perls/host/k93msid/v5.41.12/bb7f/lib/5.41.12/x86_64-linux
/home/sand/src/perl/repoperls/installed-perls/host/k93msid/v5.41.12/bb7f/lib/5.41.12
.