Pod-Weaver-Section-CollectWithIntro v0.001 Perl 5 v5.35.8 x86_64-linux-ld

Status
Pass
From
Andreas J. König (ANDK)
Dist
Pod-Weaver-Section-CollectWithIntro v0.001
Platform
Perl 5 v5.35.8 x86_64-linux-ld
Date
2021-12-25 23:33:50
ID
1d5b808c-65db-11ec-86b0-c20c6ef95620
This distribution has been tested as part of the CPAN Testers
project, supporting the Perl programming language.  See
http://wiki.cpantesters.org/ for more information or email
questions to cpan-testers-discuss@perl.org


--
Dear Chris Weyl,

This is a computer-generated report for Pod-Weaver-Section-CollectWithIntro-0.001
on perl 5.35.8, created by CPAN-Reporter-1.2018.

Thank you for uploading your work to CPAN.  Congratulations!
All tests were successful.

Sections of this report:

    * Tester comments
    * Program output
    * Prerequisites
    * Environment and other context

------------------------------
TESTER COMMENTS
------------------------------

Additional comments from tester:

this report is from an automated smoke testing program
and was not reviewed by a human for accuracy

------------------------------
PROGRAM OUTPUT
------------------------------

Output from '/usr/bin/make test':

PERL_DL_NONLAZY=1 "/tmp/basesmoker-reloperl-QMeS/bin/perl" "-MExtUtils::Command::MM" "-MTest::Harness" "-e" "undef *Test::Harness::Switches; test_harness(0, 'blib/lib', 'blib/arch')" t/*.t
t/00-compile.t .................. ok
# 
# 
# Generated by Dist::Zilla::Plugin::ReportVersions::Tiny v1.08
# perl: 5.035008 (wanted 5.006) on linux from /tmp/basesmoker-reloperl-QMeS/bin/perl
# 
# ExtUtils::MakeMaker                           => 7.64       (want 6.30)   
# File::Find                                    => 1.39_01    (want any version)
# File::Temp                                    => 0.2311     (want any version)
# Moose                                         => 2.2201     (want any version)
# Moose::Autobox                                => 0.16       (want 0.10)   
# PPI                                           => 1.270      (want any version)
# Pod::Coverage::TrustPod                       => 0.100005   (want any version)
# Pod::Elemental                                => 0.103005   (want any version)
# Pod::Elemental::Element::Pod5::Ordinary       => 0.103005   (want any version)
# Pod::Elemental::Selectors                     => 0.103005   (want any version)
# Pod::Elemental::Transformer::Nester           => 0.103005   (want any version)
# Pod::Elemental::Transformer::Pod5             => 0.103005   (want any version)
# Pod::Weaver                                   => 4.018      (want any version)
# Pod::Weaver::Section::Collect                 => 4.018      (want any version)
# Test::Differences                             => 0.68       (want any version)
# Test::More                                    => 1.302188   (want 0.88)   
# Test::Pod                                     => 1.52       (want 1.41)   
# Test::Pod::Coverage                           => 1.10       (want 1.08)   
# aliased                                       => 0.34       (want any version)
# autobox::Core                                 => 1.33       (want any version)
# namespace::autoclean                          => 0.29       (want any version)
# strict                                        => 1.12       (want any version)
# version                                       => 0.9929     (want 0.9901) 
# warnings                                      => 1.56       (want any version)
# 
# Thanks for using my code.  I hope it works for you.
# If not, please try and include this output in the bug report.
# That will help me reproduce the issue and solve your problem.
# 
t/000-report-versions-tiny.t .... ok
t/author-pod-spell.t ............ skipped: these tests are for testing by the author
t/basic.t ....................... ok
t/release-consistent-version.t .. skipped: these tests are for release candidate testing
t/release-eol.t ................. skipped: these tests are for release candidate testing
t/release-has-version.t ......... skipped: these tests are for release candidate testing
t/release-no-smart-comments.t ... skipped: these tests are for release candidate testing
t/release-no-tabs.t ............. skipped: these tests are for release candidate testing
t/release-pod-coverage.t ........ skipped: these tests are for release candidate testing
t/release-pod-syntax.t .......... skipped: these tests are for release candidate testing
t/release-portability.t ......... skipped: these tests are for release candidate testing
All tests successful.
Files=12, Tests=3,  2 wallclock secs ( 0.03 usr  0.03 sys +  1.58 cusr  0.30 csys =  1.94 CPU)
Result: PASS

------------------------------
PREREQUISITES
------------------------------

Prerequisite modules loaded:

requires:

    Module                                  Need Have    
    --------------------------------------- ---- --------
    aliased                                 0    0.34    
    autobox::Core                           0    1.33    
    Moose                                   0    2.2201  
    namespace::autoclean                    0    0.29    
    Pod::Elemental::Element::Pod5::Ordinary 0    0.103005
    Pod::Weaver::Section::Collect           0    4.018   

build_requires:

    Module                                  Need Have    
    --------------------------------------- ---- --------
    File::Find                              0    1.39_01 
    File::Temp                              0    0.2311  
    Moose::Autobox                          0.10 0.16    
    Pod::Elemental                          0    0.103005
    Pod::Elemental::Selectors               0    0.103005
    Pod::Elemental::Transformer::Nester     0    0.103005
    Pod::Elemental::Transformer::Pod5       0    0.103005
    Pod::Weaver                             0    4.018   
    PPI                                     0    1.270   
    strict                                  0    1.12    
    Test::Differences                       0    0.68    
    Test::More                              0.88 1.302188
    warnings                                0    1.56    

configure_requires:

    Module                                  Need Have    
    --------------------------------------- ---- --------
    ExtUtils::MakeMaker                     6.30 7.64    


------------------------------
ENVIRONMENT AND OTHER CONTEXT
------------------------------

Environment variables:

    AUTOMATED_TESTING = 1
    LANG = en_US.UTF-8
    PATH = /home/sand/bin:/usr/local/bin:/usr/bin:/bin:/usr/games:/usr/local/perl/bin:/usr/X11/bin:/sbin:/usr/sbin
    PERL = /tmp/basesmoker-reloperl-QMeS/bin/perl
    PERL5LIB = 
    PERL5OPT = 
    PERL5_CPANPLUS_IS_RUNNING = 3153146
    PERL5_CPAN_IS_RUNNING = 3153146
    PERL_CANARY_STABILITY_NOPROMPT = 1
    PERL_MM_USE_DEFAULT = 1
    PERL_USE_UNSAFE_INC = 1
    SHELL = /usr/bin/zsh
    TERM = screen

Perl special variables (and OS-specific diagnostics, for MSWin32):

    $^X = /tmp/basesmoker-reloperl-QMeS/bin/perl
    $UID/$EUID = 1005 / 1005
    $GID = 1005 1005
    $EGID = 1005 1005

Perl module toolchain versions installed:

    Module              Have    
    ------------------- --------
    CPAN                2.29    
    CPAN::Meta          2.150010
    Cwd                 3.83    
    ExtUtils::CBuilder  0.280236
    ExtUtils::Command   7.64    
    ExtUtils::Install   2.20    
    ExtUtils::MakeMaker 7.64    
    ExtUtils::Manifest  1.73    
    ExtUtils::ParseXS   3.44    
    File::Spec          3.83    
    JSON                4.04    
    JSON::PP            4.07    
    Module::Build       0.4231  
    Module::Signature   0.88    
    Parse::CPAN::Meta   2.150010
    Test::Harness       3.43    
    Test::More          1.302188
    YAML                1.30    
    YAML::Syck          1.34    
    version             0.9929  


--

Summary of my perl5 (revision 5 version 35 subversion 8) configuration:
  Commit id: d28cf2c2854ef1507811a5f4fb3d309c60987498
  Platform:
    osname=linux
    osvers=5.14.0-3-amd64
    archname=x86_64-linux-ld
    uname='linux k93msid 5.14.0-3-amd64 #1 smp debian 5.14.12-1 (2021-10-14) x86_64 gnulinux '
    config_args='-Dprefix=/home/sand/src/perl/repoperls/installed-perls/host/k93msid/v5.35.7-16-gd28cf2c285/af11 -Dmyhostname=k93msid -Dinstallusrbinperl=n -Uversiononly -Dusedevel -des -Ui_db -Dlibswanted=cl pthread socket inet nsl gdbm dbm malloc dl ld sun m crypt sec util c cposix posix ucb BSD gdbm_compat -Uuseithreads -Duselongdouble -DEBUGGING=-g'
    hint=recommended
    useposix=true
    d_sigaction=define
    useithreads=undef
    usemultiplicity=undef
    use64bitint=define
    use64bitall=define
    uselongdouble=define
    usemymalloc=n
    default_inc_excludes_dot=define
  Compiler:
    cc='cc'
    ccflags ='-fwrapv -fno-strict-aliasing -pipe -fstack-protector-strong -I/usr/local/include -D_LARGEFILE_SOURCE -D_FILE_OFFSET_BITS=64 -D_FORTIFY_SOURCE=2'
    optimize='-O2 -g'
    cppflags='-fwrapv -fno-strict-aliasing -pipe -fstack-protector-strong -I/usr/local/include'
    ccversion=''
    gccversion='11.2.0'
    gccosandvers=''
    intsize=4
    longsize=8
    ptrsize=8
    doublesize=8
    byteorder=12345678
    doublekind=3
    d_longlong=define
    longlongsize=8
    d_longdbl=define
    longdblsize=16
    longdblkind=3
    ivtype='long'
    ivsize=8
    nvtype='long double'
    nvsize=16
    Off_t='off_t'
    lseeksize=8
    alignbytes=16
    prototype=define
  Linker and Libraries:
    ld='cc'
    ldflags =' -fstack-protector-strong -L/usr/local/lib'
    libpth=/usr/local/lib /usr/lib/x86_64-linux-gnu /usr/lib /lib/x86_64-linux-gnu /lib
    libs=-lpthread -lnsl -ldl -lm -lcrypt -lutil -lc
    perllibs=-lpthread -lnsl -ldl -lm -lcrypt -lutil -lc
    libc=libc-2.32.so
    so=so
    useshrplib=false
    libperl=libperl.a
    gnulibc_version='2.32'
  Dynamic Linking:
    dlsrc=dl_dlopen.xs
    dlext=so
    d_dlsymun=undef
    ccdlflags='-Wl,-E'
    cccdlflags='-fPIC'
    lddlflags='-shared -O2 -g -L/usr/local/lib -fstack-protector-strong'


Characteristics of this binary (from libperl): 
  Compile-time options:
    HAS_TIMES
    PERLIO_LAYERS
    PERL_COPY_ON_WRITE
    PERL_DONT_CREATE_GVSV
    PERL_MALLOC_WRAP
    PERL_OP_PARENT
    PERL_PRESERVE_IVUV
    PERL_USE_DEVEL
    USE_64_BIT_ALL
    USE_64_BIT_INT
    USE_LARGE_FILES
    USE_LOCALE
    USE_LOCALE_COLLATE
    USE_LOCALE_CTYPE
    USE_LOCALE_NUMERIC
    USE_LOCALE_TIME
    USE_LONG_DOUBLE
    USE_PERLIO
    USE_PERL_ATOF
  Built under linux
  Compiled at Dec 24 2021 21:58:11
  %ENV:
    PERL="/tmp/basesmoker-reloperl-QMeS/bin/perl"
    PERL5LIB=""
    PERL5OPT=""
    PERL5_CPANPLUS_IS_RUNNING="3153146"
    PERL5_CPAN_IS_RUNNING="3153146"
    PERL_CANARY_STABILITY_NOPROMPT="1"
    PERL_MM_USE_DEFAULT="1"
    PERL_USE_UNSAFE_INC="1"
  @INC:
    /home/sand/src/perl/repoperls/installed-perls/host/k93msid/v5.35.7-16-gd28cf2c285/af11/lib/site_perl/5.35.8/x86_64-linux-ld
    /home/sand/src/perl/repoperls/installed-perls/host/k93msid/v5.35.7-16-gd28cf2c285/af11/lib/site_perl/5.35.8
    /home/sand/src/perl/repoperls/installed-perls/host/k93msid/v5.35.7-16-gd28cf2c285/af11/lib/5.35.8/x86_64-linux-ld
    /home/sand/src/perl/repoperls/installed-perls/host/k93msid/v5.35.7-16-gd28cf2c285/af11/lib/5.35.8
    .