Fluent-Logger v0.27 Perl 5 v5.29.5 x86_64-linux

Status
Pass
From
Slaven Rezić (SREZIC)
Dist
Fluent-Logger v0.27
Platform
Perl 5 v5.29.5 x86_64-linux
Date
2018-12-13 22:26:20
ID
1d4b6d06-ff26-11e8-8ca7-e5b5b3e6969d
This distribution has been tested as part of the CPAN Testers
project, supporting the Perl programming language.  See
http://wiki.cpantesters.org/ for more information or email
questions to cpan-testers-discuss@perl.org


--
Dear FUJIWARA Shunichiro,

This is a computer-generated report for Fluent-Logger-0.27
on perl 5.29.5, created by CPAN-Reporter-1.2018.

Thank you for uploading your work to CPAN.  Congratulations!
All tests were successful.

Sections of this report:

    * Tester comments
    * Program output
    * Prerequisites
    * Environment and other context

------------------------------
TESTER COMMENTS
------------------------------

Additional comments from tester:

none provided

------------------------------
PROGRAM OUTPUT
------------------------------

Output from './Build test':

t/00_compile.t ...................... ok
t/01_new.t .......................... ok
t/02_unix_socket.t .................. ok
t/03_tcp.t .......................... ok
Can't exec "fluentd": No such file or directory at /home/cpansand/.cpan/build/2018121322/Fluent-Logger-0.27-0/t/../t/Util.pm line 34.
Use of uninitialized value in pattern match (m//) at /home/cpansand/.cpan/build/2018121322/Fluent-Logger-0.27-0/t/../t/Util.pm line 34.
t/04_live.t ......................... skipped: fluentd is not installed.
Can't exec "fluentd": No such file or directory at /home/cpansand/.cpan/build/2018121322/Fluent-Logger-0.27-0/t/../t/Util.pm line 34.
Use of uninitialized value in pattern match (m//) at /home/cpansand/.cpan/build/2018121322/Fluent-Logger-0.27-0/t/../t/Util.pm line 34.
t/05_prefer_integer.t ............... skipped: fluentd is not installed.
Can't exec "fluentd": No such file or directory at /home/cpansand/.cpan/build/2018121322/Fluent-Logger-0.27-0/t/../t/Util.pm line 34.
Use of uninitialized value in pattern match (m//) at /home/cpansand/.cpan/build/2018121322/Fluent-Logger-0.27-0/t/../t/Util.pm line 34.
t/06_fork.t ......................... skipped: fluentd is not installed.
Can't exec "fluentd": No such file or directory at /home/cpansand/.cpan/build/2018121322/Fluent-Logger-0.27-0/t/../t/Util.pm line 34.
Use of uninitialized value in pattern match (m//) at /home/cpansand/.cpan/build/2018121322/Fluent-Logger-0.27-0/t/../t/Util.pm line 34.
t/07_str_bin.t ...................... skipped: fluentd is not installed.
Can't exec "fluentd": No such file or directory at /home/cpansand/.cpan/build/2018121322/Fluent-Logger-0.27-0/t/../t/Util.pm line 34.
Use of uninitialized value in pattern match (m//) at /home/cpansand/.cpan/build/2018121322/Fluent-Logger-0.27-0/t/../t/Util.pm line 34.
t/08_udp.t .......................... skipped: fluentd is not installed.
2018-12-13T22:13:49+0000 Fluent::Logger[94289972680424](127.0.0.1:35723): Can't connect: Connection refused at t/09_buffer_overflow_handler.t line 16.
2018-12-13T22:13:49+0000 Fluent::Logger[94289972680424](127.0.0.1:35723): Can't connect: Connection refused at t/09_buffer_overflow_handler.t line 19.
2018-12-13T22:13:49+0000 Fluent::Logger[94289972680424](127.0.0.1:35723): Cannot send data: Connection is not available at /home/cpansand/.cpan/build/2018121322/Fluent-Logger-0.27-0/blib/lib/Fluent/Logger.pm line 329. at t/09_buffer_overflow_handler.t line 19.
2018-12-13T22:13:49+0000 Fluent::Logger[94289972680424](127.0.0.1:35723): flushing pending data on close at t/09_buffer_overflow_handler.t line 23.
2018-12-13T22:13:49+0000 Fluent::Logger[94289972680424](127.0.0.1:35723): Can't connect: Connection refused at t/09_buffer_overflow_handler.t line 23.
2018-12-13T22:13:49+0000 Fluent::Logger[94289972680424](127.0.0.1:35723): Can't send pending data. LOST 2097194 bytes.: Connection is not available at /home/cpansand/.cpan/build/2018121322/Fluent-Logger-0.27-0/blib/lib/Fluent/Logger.pm line 329. at t/09_buffer_overflow_handler.t line 23.
t/09_buffer_overflow_handler.t ...... ok
2018-12-13T22:13:50+0000 Fluent::Logger[94473048505264](127.0.0.1:35647): Can't connect: Connection refused at t/10_truncate_buffet_at_overflow.t line 12.
2018-12-13T22:13:50+0000 Fluent::Logger[94473048505264](127.0.0.1:35647): Can't connect: Connection refused at t/10_truncate_buffet_at_overflow.t line 19.
2018-12-13T22:13:50+0000 Fluent::Logger[94473048505264](127.0.0.1:35647): Cannot send data: Connection is not available at /home/cpansand/.cpan/build/2018121322/Fluent-Logger-0.27-0/blib/lib/Fluent/Logger.pm line 329. at t/10_truncate_buffet_at_overflow.t line 19.
2018-12-13T22:13:50+0000 Fluent::Logger[94473048505264](127.0.0.1:35647): Can't connect: Connection refused at t/10_truncate_buffet_at_overflow.t line 23.
2018-12-13T22:13:50+0000 Fluent::Logger[94473048505264](127.0.0.1:35647): Cannot send data: Connection is not available at /home/cpansand/.cpan/build/2018121322/Fluent-Logger-0.27-0/blib/lib/Fluent/Logger.pm line 329. at t/10_truncate_buffet_at_overflow.t line 23.
2018-12-13T22:13:50+0000 Fluent::Logger[94473048505264](127.0.0.1:35647): Can't connect: Connection refused at t/10_truncate_buffet_at_overflow.t line 23.
2018-12-13T22:13:50+0000 Fluent::Logger[94473048505264](127.0.0.1:35647): Cannot send data: Connection is not available at /home/cpansand/.cpan/build/2018121322/Fluent-Logger-0.27-0/blib/lib/Fluent/Logger.pm line 329. at t/10_truncate_buffet_at_overflow.t line 23.
2018-12-13T22:13:50+0000 Fluent::Logger[94473048505264](127.0.0.1:35647): Can't connect: Connection refused at t/10_truncate_buffet_at_overflow.t line 23.
2018-12-13T22:13:50+0000 Fluent::Logger[94473048505264](127.0.0.1:35647): Cannot send data: Connection is not available at /home/cpansand/.cpan/build/2018121322/Fluent-Logger-0.27-0/blib/lib/Fluent/Logger.pm line 329. at t/10_truncate_buffet_at_overflow.t line 23.
2018-12-13T22:13:50+0000 Fluent::Logger[94473048505264](127.0.0.1:35647): Can't connect: Connection refused at t/10_truncate_buffet_at_overflow.t line 23.
2018-12-13T22:13:50+0000 Fluent::Logger[94473048505264](127.0.0.1:35647): Cannot send data: Connection is not available at /home/cpansand/.cpan/build/2018121322/Fluent-Logger-0.27-0/blib/lib/Fluent/Logger.pm line 329. at t/10_truncate_buffet_at_overflow.t line 23.
2018-12-13T22:13:50+0000 Fluent::Logger[94473048505264](127.0.0.1:35647): Can't connect: Connection refused at t/10_truncate_buffet_at_overflow.t line 23.
2018-12-13T22:13:50+0000 Fluent::Logger[94473048505264](127.0.0.1:35647): Cannot send data: Connection is not available at /home/cpansand/.cpan/build/2018121322/Fluent-Logger-0.27-0/blib/lib/Fluent/Logger.pm line 329. at t/10_truncate_buffet_at_overflow.t line 23.
2018-12-13T22:13:50+0000 Fluent::Logger[94473048505264](127.0.0.1:35647): Can't connect: Connection refused at t/10_truncate_buffet_at_overflow.t line 23.
2018-12-13T22:13:50+0000 Fluent::Logger[94473048505264](127.0.0.1:35647): Cannot send data: Connection is not available at /home/cpansand/.cpan/build/2018121322/Fluent-Logger-0.27-0/blib/lib/Fluent/Logger.pm line 329. at t/10_truncate_buffet_at_overflow.t line 23.
2018-12-13T22:13:50+0000 Fluent::Logger[94473048505264](127.0.0.1:35647): Can't connect: Connection refused at t/10_truncate_buffet_at_overflow.t line 23.
2018-12-13T22:13:50+0000 Fluent::Logger[94473048505264](127.0.0.1:35647): Cannot send data: Connection is not available at /home/cpansand/.cpan/build/2018121322/Fluent-Logger-0.27-0/blib/lib/Fluent/Logger.pm line 329. at t/10_truncate_buffet_at_overflow.t line 23.
2018-12-13T22:13:50+0000 Fluent::Logger[94473048505264](127.0.0.1:35647): Can't connect: Connection refused at t/10_truncate_buffet_at_overflow.t line 23.
2018-12-13T22:13:50+0000 Fluent::Logger[94473048505264](127.0.0.1:35647): Cannot send data: Connection is not available at /home/cpansand/.cpan/build/2018121322/Fluent-Logger-0.27-0/blib/lib/Fluent/Logger.pm line 329. at t/10_truncate_buffet_at_overflow.t line 23.
2018-12-13T22:13:50+0000 Fluent::Logger[94473048505264](127.0.0.1:35647): flushing pending data on close at t/10_truncate_buffet_at_overflow.t line 27.
2018-12-13T22:13:50+0000 Fluent::Logger[94473048505264](127.0.0.1:35647): Can't connect: Connection refused at t/10_truncate_buffet_at_overflow.t line 27.
2018-12-13T22:13:50+0000 Fluent::Logger[94473048505264](127.0.0.1:35647): Can't send pending data. LOST 7340179 bytes.: Connection is not available at /home/cpansand/.cpan/build/2018121322/Fluent-Logger-0.27-0/blib/lib/Fluent/Logger.pm line 329. at t/10_truncate_buffet_at_overflow.t line 27.
t/10_truncate_buffet_at_overflow.t .. ok
Can't exec "fluentd": No such file or directory at /home/cpansand/.cpan/build/2018121322/Fluent-Logger-0.27-0/t/../t/Util.pm line 34.
Use of uninitialized value in pattern match (m//) at /home/cpansand/.cpan/build/2018121322/Fluent-Logger-0.27-0/t/../t/Util.pm line 34.
t/11_retry_immediately.t ............ skipped: fluentd is not installed.
All tests successful.
Files=12, Tests=35, 13 wallclock secs ( 0.04 usr  0.16 sys +  6.26 cusr  2.11 csys =  8.57 CPU)
Result: PASS

------------------------------
PREREQUISITES
------------------------------

Prerequisite modules loaded:

requires:

    Module                    Need    Have    
    ------------------------- ------- --------
    Class::Tiny               0       1.006   
    Data::MessagePack         0.35_01 1.00    
    Data::MessagePack::Stream 0       1.04    
    Time::Piece               0       1.33    
    UUID::Tiny                0       1.04    

build_requires:

    Module                    Need    Have    
    ------------------------- ------- --------
    Capture::Tiny             0       0.48    
    ExtUtils::MakeMaker       6.36    7.34    
    Path::Class               0       0.37    
    Test::More                0.88    1.302140
    Test::SharedFork          0       0.35    
    Test::TCP                 1.3     2.19    
    version                   0.77    0.9924  

configure_requires:

    Module                    Need    Have    
    ------------------------- ------- --------
    Module::Build::Tiny       0.035   0.039   


------------------------------
ENVIRONMENT AND OTHER CONTEXT
------------------------------

Environment variables:

    LANG = en_US.UTF-8
    PATH = /usr/local/bin:/usr/bin:/bin:/usr/local/sbin:/usr/sbin:/sbin:/home/cpansand/bin/linux-gnu:/home/cpansand/bin/sh:/home/cpansand/bin:/usr/games:/home/cpansand/devel:/home/eserte/src/srezic-misc/scripts
    PERL5LIB = /home/cpansand/.local/share/.cpan/build/2018121322/Data-MessagePack-Stream-1.04-0/blib/arch:/home/cpansand/.local/share/.cpan/build/2018121322/Data-MessagePack-Stream-1.04-0/blib/lib
    PERL5OPT = 
    PERL5_CPANPLUS_IS_RUNNING = 32102
    PERL5_CPAN_IS_RUNNING = 32102
    PERL5_CPAN_IS_RUNNING_IN_RECURSION = 31951,32102
    PERLDOC = -MPod::Perldoc::ToTextOverstrike
    PERL_BATCH = yes
    PERL_CANARY_STABILITY_NOPROMPT = 1
    PERL_CPAN_REPORTER_CONFIG = /var/tmp/cpansmoker-1023/2018121322/cpanreporter_000_config.ini
    PERL_EXTUTILS_AUTOINSTALL = --defaultdeps
    PERL_USE_UNSAFE_INC = 1
    SHELL = /usr/bin/zsh
    TERM = screen
    TMPDIR = /var/tmp/cpansmoker-1023/2018121322

Perl special variables (and OS-specific diagnostics, for MSWin32):

    $^X = /opt/perl-5.29.5/bin/perl5.29.5
    $UID/$EUID = 1023 / 1023
    $GID = 1023 1023
    $EGID = 1023 1023

Perl module toolchain versions installed:

    Module              Have    
    ------------------- --------
    CPAN                2.21    
    CPAN::Meta          2.150010
    Cwd                 3.76    
    ExtUtils::CBuilder  0.280230
    ExtUtils::Command   7.34    
    ExtUtils::Install   2.14    
    ExtUtils::MakeMaker 7.34    
    ExtUtils::Manifest  1.71    
    ExtUtils::ParseXS   3.39    
    File::Spec          3.76    
    JSON                4.00    
    JSON::PP            2.97001 
    Module::Build       0.4224  
    Module::Signature   0.83    
    Parse::CPAN::Meta   2.150010
    Test::Harness       3.42    
    Test::More          1.302140
    YAML                1.27    
    YAML::Syck          1.31    
    version             0.9924  


--

Summary of my perl5 (revision 5 version 29 subversion 5) configuration:
   
  Platform:
    osname=linux
    osvers=4.15.0-39-generic
    archname=x86_64-linux
    uname='linux ubuntu18 4.15.0-39-generic #42-ubuntu smp tue oct 23 15:48:01 utc 2018 x86_64 x86_64 x86_64 gnulinux '
    config_args='-ds -e -Dprefix=/opt/perl-5.29.5 -Dusedevel -Dusemallocwrap=no -Dcf_email=srezic@cpan.org'
    hint=recommended
    useposix=true
    d_sigaction=define
    useithreads=undef
    usemultiplicity=undef
    use64bitint=define
    use64bitall=define
    uselongdouble=undef
    usemymalloc=n
    default_inc_excludes_dot=define
    bincompat5005=undef
  Compiler:
    cc='cc'
    ccflags ='-fwrapv -fno-strict-aliasing -pipe -fstack-protector-strong -I/usr/local/include -D_LARGEFILE_SOURCE -D_FILE_OFFSET_BITS=64'
    optimize='-O2'
    cppflags='-fwrapv -fno-strict-aliasing -pipe -fstack-protector-strong -I/usr/local/include'
    ccversion=''
    gccversion='7.3.0'
    gccosandvers=''
    intsize=4
    longsize=8
    ptrsize=8
    doublesize=8
    byteorder=12345678
    doublekind=3
    d_longlong=define
    longlongsize=8
    d_longdbl=define
    longdblsize=16
    longdblkind=3
    ivtype='long'
    ivsize=8
    nvtype='double'
    nvsize=8
    Off_t='off_t'
    lseeksize=8
    alignbytes=8
    prototype=define
  Linker and Libraries:
    ld='cc'
    ldflags =' -fstack-protector-strong -L/usr/local/lib'
    libpth=/usr/local/lib /usr/lib/gcc/x86_64-linux-gnu/7/include-fixed /usr/include/x86_64-linux-gnu /usr/lib /lib/x86_64-linux-gnu /lib/../lib /usr/lib/x86_64-linux-gnu /usr/lib/../lib /lib
    libs=-lpthread -lnsl -lgdbm -ldb -ldl -lm -lcrypt -lutil -lc
    perllibs=-lpthread -lnsl -ldl -lm -lcrypt -lutil -lc
    libc=libc-2.27.so
    so=so
    useshrplib=false
    libperl=libperl.a
    gnulibc_version='2.27'
  Dynamic Linking:
    dlsrc=dl_dlopen.xs
    dlext=so
    d_dlsymun=undef
    ccdlflags='-Wl,-E'
    cccdlflags='-fPIC'
    lddlflags='-shared -O2 -L/usr/local/lib -fstack-protector-strong'


Characteristics of this binary (from libperl): 
  Compile-time options:
    HAS_TIMES
    PERLIO_LAYERS
    PERL_COPY_ON_WRITE
    PERL_DONT_CREATE_GVSV
    PERL_OP_PARENT
    PERL_PRESERVE_IVUV
    PERL_USE_DEVEL
    USE_64_BIT_ALL
    USE_64_BIT_INT
    USE_LARGE_FILES
    USE_LOCALE
    USE_LOCALE_COLLATE
    USE_LOCALE_CTYPE
    USE_LOCALE_NUMERIC
    USE_LOCALE_TIME
    USE_PERLIO
    USE_PERL_ATOF
  Built under linux
  Compiled at Nov 21 2018 06:59:32
  %ENV:
    PERL5LIB="/home/cpansand/.local/share/.cpan/build/2018121322/Data-MessagePack-Stream-1.04-0/blib/arch:/home/cpansand/.local/share/.cpan/build/2018121322/Data-MessagePack-Stream-1.04-0/blib/lib"
    PERL5OPT=""
    PERL5_CPANPLUS_IS_RUNNING="32102"
    PERL5_CPAN_IS_RUNNING="32102"
    PERL5_CPAN_IS_RUNNING_IN_RECURSION="31951,32102"
    PERLDOC="-MPod::Perldoc::ToTextOverstrike"
    PERL_BATCH="yes"
    PERL_CANARY_STABILITY_NOPROMPT="1"
    PERL_CPAN_REPORTER_CONFIG="/var/tmp/cpansmoker-1023/2018121322/cpanreporter_000_config.ini"
    PERL_EXTUTILS_AUTOINSTALL="--defaultdeps"
    PERL_USE_UNSAFE_INC="1"
  @INC:
    /home/cpansand/.local/share/.cpan/build/2018121322/Data-MessagePack-Stream-1.04-0/blib/arch
    /home/cpansand/.local/share/.cpan/build/2018121322/Data-MessagePack-Stream-1.04-0/blib/lib
    /opt/perl-5.29.5/lib/site_perl/5.29.5/x86_64-linux
    /opt/perl-5.29.5/lib/site_perl/5.29.5
    /opt/perl-5.29.5/lib/5.29.5/x86_64-linux
    /opt/perl-5.29.5/lib/5.29.5
    .