App-Puppet-Environment-Updater v0.001002 Perl 5 v5.38.0 RC2 x86_64-linux-thread-multi

Status
Pass
From
Andreas J. König (ANDK)
Dist
App-Puppet-Environment-Updater v0.001002
Platform
Perl 5 v5.38.0 RC2 x86_64-linux-thread-multi
Date
2023-06-25 08:13:06
ID
1d34dd98-1330-11ee-824f-c4a3286f3d21
This distribution has been tested as part of the CPAN Testers
project, supporting the Perl programming language.  See
http://wiki.cpantesters.org/ for more information or email
questions to cpan-testers-discuss@perl.org


--
Dear Manfred Stock,

This is a computer-generated report for App-Puppet-Environment-Updater-0.001002
on perl 5.38.0, created by CPAN-Reporter-1.2019.

Thank you for uploading your work to CPAN.  Congratulations!
All tests were successful.

Sections of this report:

    * Tester comments
    * Program output
    * Prerequisites
    * Environment and other context

------------------------------
TESTER COMMENTS
------------------------------

Additional comments from tester:

this report is from an automated smoke testing program
and was not reviewed by a human for accuracy

------------------------------
PROGRAM OUTPUT
------------------------------

Output from './Build test':

t/00-compile.t ...................... ok
# 
# 
# Generated by Dist::Zilla::Plugin::ReportVersions::Tiny v1.10
# perl: 5.038000 (wanted 5.006) on linux from /tmp/basesmoker-reloperl-Ofv1/bin/perl
# 
# Carp                                          => 1.54       (want any version)
# Directory::Scratch                            => 0.18       (want any version)
# File::Spec                                    => 3.88       (want any version)
# File::pushd                                   => 1.016      (want any version)
# Git::Wrapper                                  => 0.048      (want any version)
# IO::Handle                                    => 1.52       (want any version)
# IPC::Open3                                    => 1.22       (want any version)
# List::MoreUtils                               => 0.430      (want any version)
# Log::Dispatchouli                             => 3.005      (want any version)
# Module::Build                                 => 0.4234     (want 0.28)   
# Moose                                         => 2.2203     (want any version)
# MooseX::FollowPBP                             => 0.05       (want any version)
# MooseX::Getopt                                => 0.75       (want any version)
# MooseX::Types::Path::Class                    => 0.09       (want any version)
# Path::Class::Dir                              => 0.37       (want any version)
# Term::ANSIColor                               => 5.01       (want any version)
# Test::Class                                   => 0.52       (want any version)
# Test::Exception                               => 0.43       (want any version)
# Test::More                                    => 1.302195   (want 0.88)   
# Try::Tiny                                     => 0.31       (want any version)
# lib                                           => 0.65       (want any version)
# namespace::autoclean                          => 0.29       (want any version)
# parent                                        => 0.241      (want any version)
# strict                                        => 1.12       (want any version)
# warnings                                      => 1.65       (want any version)
# 
# Thanks for using my code.  I hope it works for you.
# If not, please try and include this output in the bug report.
# That will help me reproduce the issue and solve your problem.
# 
t/000-report-versions-tiny.t ........ ok
t/app.puppet.environment.updater.t .. ok
t/author-critic.t ................... skipped: these tests are for testing by the author
t/author-distmeta.t ................. skipped: these tests are for testing by the author
t/author-eol.t ...................... skipped: these tests are for testing by the author
t/author-pod-coverage.t ............. skipped: these tests are for testing by the author
t/author-pod-syntax.t ............... skipped: these tests are for testing by the author
t/release-cpan-changes.t ............ skipped: these tests are for release candidate testing
All tests successful.
Files=9, Tests=17,  3 wallclock secs ( 0.03 usr  0.00 sys +  1.93 cusr  0.55 csys =  2.51 CPU)
Result: PASS

------------------------------
PREREQUISITES
------------------------------

Prerequisite modules loaded:

requires:

    Module                     Need  Have    
    -------------------------- ----- --------
    Carp                       0     1.54    
    File::pushd                0     1.016   
    Git::Wrapper               0     0.048   
    List::MoreUtils            0     0.430   
    Log::Dispatchouli          0     3.005   
    Moose                      0     2.2203  
    MooseX::FollowPBP          0     0.05    
    MooseX::Getopt             0     0.75    
    MooseX::Types::Path::Class 0     0.09    
    namespace::autoclean       0     0.29    
    Path::Class::Dir           0     0.37    
    strict                     0     1.12    
    Term::ANSIColor            0     5.01    
    Try::Tiny                  0     0.31    
    warnings                   0     1.65    

build_requires:

    Module                     Need  Have    
    -------------------------- ----- --------
    Directory::Scratch         0     0.18    
    File::Spec                 0     3.88    
    IO::Handle                 0     1.52    
    IPC::Open3                 0     1.22    
    lib                        0     0.65    
    Module::Build              0.28  0.4234  
    parent                     0     0.241   
    perl                       5.006 5.038000
    Test::Class                0     0.52    
    Test::Exception            0     0.43    
    Test::More                 0.88  1.302195

configure_requires:

    Module                     Need  Have    
    -------------------------- ----- --------
    Module::Build              0.28  0.4234  


------------------------------
ENVIRONMENT AND OTHER CONTEXT
------------------------------

Environment variables:

    AUTOMATED_TESTING = 1
    LANG = en_US.UTF-8
    PATH = /home/sand/bin:/usr/local/bin:/usr/local/sbin:/usr/sbin:/usr/bin:/sbin:/bin:/usr/games:/usr/local/games:/snap/bin:/usr/local/perl/bin:/usr/X11/bin
    PERL = /tmp/basesmoker-reloperl-Ofv1/bin/perl
    PERL5LIB = 
    PERL5OPT = 
    PERL5_CPANPLUS_IS_RUNNING = 3525957
    PERL5_CPAN_IS_RUNNING = 3525957
    PERL_CANARY_STABILITY_NOPROMPT = 1
    PERL_MM_USE_DEFAULT = 1
    PERL_USE_UNSAFE_INC = 1
    SHELL = /usr/bin/zsh
    TERM = screen

Perl special variables (and OS-specific diagnostics, for MSWin32):

    $^X = /tmp/basesmoker-reloperl-Ofv1/bin/perl
    $UID/$EUID = 1005 / 1005
    $GID = 1005 1005
    $EGID = 1005 1005

Perl module toolchain versions installed:

    Module              Have    
    ------------------- --------
    CPAN                2.36    
    CPAN::Meta          2.150010
    Cwd                 3.89    
    ExtUtils::CBuilder  0.280238
    ExtUtils::Command   7.70    
    ExtUtils::Install   2.22    
    ExtUtils::MakeMaker 7.70    
    ExtUtils::Manifest  1.73    
    ExtUtils::ParseXS   3.51    
    File::Spec          3.88    
    JSON                4.10    
    JSON::PP            4.16    
    Module::Build       0.4234  
    Module::Signature   0.88    
    Parse::CPAN::Meta   2.150010
    Test2               1.302195
    Test::Harness       3.44    
    Test::More          1.302195
    YAML                1.30    
    YAML::Syck          1.34    
    version             0.9929  


--

Summary of my perl5 (revision 5 version 38 subversion 0) configuration:
  Commit id: 7e0355c5f679580a035fd112a69cb309c3b54a2b
  Platform:
    osname=linux
    osvers=5.4.0-150-generic
    archname=x86_64-linux-thread-multi
    uname='linux k93focal 5.4.0-150-generic #167-ubuntu smp mon may 15 17:35:05 utc 2023 x86_64 x86_64 x86_64 gnulinux '
    config_args='-Dprefix=/home/sand/src/perl/repoperls/installed-perls/host/k93focal/v5.38.0-RC2/d119 -Dmyhostname=k93focal -Dinstallusrbinperl=n -Uversiononly -Dusedevel -des -Ui_db -Dlibswanted=cl pthread socket inet nsl gdbm dbm malloc dl ld sun m crypt sec util c cposix posix ucb BSD gdbm_compat -Duseithreads -Uuselongdouble -DEBUGGING=both'
    hint=recommended
    useposix=true
    d_sigaction=define
    useithreads=define
    usemultiplicity=define
    use64bitint=define
    use64bitall=define
    uselongdouble=undef
    usemymalloc=n
    default_inc_excludes_dot=define
  Compiler:
    cc='cc'
    ccflags ='-D_REENTRANT -D_GNU_SOURCE -fwrapv -DDEBUGGING -fno-strict-aliasing -pipe -fstack-protector-strong -I/usr/local/include -D_LARGEFILE_SOURCE -D_FILE_OFFSET_BITS=64'
    optimize='-O2 -g'
    cppflags='-D_REENTRANT -D_GNU_SOURCE -fwrapv -DDEBUGGING -fno-strict-aliasing -pipe -fstack-protector-strong -I/usr/local/include'
    ccversion=''
    gccversion='9.4.0'
    gccosandvers=''
    intsize=4
    longsize=8
    ptrsize=8
    doublesize=8
    byteorder=12345678
    doublekind=3
    d_longlong=define
    longlongsize=8
    d_longdbl=define
    longdblsize=16
    longdblkind=3
    ivtype='long'
    ivsize=8
    nvtype='double'
    nvsize=8
    Off_t='off_t'
    lseeksize=8
    alignbytes=8
    prototype=define
  Linker and Libraries:
    ld='cc'
    ldflags =' -fstack-protector-strong -L/usr/local/lib'
    libpth=/usr/local/lib /usr/lib/x86_64-linux-gnu /usr/lib /usr/lib64
    libs=-lpthread -lnsl -ldl -lm -lcrypt -lutil -lc
    perllibs=-lpthread -lnsl -ldl -lm -lcrypt -lutil -lc
    libc=libc-2.31.so
    so=so
    useshrplib=false
    libperl=libperl.a
    gnulibc_version='2.31'
  Dynamic Linking:
    dlsrc=dl_dlopen.xs
    dlext=so
    d_dlsymun=undef
    ccdlflags='-Wl,-E'
    cccdlflags='-fPIC'
    lddlflags='-shared -O2 -g -L/usr/local/lib -fstack-protector-strong'


Characteristics of this binary (from libperl): 
  Compile-time options:
    DEBUGGING
    HAS_LONG_DOUBLE
    HAS_STRTOLD
    HAS_TIMES
    MULTIPLICITY
    PERLIO_LAYERS
    PERL_COPY_ON_WRITE
    PERL_DONT_CREATE_GVSV
    PERL_HASH_FUNC_SIPHASH13
    PERL_HASH_USE_SBOX32
    PERL_MALLOC_WRAP
    PERL_OP_PARENT
    PERL_PRESERVE_IVUV
    PERL_TRACK_MEMPOOL
    PERL_USE_DEVEL
    PERL_USE_SAFE_PUTENV
    USE_64_BIT_ALL
    USE_64_BIT_INT
    USE_ITHREADS
    USE_LARGE_FILES
    USE_LOCALE
    USE_LOCALE_COLLATE
    USE_LOCALE_CTYPE
    USE_LOCALE_NUMERIC
    USE_LOCALE_TIME
    USE_PERLIO
    USE_PERL_ATOF
    USE_REENTRANT_API
    USE_THREAD_SAFE_LOCALE
  Locally applied patches:
    RC2
  Built under linux
  Compiled at Jun 24 2023 19:01:52
  %ENV:
    PERL="/tmp/basesmoker-reloperl-Ofv1/bin/perl"
    PERL5LIB=""
    PERL5OPT=""
    PERL5_CPANPLUS_IS_RUNNING="3525957"
    PERL5_CPAN_IS_RUNNING="3525957"
    PERL_CANARY_STABILITY_NOPROMPT="1"
    PERL_MM_USE_DEFAULT="1"
    PERL_USE_UNSAFE_INC="1"
  @INC:
    /home/sand/src/perl/repoperls/installed-perls/host/k93focal/v5.38.0-RC2/d119/lib/site_perl/5.38.0/x86_64-linux-thread-multi
    /home/sand/src/perl/repoperls/installed-perls/host/k93focal/v5.38.0-RC2/d119/lib/site_perl/5.38.0
    /home/sand/src/perl/repoperls/installed-perls/host/k93focal/v5.38.0-RC2/d119/lib/5.38.0/x86_64-linux-thread-multi
    /home/sand/src/perl/repoperls/installed-perls/host/k93focal/v5.38.0-RC2/d119/lib/5.38.0
    .