Text-Template v1.61 Perl 5 v5.36.0 x86_64-netbsd-thread-multi
- Status
- Pass
- From
- Roland van Ipenburg (IPENBURG)
- Dist
-
Text-Template v1.61
- Platform
- Perl 5 v5.36.0 x86_64-netbsd-thread-multi
- Date
- 2023-07-05 23:31:49
- ID
- 1d30c0fa-1b8c-11ee-9cb7-7f445f7c2603
This distribution has been tested as part of the CPAN Testers
project, supporting the Perl programming language. See
http://wiki.cpantesters.org/ for more information or email
questions to cpan-testers-discuss@perl.org
--
Dear Michael Schout,
This is a computer-generated report for Text-Template-1.61
on perl 5.36.0, created by CPAN-Reporter-1.2019.
Thank you for uploading your work to CPAN. Congratulations!
All tests were successful.
Sections of this report:
* Tester comments
* Program output
* Prerequisites
* Environment and other context
------------------------------
TESTER COMMENTS
------------------------------
Additional comments from tester:
none provided
------------------------------
PROGRAM OUTPUT
------------------------------
Output from '/usr/bin/make test':
PERL_DL_NONLAZY=1 "/usr/pkg/bin/perl" "-MExtUtils::Command::MM" "-MTest::Harness" "-e" "undef *Test::Harness::Switches; test_harness(0, 'blib/lib', 'blib/arch')" t/*.t
t/author-pod-syntax.t .. skipped: these tests are for testing by the author
t/author-signature.t ... skipped: these tests are for testing by the author
t/basic.t .............. ok
t/broken.t ............. ok
t/delimiters.t ......... ok
t/error.t .............. ok
t/exported.t ........... ok
t/hash.t ............... ok
t/inline-comment.t ..... ok
t/nested-tags.t ........ ok
t/ofh.t ................ ok
t/out.t ................ ok
t/prepend.t ............ ok
t/preprocess.t ......... ok
t/rt29928.t ............ ok
t/safe.t ............... ok
t/safe2.t .............. ok
t/safe3.t .............. ok
t/strict.t ............. ok
t/taint.t .............. ok
t/template-encoding.t .. ok
t/warnings.t ........... ok
All tests successful.
Files=22, Tests=184, 1 wallclock secs ( 0.04 usr 0.08 sys + 0.44 cusr 0.93 csys = 1.49 CPU)
Result: PASS
------------------------------
PREREQUISITES
------------------------------
Prerequisite modules loaded:
requires:
Module Need Have
------------------- ----- --------
base 0 2.27
Carp 0 1.52
Encode 0 3.17
Exporter 0 5.77
perl 5.008 5.036000
strict 0 1.12
warnings 0 1.58
build_requires:
Module Need Have
------------------- ----- --------
ExtUtils::MakeMaker 0 7.64
File::Temp 0 0.2311
lib 0 0.65
Safe 0 2.43
Test::More 0 1.302190
Test::More::UTF8 0 0.05
Test::Warnings 0 0.031
utf8 0 1.24
vars 0 1.05
configure_requires:
Module Need Have
------------------- ----- --------
ExtUtils::MakeMaker 0 7.64
perl 5.008 5.036000
------------------------------
ENVIRONMENT AND OTHER CONTEXT
------------------------------
Environment variables:
LC_CTYPE = en_US.UTF-8
NONINTERACTIVE_TESTING = 1
PATH = /bin:/usr/bin:/usr/pkg/bin:/usr/local/bin:/usr/X11R7/bin
PERL5LIB =
PERL5OPT =
PERL5_CPANPLUS_IS_RUNNING = 24840
PERL5_CPAN_IS_RUNNING = 24840
PERL_MM_USE_DEFAULT = 1
PERL_USE_UNSAFE_INC = 1
SHELL = /bin/sh
TERM = xterm
Perl special variables (and OS-specific diagnostics, for MSWin32):
$^X = /usr/pkg/bin/perl
$UID/$EUID = 0 / 0
$GID = 0 0 2 3 4 5 20 31 34
$EGID = 0 0 2 3 4 5 20 31 34
Perl module toolchain versions installed:
Module Have
------------------- --------
CPAN 2.33
CPAN::Meta 2.150010
Cwd 3.84
ExtUtils::CBuilder 0.280236
ExtUtils::Command 7.64
ExtUtils::Install 2.20
ExtUtils::MakeMaker 7.64
ExtUtils::Manifest 1.73
ExtUtils::ParseXS 3.45
File::Spec 3.84
JSON n/a
JSON::PP 4.07
Module::Build 0.4234
Module::Signature n/a
Parse::CPAN::Meta 2.150010
Test2 1.302190
Test::Harness 3.44
Test::More 1.302190
YAML n/a
YAML::Syck n/a
version 0.9929
--
Summary of my perl5 (revision 5 version 36 subversion 0) configuration:
Platform:
osname=netbsd
osvers=9.0
archname=x86_64-netbsd-thread-multi
uname='netbsd amd64-nb9.netbsd.org 9.0 netbsd 9.0 (libkver) #0: tue jan 19 00:00:00 utc 2038 root@localhost:sysarchamd64compilelibkver amd64 '
config_args='-sde -Dldflags= -Wl,-zrelro -pthread -L/usr/lib -Wl,-R/usr/lib -Wl,-R/usr/pkg/lib -Duseshrplib -Duseithreads -Uusemymalloc'
hint=recommended
useposix=true
d_sigaction=define
useithreads=define
usemultiplicity=define
use64bitint=define
use64bitall=define
uselongdouble=undef
usemymalloc=n
default_inc_excludes_dot=define
Compiler:
cc='gcc'
ccflags ='-O2 -fPIC -D_FORTIFY_SOURCE=2 -pthread -I/usr/include -fwrapv -fno-strict-aliasing -pipe'
optimize='-O2 -fPIC -D_FORTIFY_SOURCE=2 -pthread -I/usr/include'
cppflags='-O2 -fPIC -D_FORTIFY_SOURCE=2 -pthread -I/usr/include -fwrapv -fno-strict-aliasing -pipe'
ccversion=''
gccversion='7.4.0'
gccosandvers=''
intsize=4
longsize=8
ptrsize=8
doublesize=8
byteorder=12345678
doublekind=3
d_longlong=define
longlongsize=8
d_longdbl=define
longdblsize=16
longdblkind=3
ivtype='long'
ivsize=8
nvtype='double'
nvsize=8
Off_t='off_t'
lseeksize=8
alignbytes=8
prototype=define
Linker and Libraries:
ld='gcc'
ldflags =' -Wl,-zrelro -pthread -L/usr/lib -Wl,-R/usr/lib -Wl,-R/usr/pkg/lib -L/usr/pkg/lib'
libpth=/lib /usr/lib /usr/pkg/lib
libs=-lm -lcrypt -lpthread
perllibs=-lm -lcrypt -lpthread
libc=/lib/libc.so
so=so
useshrplib=true
libperl=libperl.so
gnulibc_version=''
Dynamic Linking:
dlsrc=dl_dlopen.xs
dlext=so
d_dlsymun=undef
ccdlflags='-Wl,-E -Wl,-R/usr/pkg/lib/perl5/5.36.0/x86_64-netbsd-thread-multi/CORE'
cccdlflags='-DPIC -fPIC '
lddlflags='-shared -Wl,-zrelro -L/usr/lib -Wl,-R/usr/lib -Wl,-R/usr/pkg/lib -L/usr/pkg/lib'
Characteristics of this binary (from libperl):
Compile-time options:
HAS_TIMES
MULTIPLICITY
PERLIO_LAYERS
PERL_COPY_ON_WRITE
PERL_DONT_CREATE_GVSV
PERL_MALLOC_WRAP
PERL_OP_PARENT
PERL_PRESERVE_IVUV
USE_64_BIT_ALL
USE_64_BIT_INT
USE_ITHREADS
USE_LARGE_FILES
USE_LOCALE
USE_LOCALE_COLLATE
USE_LOCALE_CTYPE
USE_LOCALE_NUMERIC
USE_LOCALE_TIME
USE_PERLIO
USE_PERL_ATOF
USE_REENTRANT_API
Built under netbsd
Compiled at Sep 24 2022 01:09:59
%ENV:
PERL5LIB=""
PERL5OPT=""
PERL5_CPANPLUS_IS_RUNNING="24840"
PERL5_CPAN_IS_RUNNING="24840"
PERL_MM_USE_DEFAULT="1"
PERL_USE_UNSAFE_INC="1"
@INC:
/usr/pkg/lib/perl5/site_perl/5.36.0/x86_64-netbsd-thread-multi
/usr/pkg/lib/perl5/site_perl/5.36.0
/usr/pkg/lib/perl5/vendor_perl/5.36.0/x86_64-netbsd-thread-multi
/usr/pkg/lib/perl5/vendor_perl/5.36.0
/usr/pkg/lib/perl5/5.36.0/x86_64-netbsd-thread-multi
/usr/pkg/lib/perl5/5.36.0
.