Const-Exporter vv1.3.0 Perl 5 v5.30.3 MSWin32-x64-multi-thread
- Status
- Pass
- From
- twata
- Dist
-
Const-Exporter vv1.3.0
- Platform
- Perl 5 v5.30.3 MSWin32-x64-multi-thread
- Date
- 2024-12-30 13:42:14
- ID
- 1d2beecc-7074-1014-8029-4a0fcb952333
This distribution has been tested as part of the CPAN Testers
project, supporting the Perl programming language. See
http://wiki.cpantesters.org/ for more information or email
questions to cpan-testers-discuss@perl.org
--
Dear Robert Rothenberg,
This is a computer-generated report for Const-Exporter-v1.3.0
on perl 5.30.3, created by CPAN-Reporter-1.2020.
Thank you for uploading your work to CPAN. Congratulations!
All tests were successful.
Sections of this report:
* Tester comments
* Program output
* Prerequisites
* Environment and other context
------------------------------
TESTER COMMENTS
------------------------------
Additional comments from tester:
none provided
------------------------------
PROGRAM OUTPUT
------------------------------
Output from 'C:\Strawberry\c\bin\gmake.exe test':
"C:\Strawberry\perl\bin\perl.exe" "-MExtUtils::Command::MM" "-MTest::Harness" "-e" "undef *Test::Harness::Switches; test_harness(0, 'blib\lib', 'blib\arch')" t/*.t
#
# Versions for all modules listed in MYMETA.json (including optional ones):
#
# === Configure Requires ===
#
# Module Want Have
# ------------------- ---- -------
# ExtUtils::MakeMaker any 7.71_02
#
# === Build Requires ===
#
# Module Want Have
# ------------------- -------- --------
# ExtUtils::MakeMaker 7.22 7.71_02
# Module::Metadata 1.000015 1.000038
#
# === Test Requires ===
#
# Module Want Have
# ---------------- -------- --------
# File::Spec any 3.78
# Hash::Objectify any 0.008
# Module::Metadata 1.000015 1.000038
# Sub::Identify 0.06 0.14
# Test::More any 1.302207
# Test::Most any 0.38
# if any 0.0608
# lib any 0.65
# strict any 1.11
#
# === Test Recommends ===
#
# Module Want Have
# ---------- -------- --------
# CPAN::Meta 2.120900 2.150010
#
# === Runtime Requires ===
#
# Module Want Have
# -------------- -------- --------
# Carp any 1.50
# Const::Fast any 0.014
# Exporter 5.57 5.78
# List::Util 1.56 1.68
# Package::Stash any 0.40
# Ref::Util any 0.204
# perl 5.014000 5.030003
# warnings any 1.44
#
# === Runtime Recommends ===
#
# Module Want Have
# ------------------- ---- -----
# List::SomeUtils::XS any 0.58
# Package::Stash::XS any 0.30
# Ref::Util::XS any 0.117
# Storable 3.05 3.15
#
t/00-report-prereqs.t ....... ok
t/10-basic.t ................ ok
t/11-tags.t ................. ok
t/12-blessed.t .............. ok
t/13-is_const.t ............. ok
t/20-example.t .............. ok
t/21-example.t .............. ok
t/author-changes.t .......... skipped: these tests are for testing by the author
t/author-critic.t ........... skipped: these tests are for testing by the author
t/author-cve.t .............. skipped: these tests are for testing by the author
t/author-eof.t .............. skipped: these tests are for testing by the author
t/author-eol.t .............. skipped: these tests are for testing by the author
t/author-minimum-version.t .. skipped: these tests are for testing by the author
t/author-no-tabs.t .......... skipped: these tests are for testing by the author
t/author-pod-coverage.t ..... skipped: these tests are for testing by the author
t/author-pod-linkcheck.t .... skipped: these tests are for testing by the author
t/author-pod-syntax.t ....... skipped: these tests are for testing by the author
t/author-portability.t ...... skipped: these tests are for testing by the author
t/author-vars.t ............. skipped: these tests are for testing by the author
t/empty-with-const.t ........ ok
t/enums.t ................... ok
t/release-dist-manifest.t ... skipped: these tests are for release candidate testing
t/release-fixme.t ........... skipped: these tests are for release candidate testing
t/release-kwalitee.t ........ skipped: these tests are for release candidate testing
t/release-trailing-space.t .. skipped: these tests are for release candidate testing
t/strictures.t .............. ok
All tests successful.
Files=26, Tests=54, 7 wallclock secs ( 0.11 usr + 0.09 sys = 0.20 CPU)
Result: PASS
------------------------------
PREREQUISITES
------------------------------
Prerequisite modules loaded:
requires:
Module Need Have
------------------- -------- --------
Carp 0 1.50
Const::Fast 0 0.014
Exporter 5.57 5.78
List::Util 1.56 1.68
Package::Stash 0 0.40
perl 5.014000 5.030003
Ref::Util 0 0.204
warnings 0 1.44
build_requires:
Module Need Have
------------------- -------- --------
ExtUtils::MakeMaker 7.22 7.71_02
File::Spec 0 3.78
Hash::Objectify 0 0.008
if 0 0.0608
lib 0 0.65
Module::Metadata 1.000015 1.000038
strict 0 1.11
Sub::Identify 0.06 0.14
Test::More 0 1.302207
Test::Most 0 0.38
configure_requires:
Module Need Have
------------------- -------- --------
ExtUtils::MakeMaker 0 7.71_02
------------------------------
ENVIRONMENT AND OTHER CONTEXT
------------------------------
Environment variables:
COMSPEC = C:\WINDOWS\system32\cmd.exe
NONINTERACTIVE_TESTING = 1
NUMBER_OF_PROCESSORS = 4
PATH = C:\home\sunlight3\perl5\bin;C:\WINDOWS\system32;C:\WINDOWS;C:\WINDOWS\System32\Wbem;C:\WINDOWS\System32\WindowsPowerShell\v1.0\;C:\Strawberry\c\bin;C:\Strawberry\perl\site\bin;C:\Strawberry\perl\bin
PERL5LIB = C:\home\sunlight3\perl5\lib\perl5
PERL5OPT =
PERL5_CPANPLUS_IS_RUNNING = 21824
PERL5_CPAN_IS_RUNNING = 21824
PERL_LOCAL_LIB_ROOT = C:\home\sunlight3\perl5
PERL_MB_OPT = --install_base "C:\\home\\sunlight3\\perl5"
PERL_MM_OPT = INSTALL_BASE=C:\\home\\sunlight3\\perl5
PERL_MM_USE_DEFAULT = 1
PERL_USE_UNSAFE_INC = 1
PROCESSOR_IDENTIFIER = Intel64 Family 6 Model 58 Stepping 9, GenuineIntel
TEMP = C:\Users\USER\AppData\Local\Temp
TERM = dumb
TUGI_PERLVER = 5.030003
Perl special variables (and OS-specific diagnostics, for MSWin32):
$^X = C:\Strawberry\perl\bin\perl.exe
$UID/$EUID = 0 / 0
$GID = 0
$EGID = 0
Win32::GetOSName = Win8.1
Win32::GetOSVersion = , 6, 3, 9600, 2, 0, 0, 256, 1
Win32::FsType = NTFS
Win32::IsAdminUser = 0
Perl module toolchain versions installed:
Module Have
------------------- --------
CPAN 2.34
CPAN::Meta 2.150010
Cwd 3.78
ExtUtils::CBuilder 0.280234
ExtUtils::Command 7.71_02
ExtUtils::Install 2.22
ExtUtils::MakeMaker 7.71_02
ExtUtils::Manifest 1.75
ExtUtils::ParseXS 3.51
File::Spec 3.78
JSON 4.10
JSON::PP 4.17_01
Module::Build 0.4234
Module::Signature 0.89
Parse::CPAN::Meta 2.150010
Test2 1.302207
Test::Harness 3.50
Test::More 1.302207
YAML 1.31
YAML::Syck 1.34
version 0.9933
--
Summary of my perl5 (revision 5 version 30 subversion 3) configuration:
Platform:
osname=MSWin32
osvers=10.0.19041.329
archname=MSWin32-x64-multi-thread
uname='Win32 strawberry-perl 5.30.3.1 #1 Mon Jul 13 02:10:43 2020 x64'
config_args='undef'
hint=recommended
useposix=true
d_sigaction=undef
useithreads=define
usemultiplicity=define
use64bitint=define
use64bitall=undef
uselongdouble=undef
usemymalloc=n
default_inc_excludes_dot=define
bincompat5005=undef
Compiler:
cc='gcc'
ccflags =' -s -O2 -DWIN32 -DWIN64 -DCONSERVATIVE -D__USE_MINGW_ANSI_STDIO -DPERL_TEXTMODE_SCRIPTS -DPERL_IMPLICIT_CONTEXT -DPERL_IMPLICIT_SYS -DUSE_PERLIO -fwrapv -fno-strict-aliasing -mms-bitfields'
optimize='-s -O2'
cppflags='-DWIN32'
ccversion=''
gccversion='8.3.0'
gccosandvers=''
intsize=4
longsize=4
ptrsize=8
doublesize=8
byteorder=12345678
doublekind=3
d_longlong=define
longlongsize=8
d_longdbl=define
longdblsize=16
longdblkind=3
ivtype='long long'
ivsize=8
nvtype='double'
nvsize=8
Off_t='long long'
lseeksize=8
alignbytes=8
prototype=define
Linker and Libraries:
ld='g++'
ldflags ='-s -L"C:\Strawberry\perl\lib\CORE" -L"C:\Strawberry\c\lib"'
libpth=C:\Strawberry\c\lib C:\Strawberry\c\x86_64-w64-mingw32\lib C:\Strawberry\c\lib\gcc\x86_64-w64-mingw32\8.3.0
libs= -lmoldname -lkernel32 -luser32 -lgdi32 -lwinspool -lcomdlg32 -ladvapi32 -lshell32 -lole32 -loleaut32 -lnetapi32 -luuid -lws2_32 -lmpr -lwinmm -lversion -lodbc32 -lodbccp32 -lcomctl32
perllibs= -lmoldname -lkernel32 -luser32 -lgdi32 -lwinspool -lcomdlg32 -ladvapi32 -lshell32 -lole32 -loleaut32 -lnetapi32 -luuid -lws2_32 -lmpr -lwinmm -lversion -lodbc32 -lodbccp32 -lcomctl32
libc=
so=dll
useshrplib=true
libperl=libperl530.a
gnulibc_version=''
Dynamic Linking:
dlsrc=dl_win32.xs
dlext=xs.dll
d_dlsymun=undef
ccdlflags=' '
cccdlflags=' '
lddlflags='-mdll -s -L"C:\Strawberry\perl\lib\CORE" -L"C:\Strawberry\c\lib"'
Characteristics of this binary (from libperl):
Compile-time options:
HAS_TIMES
HAVE_INTERP_INTERN
MULTIPLICITY
PERLIO_LAYERS
PERL_COPY_ON_WRITE
PERL_DONT_CREATE_GVSV
PERL_IMPLICIT_CONTEXT
PERL_IMPLICIT_SYS
PERL_MALLOC_WRAP
PERL_OP_PARENT
PERL_PRESERVE_IVUV
USE_64_BIT_INT
USE_ITHREADS
USE_LARGE_FILES
USE_LOCALE
USE_LOCALE_COLLATE
USE_LOCALE_CTYPE
USE_LOCALE_NUMERIC
USE_LOCALE_TIME
USE_PERLIO
USE_PERL_ATOF
Built under MSWin32
Compiled at Jul 13 2020 02:15:51
%ENV:
PERL5LIB="C:\home\sunlight3\perl5\lib\perl5"
PERL5_CPANPLUS_IS_RUNNING="21824"
PERL5_CPAN_IS_RUNNING="21824"
PERL_LOCAL_LIB_ROOT="C:\home\sunlight3\perl5"
PERL_MB_OPT="--install_base "C:\\home\\sunlight3\\perl5""
PERL_MM_OPT="INSTALL_BASE=C:\\home\\sunlight3\\perl5"
PERL_MM_USE_DEFAULT="1"
PERL_USE_UNSAFE_INC="1"
@INC:
C:\home\sunlight3\perl5\lib\perl5/MSWin32-x64-multi-thread
C:\home\sunlight3\perl5\lib\perl5
C:/Strawberry/perl/site/lib
C:/Strawberry/perl/vendor/lib
C:/Strawberry/perl/lib
.