Alt-Crypt-RSA-BigInt v0.06 Perl 5 v5.28.1 amd64-netbsd
- Status
- Pass
- From
- Nigel Horne
- Dist
-
Alt-Crypt-RSA-BigInt v0.06
- Platform
- Perl 5 v5.28.1 amd64-netbsd
- Date
- 2020-06-26 03:35:43
- ID
- 1d268a58-b75e-11ea-bf9c-02b7912e08a8
This distribution has been tested as part of the CPAN Testers
project, supporting the Perl programming language. See
http://wiki.cpantesters.org/ for more information or email
questions to cpan-testers-discuss@perl.org
--
Dear Dana Jacobsen,
This is a computer-generated report for Alt-Crypt-RSA-BigInt-0.06
on perl 5.28.1, created by CPAN-Reporter-1.2018.
Thank you for uploading your work to CPAN. Congratulations!
All tests were successful.
Sections of this report:
* Tester comments
* Program output
* Prerequisites
* Environment and other context
------------------------------
TESTER COMMENTS
------------------------------
Additional comments from tester:
this report is from an automated smoke testing program
and was not reviewed by a human for accuracy
------------------------------
PROGRAM OUTPUT
------------------------------
Output from '/usr/bin/make test':
PERL_DL_NONLAZY=1 "/home/njh/perl5/perlbrew/perls/perl-5.28.1/bin/perl" "-MExtUtils::Command::MM" "-MTest::Harness" "-e" "undef *Test::Harness::Switches; test_harness(0, 'blib/lib', 'blib/arch')" t/*.t
t/00-errorhandler.t ........ ok
t/01-i2osp.t ............... ok
t/02-os2ip.t ............... ok
t/02a-h2osp.t .............. ok
t/03-random_octet.t ........ ok
t/04-octet_xor.t ........... ok
t/05-primitives.t .......... ok
# BigInt library: Calc
#
# *** These tests will be VERY slow. Install GMP! ***
#
t/06-oaep.t ................ ok
t/07-pss.t ................. ok
t/08-secretkey.t ........... ok
t/09-publickey.t ........... ok
t/10-keygen.t .............. ok
t/11-wrapper.t ............. ok
t/12-versioning.t .......... ok
t/13-es-pkcs1v15.t ......... ok
t/14-ss-pkcs1v15.t ......... ok
t/15-benchmark.t ........... ok
t/16-serialize.t ........... ok
t/17-public-ssh.t .......... ok
t/18-private-ssh.t ......... ok
t/91-release-pod-syntax.t .. skipped: these tests are for release candidate testing
All tests successful.
Files=21, Tests=109, 93 wallclock secs ( 0.15 usr 0.02 sys + 91.44 cusr 1.17 csys = 92.78 CPU)
Result: PASS
------------------------------
PREREQUISITES
------------------------------
Prerequisite modules loaded:
requires:
Module Need Have
---------------------- ----- --------
Carp 0 1.50
Class::Loader 0 2.03
Convert::ASCII::Armour 0 1.4
Crypt::Blowfish 0 2.14
Crypt::CBC 2.17 2.33
Data::Buffer 0 0.04
Data::Dumper 0 2.173
Digest::MD2 0 2.04
Digest::MD5 0 2.55
Digest::SHA 0 6.02
Exporter 0 5.73
Math::BigInt 1.78 1.999816
Math::Prime::Util 0.64 0.73
perl 5.008 5.028001
Sort::Versions 0 1.62
Tie::EncryptedHash 0 1.8
build_requires:
Module Need Have
---------------------- ----- --------
Benchmark 0 1.22
MIME::Base64 0 3.15
Test::More 0.45 1.302170
configure_requires:
Module Need Have
---------------------- ----- --------
ExtUtils::MakeMaker 0 7.34
------------------------------
ENVIRONMENT AND OTHER CONTEXT
------------------------------
Environment variables:
AUTOMATED_TESTING = 1
NONINTERACTIVE_TESTING = 1
PATH = /home/njh/perl5/perlbrew/bin:/home/njh/perl5/perlbrew/perls/perl-5.28.1/bin:/home/njh/src/njh/smoker/bin:/usr/bin:/bin:/usr/pkg/bin:/usr/local/bin
PERL5LIB = /home/njh/.cpan/build/Tie-EncryptedHash-1.24-0/blib/arch:/home/njh/.cpan/build/Tie-EncryptedHash-1.24-0/blib/lib:/home/njh/.cpan/build/Crypt-DES-2.07-0/blib/arch:/home/njh/.cpan/build/Crypt-DES-2.07-0/blib/lib:/home/njh/.cpan/build/Math-Prime-Util-0.73-0/blib/arch:/home/njh/.cpan/build/Math-Prime-Util-0.73-0/blib/lib:/home/njh/.cpan/build/Digest-MD2-2.04-0/blib/arch:/home/njh/.cpan/build/Digest-MD2-2.04-0/blib/lib:/home/njh/.cpan/build/Data-Buffer-0.04-0/blib/arch:/home/njh/.cpan/build/Data-Buffer-0.04-0/blib/lib:/home/njh/.cpan/build/Crypt-CBC-2.33-0/blib/arch:/home/njh/.cpan/build/Crypt-CBC-2.33-0/blib/lib:/home/njh/.cpan/build/Crypt-Blowfish-2.14-0/blib/arch:/home/njh/.cpan/build/Crypt-Blowfish-2.14-0/blib/lib:/home/njh/.cpan/build/Convert-ASCII-Armour-1.4-0/blib/arch:/home/njh/.cpan/build/Convert-ASCII-Armour-1.4-0/blib/lib:/home/njh/.cpan/build/Class-Loader-2.03-0/blib/arch:/home/njh/.cpan/build/Class-Loader-2.03-0/blib/lib
PERL5OPT =
PERL5_CPANPLUS_IS_RUNNING = 5130
PERL5_CPAN_IS_RUNNING = 5130
PERL5_CPAN_IS_RUNNING_IN_RECURSION = 2822,5130
PERLBREW_HOME = /home/njh/.perlbrew
PERLBREW_MANPATH = /home/njh/perl5/perlbrew/perls/perl-5.28.1/man
PERLBREW_PATH = /home/njh/perl5/perlbrew/bin:/home/njh/perl5/perlbrew/perls/perl-5.28.1/bin
PERLBREW_PERL = perl-5.28.1
PERLBREW_ROOT = /home/njh/perl5/perlbrew
PERLBREW_SHELLRC_VERSION = 0.88
PERLBREW_VERSION = 0.88
PERL_MM_USE_DEFAULT = 1
PERL_USE_UNSAFE_INC = 1
SHELL = /usr/bin/bash
TMPDIR = /tmp/testwrapper.4331
Perl special variables (and OS-specific diagnostics, for MSWin32):
$^X = /home/njh/perl5/perlbrew/perls/perl-5.28.1/bin/perl
$UID/$EUID = 1000 / 1000
$GID = 100 100 0
$EGID = 100 100 0
Perl module toolchain versions installed:
Module Have
------------------- --------
CPAN 2.28
CPAN::Meta 2.150010
Cwd 3.75
ExtUtils::CBuilder 0.280234
ExtUtils::Command 7.34
ExtUtils::Install 2.14
ExtUtils::MakeMaker 7.34
ExtUtils::Manifest 1.71
ExtUtils::ParseXS 3.39
File::Spec 3.75
JSON 4.02
JSON::PP 4.02
Module::Build 0.4224
Module::Signature n/a
Parse::CPAN::Meta 2.150010
Test::Harness 3.42
Test::More 1.302170
YAML 1.30
YAML::Syck 1.32
version 0.9924
--
Summary of my perl5 (revision 5 version 28 subversion 1) configuration:
Platform:
osname=netbsd
osvers=7.1.2
archname=amd64-netbsd
uname='netbsd vultr2.bandsman.co.uk 7.1.2 netbsd 7.1.2 (generic.201803151611z) amd64 '
config_args='-de -Dprefix=/home/njh/perl5/perlbrew/perls/perl-5.28.1 -Aeval:scriptdir=/home/njh/perl5/perlbrew/perls/perl-5.28.1/bin'
hint=recommended
useposix=true
d_sigaction=define
useithreads=undef
usemultiplicity=undef
use64bitint=define
use64bitall=define
uselongdouble=undef
usemymalloc=n
default_inc_excludes_dot=define
bincompat5005=undef
Compiler:
cc='cc'
ccflags ='-fwrapv -fno-strict-aliasing -pipe -fstack-protector -I/usr/pkg/include -D_FORTIFY_SOURCE=2'
optimize='-O'
cppflags='-fwrapv -fno-strict-aliasing -pipe -fstack-protector -I/usr/pkg/include'
ccversion=''
gccversion='4.8.5'
gccosandvers=''
intsize=4
longsize=8
ptrsize=8
doublesize=8
byteorder=12345678
doublekind=3
d_longlong=define
longlongsize=8
d_longdbl=define
longdblsize=16
longdblkind=3
ivtype='long'
ivsize=8
nvtype='double'
nvsize=8
Off_t='off_t'
lseeksize=8
alignbytes=8
prototype=define
Linker and Libraries:
ld='cc'
ldflags =' -Wl,-rpath,/usr/pkg/lib -Wl,-rpath,/usr/local/lib -fstack-protector -L/usr/pkg/lib'
libpth=/usr/include/gcc-4.8 /usr/lib /usr/pkg/lib /lib
libs=-lpthread -lm -lcrypt -lutil -lc -lposix
perllibs=-lpthread -lm -lcrypt -lutil -lc -lposix
libc=/lib/libc.so
so=so
useshrplib=false
libperl=libperl.a
gnulibc_version=''
Dynamic Linking:
dlsrc=dl_dlopen.xs
dlext=so
d_dlsymun=undef
ccdlflags='-Wl,-E '
cccdlflags='-DPIC -fPIC '
lddlflags='-shared -L/usr/pkg/lib -fstack-protector'
Characteristics of this binary (from libperl):
Compile-time options:
HAS_TIMES
PERLIO_LAYERS
PERL_COPY_ON_WRITE
PERL_DONT_CREATE_GVSV
PERL_MALLOC_WRAP
PERL_OP_PARENT
PERL_PRESERVE_IVUV
USE_64_BIT_ALL
USE_64_BIT_INT
USE_LARGE_FILES
USE_LOCALE
USE_LOCALE_COLLATE
USE_LOCALE_CTYPE
USE_LOCALE_NUMERIC
USE_LOCALE_TIME
USE_PERLIO
USE_PERL_ATOF
Locally applied patches:
Devel::PatchPerl 1.48
Built under netbsd
Compiled at Dec 3 2018 15:04:56
%ENV:
PERL5LIB="/home/njh/.cpan/build/Tie-EncryptedHash-1.24-0/blib/arch:/home/njh/.cpan/build/Tie-EncryptedHash-1.24-0/blib/lib:/home/njh/.cpan/build/Crypt-DES-2.07-0/blib/arch:/home/njh/.cpan/build/Crypt-DES-2.07-0/blib/lib:/home/njh/.cpan/build/Math-Prime-Util-0.73-0/blib/arch:/home/njh/.cpan/build/Math-Prime-Util-0.73-0/blib/lib:/home/njh/.cpan/build/Digest-MD2-2.04-0/blib/arch:/home/njh/.cpan/build/Digest-MD2-2.04-0/blib/lib:/home/njh/.cpan/build/Data-Buffer-0.04-0/blib/arch:/home/njh/.cpan/build/Data-Buffer-0.04-0/blib/lib:/home/njh/.cpan/build/Crypt-CBC-2.33-0/blib/arch:/home/njh/.cpan/build/Crypt-CBC-2.33-0/blib/lib:/home/njh/.cpan/build/Crypt-Blowfish-2.14-0/blib/arch:/home/njh/.cpan/build/Crypt-Blowfish-2.14-0/blib/lib:/home/njh/.cpan/build/Convert-ASCII-Armour-1.4-0/blib/arch:/home/njh/.cpan/build/Convert-ASCII-Armour-1.4-0/blib/lib:/home/njh/.cpan/build/Class-Loader-2.03-0/blib/arch:/home/njh/.cpan/build/Class-Loader-2.03-0/blib/lib"
PERL5OPT=""
PERL5_CPANPLUS_IS_RUNNING="5130"
PERL5_CPAN_IS_RUNNING="5130"
PERL5_CPAN_IS_RUNNING_IN_RECURSION="2822,5130"
PERLBREW_HOME="/home/njh/.perlbrew"
PERLBREW_MANPATH="/home/njh/perl5/perlbrew/perls/perl-5.28.1/man"
PERLBREW_PATH="/home/njh/perl5/perlbrew/bin:/home/njh/perl5/perlbrew/perls/perl-5.28.1/bin"
PERLBREW_PERL="perl-5.28.1"
PERLBREW_ROOT="/home/njh/perl5/perlbrew"
PERLBREW_SHELLRC_VERSION="0.88"
PERLBREW_VERSION="0.88"
PERL_MM_USE_DEFAULT="1"
PERL_USE_UNSAFE_INC="1"
@INC:
/home/njh/.cpan/build/Tie-EncryptedHash-1.24-0/blib/arch
/home/njh/.cpan/build/Tie-EncryptedHash-1.24-0/blib/lib
/home/njh/.cpan/build/Crypt-DES-2.07-0/blib/arch
/home/njh/.cpan/build/Crypt-DES-2.07-0/blib/lib
/home/njh/.cpan/build/Math-Prime-Util-0.73-0/blib/arch
/home/njh/.cpan/build/Math-Prime-Util-0.73-0/blib/lib
/home/njh/.cpan/build/Digest-MD2-2.04-0/blib/arch
/home/njh/.cpan/build/Digest-MD2-2.04-0/blib/lib
/home/njh/.cpan/build/Data-Buffer-0.04-0/blib/arch
/home/njh/.cpan/build/Data-Buffer-0.04-0/blib/lib
/home/njh/.cpan/build/Crypt-CBC-2.33-0/blib/arch
/home/njh/.cpan/build/Crypt-CBC-2.33-0/blib/lib
/home/njh/.cpan/build/Crypt-Blowfish-2.14-0/blib/arch
/home/njh/.cpan/build/Crypt-Blowfish-2.14-0/blib/lib
/home/njh/.cpan/build/Convert-ASCII-Armour-1.4-0/blib/arch
/home/njh/.cpan/build/Convert-ASCII-Armour-1.4-0/blib/lib
/home/njh/.cpan/build/Class-Loader-2.03-0/blib/arch
/home/njh/.cpan/build/Class-Loader-2.03-0/blib/lib
/home/njh/perl5/perlbrew/perls/perl-5.28.1/lib/site_perl/5.28.1/amd64-netbsd
/home/njh/perl5/perlbrew/perls/perl-5.28.1/lib/site_perl/5.28.1
/home/njh/perl5/perlbrew/perls/perl-5.28.1/lib/5.28.1/amd64-netbsd
/home/njh/perl5/perlbrew/perls/perl-5.28.1/lib/5.28.1
.