Net-Sieve-Script v0.09 Perl 5 v5.18.4 amd64-freebsd
- Status
- Pass
- From
- Slaven Rezić (SREZIC)
- Dist
-
Net-Sieve-Script v0.09
- Platform
- Perl 5 v5.18.4 amd64-freebsd
- Date
- 2017-08-21 13:32:01
- ID
- 1d154cce-8675-11e7-b9f8-a7c1bca1b37f
This distribution has been tested as part of the CPAN Testers
project, supporting the Perl programming language. See
http://wiki.cpantesters.org/ for more information or email
questions to cpan-testers-discuss@perl.org
--
Dear Yves Agostini,
This is a computer-generated report for Net-Sieve-Script-0.09
on perl 5.18.4, created by CPAN-Reporter-1.2018.
Thank you for uploading your work to CPAN. Congratulations!
All tests were successful.
Sections of this report:
* Tester comments
* Program output
* Prerequisites
* Environment and other context
------------------------------
TESTER COMMENTS
------------------------------
Additional comments from tester:
none provided
------------------------------
PROGRAM OUTPUT
------------------------------
Output from '/usr/bin/make test':
PERL_DL_NONLAZY=1 "/usr/perl5.18.4p/bin/perl5.18.4" "-MExtUtils::Command::MM" "-MTest::Harness" "-e" "undef *Test::Harness::Switches; test_harness(0, 'inc', 'blib/lib', 'blib/arch')" t/*.t
t/001_load.t ............. ok
t/001_load_action.t ...... ok
Use of uninitialized value $1 in lc at lib/Net/Sieve/Script/Condition.pm line 47.
Use of uninitialized value $address in lc at lib/Net/Sieve/Script/Condition.pm line 152.
Use of uninitialized value $1 in lc at lib/Net/Sieve/Script/Condition.pm line 47.
Use of uninitialized value $address in lc at lib/Net/Sieve/Script/Condition.pm line 152.
Use of uninitialized value $comparator in lc at lib/Net/Sieve/Script/Condition.pm line 154.
Use of uninitialized value $1 in lc at lib/Net/Sieve/Script/Condition.pm line 47.
Use of uninitialized value $address in lc at lib/Net/Sieve/Script/Condition.pm line 152.
Use of uninitialized value $1 in lc at lib/Net/Sieve/Script/Condition.pm line 47.
Use of uninitialized value $address in lc at lib/Net/Sieve/Script/Condition.pm line 152.
Use of uninitialized value $comparator in lc at lib/Net/Sieve/Script/Condition.pm line 154.
Use of uninitialized value $comparator in lc at lib/Net/Sieve/Script/Condition.pm line 154.
Use of uninitialized value $1 in lc at lib/Net/Sieve/Script/Condition.pm line 47.
Use of uninitialized value $1 in lc at lib/Net/Sieve/Script/Condition.pm line 47.
Use of uninitialized value $comparator in lc at lib/Net/Sieve/Script/Condition.pm line 154.
Use of uninitialized value $comparator in lc at lib/Net/Sieve/Script/Condition.pm line 154.
Use of uninitialized value $match in lc at lib/Net/Sieve/Script/Condition.pm line 146.
Use of uninitialized value $address in lc at lib/Net/Sieve/Script/Condition.pm line 152.
Use of uninitialized value $match in lc at lib/Net/Sieve/Script/Condition.pm line 153.
Use of uninitialized value $comparator in lc at lib/Net/Sieve/Script/Condition.pm line 154.
Use of uninitialized value $1 in lc at lib/Net/Sieve/Script/Condition.pm line 47.
Use of uninitialized value $1 in lc at lib/Net/Sieve/Script/Condition.pm line 47.
Use of uninitialized value $address in lc at lib/Net/Sieve/Script/Condition.pm line 152.
Use of uninitialized value $comparator in lc at lib/Net/Sieve/Script/Condition.pm line 154.
Use of uninitialized value $comparator in lc at lib/Net/Sieve/Script/Condition.pm line 154.
Use of uninitialized value $match in lc at lib/Net/Sieve/Script/Condition.pm line 146.
Use of uninitialized value $address in lc at lib/Net/Sieve/Script/Condition.pm line 152.
Use of uninitialized value $match in lc at lib/Net/Sieve/Script/Condition.pm line 153.
Use of uninitialized value $comparator in lc at lib/Net/Sieve/Script/Condition.pm line 154.
Use of uninitialized value $1 in lc at lib/Net/Sieve/Script/Condition.pm line 47.
Use of uninitialized value $address in lc at lib/Net/Sieve/Script/Condition.pm line 152.
Use of uninitialized value $comparator in lc at lib/Net/Sieve/Script/Condition.pm line 154.
Use of uninitialized value $address in lc at lib/Net/Sieve/Script/Condition.pm line 152.
Use of uninitialized value $comparator in lc at lib/Net/Sieve/Script/Condition.pm line 154.
Use of uninitialized value $1 in lc at lib/Net/Sieve/Script/Condition.pm line 47.
Use of uninitialized value $address in lc at lib/Net/Sieve/Script/Condition.pm line 152.
Use of uninitialized value $comparator in lc at lib/Net/Sieve/Script/Condition.pm line 154.
Use of uninitialized value $1 in lc at lib/Net/Sieve/Script/Condition.pm line 47.
Use of uninitialized value $address in lc at lib/Net/Sieve/Script/Condition.pm line 152.
Use of uninitialized value $1 in lc at lib/Net/Sieve/Script/Condition.pm line 47.
Use of uninitialized value $address in lc at lib/Net/Sieve/Script/Condition.pm line 152.
Use of uninitialized value $comparator in lc at lib/Net/Sieve/Script/Condition.pm line 154.
Use of uninitialized value $1 in lc at lib/Net/Sieve/Script/Condition.pm line 47.
Use of uninitialized value $1 in lc at lib/Net/Sieve/Script/Condition.pm line 47.
Use of uninitialized value $address in lc at lib/Net/Sieve/Script/Condition.pm line 152.
Use of uninitialized value $comparator in lc at lib/Net/Sieve/Script/Condition.pm line 154.
Use of uninitialized value $1 in lc at lib/Net/Sieve/Script/Condition.pm line 47.
Use of uninitialized value $address in lc at lib/Net/Sieve/Script/Condition.pm line 152.
Use of uninitialized value $comparator in lc at lib/Net/Sieve/Script/Condition.pm line 154.
Use of uninitialized value $1 in lc at lib/Net/Sieve/Script/Condition.pm line 47.
Use of uninitialized value $address in lc at lib/Net/Sieve/Script/Condition.pm line 152.
Use of uninitialized value $comparator in lc at lib/Net/Sieve/Script/Condition.pm line 154.
Use of uninitialized value $comparator in lc at lib/Net/Sieve/Script/Condition.pm line 154.
Use of uninitialized value $1 in lc at lib/Net/Sieve/Script/Condition.pm line 47.
Use of uninitialized value $match in lc at lib/Net/Sieve/Script/Condition.pm line 146.
Use of uninitialized value $address in lc at lib/Net/Sieve/Script/Condition.pm line 152.
Use of uninitialized value $match in lc at lib/Net/Sieve/Script/Condition.pm line 153.
Use of uninitialized value $comparator in lc at lib/Net/Sieve/Script/Condition.pm line 154.
Use of uninitialized value $match in lc at lib/Net/Sieve/Script/Condition.pm line 146.
Use of uninitialized value $address in lc at lib/Net/Sieve/Script/Condition.pm line 152.
Use of uninitialized value $match in lc at lib/Net/Sieve/Script/Condition.pm line 153.
Use of uninitialized value $comparator in lc at lib/Net/Sieve/Script/Condition.pm line 154.
Use of uninitialized value $1 in lc at lib/Net/Sieve/Script/Condition.pm line 47.
Use of uninitialized value $1 in lc at lib/Net/Sieve/Script/Condition.pm line 47.
Use of uninitialized value $address in lc at lib/Net/Sieve/Script/Condition.pm line 152.
Use of uninitialized value $comparator in lc at lib/Net/Sieve/Script/Condition.pm line 154.
Use of uninitialized value $1 in lc at lib/Net/Sieve/Script/Condition.pm line 47.
Use of uninitialized value $address in lc at lib/Net/Sieve/Script/Condition.pm line 152.
Use of uninitialized value $comparator in lc at lib/Net/Sieve/Script/Condition.pm line 154.
Use of uninitialized value $1 in lc at lib/Net/Sieve/Script/Condition.pm line 47.
Use of uninitialized value $address in lc at lib/Net/Sieve/Script/Condition.pm line 152.
Use of uninitialized value $comparator in lc at lib/Net/Sieve/Script/Condition.pm line 154.
Use of uninitialized value $1 in lc at lib/Net/Sieve/Script/Condition.pm line 47.
Use of uninitialized value $match in lc at lib/Net/Sieve/Script/Condition.pm line 146.
Use of uninitialized value $address in lc at lib/Net/Sieve/Script/Condition.pm line 152.
Use of uninitialized value $match in lc at lib/Net/Sieve/Script/Condition.pm line 153.
Use of uninitialized value $comparator in lc at lib/Net/Sieve/Script/Condition.pm line 154.
Use of uninitialized value $comparator in lc at lib/Net/Sieve/Script/Condition.pm line 154.
Use of uninitialized value $match in lc at lib/Net/Sieve/Script/Condition.pm line 146.
Use of uninitialized value $address in lc at lib/Net/Sieve/Script/Condition.pm line 152.
Use of uninitialized value $match in lc at lib/Net/Sieve/Script/Condition.pm line 153.
Use of uninitialized value $comparator in lc at lib/Net/Sieve/Script/Condition.pm line 154.
Use of uninitialized value $1 in lc at lib/Net/Sieve/Script/Condition.pm line 47.
Use of uninitialized value $1 in lc at lib/Net/Sieve/Script/Condition.pm line 47.
Use of uninitialized value $address in lc at lib/Net/Sieve/Script/Condition.pm line 152.
Use of uninitialized value $comparator in lc at lib/Net/Sieve/Script/Condition.pm line 154.
Use of uninitialized value $1 in lc at lib/Net/Sieve/Script/Condition.pm line 47.
Use of uninitialized value $address in lc at lib/Net/Sieve/Script/Condition.pm line 152.
Use of uninitialized value $comparator in lc at lib/Net/Sieve/Script/Condition.pm line 154.
Use of uninitialized value $1 in lc at lib/Net/Sieve/Script/Condition.pm line 47.
Use of uninitialized value $address in lc at lib/Net/Sieve/Script/Condition.pm line 152.
Use of uninitialized value $comparator in lc at lib/Net/Sieve/Script/Condition.pm line 154.
Use of uninitialized value $comparator in lc at lib/Net/Sieve/Script/Condition.pm line 154.
Use of uninitialized value $1 in lc at lib/Net/Sieve/Script/Condition.pm line 47.
Use of uninitialized value $match in lc at lib/Net/Sieve/Script/Condition.pm line 146.
Use of uninitialized value $address in lc at lib/Net/Sieve/Script/Condition.pm line 152.
Use of uninitialized value $match in lc at lib/Net/Sieve/Script/Condition.pm line 153.
Use of uninitialized value $comparator in lc at lib/Net/Sieve/Script/Condition.pm line 154.
Use of uninitialized value $1 in lc at lib/Net/Sieve/Script/Condition.pm line 47.
Use of uninitialized value $match in lc at lib/Net/Sieve/Script/Condition.pm line 146.
Use of uninitialized value $address in lc at lib/Net/Sieve/Script/Condition.pm line 152.
Use of uninitialized value $match in lc at lib/Net/Sieve/Script/Condition.pm line 153.
Use of uninitialized value $comparator in lc at lib/Net/Sieve/Script/Condition.pm line 154.
Use of uninitialized value $match in lc at lib/Net/Sieve/Script/Condition.pm line 146.
Use of uninitialized value $address in lc at lib/Net/Sieve/Script/Condition.pm line 152.
Use of uninitialized value $match in lc at lib/Net/Sieve/Script/Condition.pm line 153.
Use of uninitialized value $comparator in lc at lib/Net/Sieve/Script/Condition.pm line 154.
Use of uninitialized value $1 in lc at lib/Net/Sieve/Script/Condition.pm line 47.
Use of uninitialized value $address in lc at lib/Net/Sieve/Script/Condition.pm line 152.
Use of uninitialized value $comparator in lc at lib/Net/Sieve/Script/Condition.pm line 154.
Use of uninitialized value $1 in lc at lib/Net/Sieve/Script/Condition.pm line 47.
Use of uninitialized value $address in lc at lib/Net/Sieve/Script/Condition.pm line 152.
Use of uninitialized value $comparator in lc at lib/Net/Sieve/Script/Condition.pm line 154.
Use of uninitialized value $1 in lc at lib/Net/Sieve/Script/Condition.pm line 47.
Use of uninitialized value $address in lc at lib/Net/Sieve/Script/Condition.pm line 152.
Use of uninitialized value $comparator in lc at lib/Net/Sieve/Script/Condition.pm line 154.
Use of uninitialized value $1 in lc at lib/Net/Sieve/Script/Condition.pm line 47.
Use of uninitialized value $address in lc at lib/Net/Sieve/Script/Condition.pm line 152.
Use of uninitialized value $comparator in lc at lib/Net/Sieve/Script/Condition.pm line 154.
Use of uninitialized value $1 in lc at lib/Net/Sieve/Script/Condition.pm line 47.
Use of uninitialized value $address in lc at lib/Net/Sieve/Script/Condition.pm line 152.
Use of uninitialized value $comparator in lc at lib/Net/Sieve/Script/Condition.pm line 154.
Use of uninitialized value $1 in lc at lib/Net/Sieve/Script/Condition.pm line 47.
Use of uninitialized value $match in lc at lib/Net/Sieve/Script/Condition.pm line 146.
Use of uninitialized value $address in lc at lib/Net/Sieve/Script/Condition.pm line 152.
Use of uninitialized value $match in lc at lib/Net/Sieve/Script/Condition.pm line 153.
Use of uninitialized value $comparator in lc at lib/Net/Sieve/Script/Condition.pm line 154.
Use of uninitialized value $1 in lc at lib/Net/Sieve/Script/Condition.pm line 47.
Use of uninitialized value $match in lc at lib/Net/Sieve/Script/Condition.pm line 146.
Use of uninitialized value $address in lc at lib/Net/Sieve/Script/Condition.pm line 152.
Use of uninitialized value $match in lc at lib/Net/Sieve/Script/Condition.pm line 153.
Use of uninitialized value $comparator in lc at lib/Net/Sieve/Script/Condition.pm line 154.
Use of uninitialized value $match in lc at lib/Net/Sieve/Script/Condition.pm line 146.
Use of uninitialized value $address in lc at lib/Net/Sieve/Script/Condition.pm line 152.
Use of uninitialized value $match in lc at lib/Net/Sieve/Script/Condition.pm line 153.
Use of uninitialized value $comparator in lc at lib/Net/Sieve/Script/Condition.pm line 154.
t/001_load_condition.t ... ok
Use of uninitialized value $1 in lc at lib/Net/Sieve/Script/Condition.pm line 47.
Use of uninitialized value $comparator in lc at lib/Net/Sieve/Script/Condition.pm line 154.
Use of uninitialized value $1 in lc at lib/Net/Sieve/Script/Condition.pm line 47.
Use of uninitialized value $address in lc at lib/Net/Sieve/Script/Condition.pm line 152.
Use of uninitialized value $comparator in lc at lib/Net/Sieve/Script/Condition.pm line 154.
Use of uninitialized value $match in lc at lib/Net/Sieve/Script/Condition.pm line 146.
Use of uninitialized value $address in lc at lib/Net/Sieve/Script/Condition.pm line 152.
Use of uninitialized value $match in lc at lib/Net/Sieve/Script/Condition.pm line 153.
Use of uninitialized value $comparator in lc at lib/Net/Sieve/Script/Condition.pm line 154.
t/001_load_rule.t ........ ok
Use of uninitialized value $1 in lc at lib/Net/Sieve/Script/Condition.pm line 47.
Use of uninitialized value $address in lc at lib/Net/Sieve/Script/Condition.pm line 152.
Use of uninitialized value $comparator in lc at lib/Net/Sieve/Script/Condition.pm line 154.
Use of uninitialized value $1 in lc at lib/Net/Sieve/Script/Condition.pm line 47.
Use of uninitialized value $address in lc at lib/Net/Sieve/Script/Condition.pm line 152.
Use of uninitialized value $comparator in lc at lib/Net/Sieve/Script/Condition.pm line 154.
Use of uninitialized value $1 in lc at lib/Net/Sieve/Script/Condition.pm line 47.
Use of uninitialized value $address in lc at lib/Net/Sieve/Script/Condition.pm line 152.
Use of uninitialized value $comparator in lc at lib/Net/Sieve/Script/Condition.pm line 154.
Use of uninitialized value $1 in lc at lib/Net/Sieve/Script/Condition.pm line 47.
Use of uninitialized value $comparator in lc at lib/Net/Sieve/Script/Condition.pm line 154.
Use of uninitialized value $1 in lc at lib/Net/Sieve/Script/Condition.pm line 47.
Use of uninitialized value $comparator in lc at lib/Net/Sieve/Script/Condition.pm line 154.
Use of uninitialized value $1 in lc at lib/Net/Sieve/Script/Condition.pm line 47.
Use of uninitialized value $address in lc at lib/Net/Sieve/Script/Condition.pm line 152.
Use of uninitialized value $comparator in lc at lib/Net/Sieve/Script/Condition.pm line 154.
Use of uninitialized value $match in lc at lib/Net/Sieve/Script/Condition.pm line 146.
Use of uninitialized value $address in lc at lib/Net/Sieve/Script/Condition.pm line 152.
Use of uninitialized value $match in lc at lib/Net/Sieve/Script/Condition.pm line 153.
Use of uninitialized value $comparator in lc at lib/Net/Sieve/Script/Condition.pm line 154.
Use of uninitialized value $1 in lc at lib/Net/Sieve/Script/Condition.pm line 47.
Use of uninitialized value $address in lc at lib/Net/Sieve/Script/Condition.pm line 152.
Use of uninitialized value $comparator in lc at lib/Net/Sieve/Script/Condition.pm line 154.
Use of uninitialized value $1 in lc at lib/Net/Sieve/Script/Condition.pm line 47.
Use of uninitialized value $address in lc at lib/Net/Sieve/Script/Condition.pm line 152.
Use of uninitialized value $1 in lc at lib/Net/Sieve/Script/Condition.pm line 47.
Use of uninitialized value $1 in lc at lib/Net/Sieve/Script/Condition.pm line 47.
Use of uninitialized value $address in lc at lib/Net/Sieve/Script/Condition.pm line 152.
Use of uninitialized value $1 in lc at lib/Net/Sieve/Script/Condition.pm line 47.
Use of uninitialized value $address in lc at lib/Net/Sieve/Script/Condition.pm line 152.
Use of uninitialized value $match in lc at lib/Net/Sieve/Script/Condition.pm line 146.
Use of uninitialized value $address in lc at lib/Net/Sieve/Script/Condition.pm line 152.
Use of uninitialized value $match in lc at lib/Net/Sieve/Script/Condition.pm line 153.
Use of uninitialized value $comparator in lc at lib/Net/Sieve/Script/Condition.pm line 154.
Use of uninitialized value $1 in lc at lib/Net/Sieve/Script/Condition.pm line 47.
Use of uninitialized value $address in lc at lib/Net/Sieve/Script/Condition.pm line 152.
Use of uninitialized value $comparator in lc at lib/Net/Sieve/Script/Condition.pm line 154.
Use of uninitialized value $match in lc at lib/Net/Sieve/Script/Condition.pm line 146.
Use of uninitialized value $address in lc at lib/Net/Sieve/Script/Condition.pm line 152.
Use of uninitialized value $match in lc at lib/Net/Sieve/Script/Condition.pm line 153.
Use of uninitialized value $comparator in lc at lib/Net/Sieve/Script/Condition.pm line 154.
t/001_load_script.t ...... ok
Use of uninitialized value $1 in lc at lib/Net/Sieve/Script/Condition.pm line 47.
Use of uninitialized value $address in lc at lib/Net/Sieve/Script/Condition.pm line 152.
Use of uninitialized value $comparator in lc at lib/Net/Sieve/Script/Condition.pm line 154.
t/001_load_vacation.t .... ok
Use of uninitialized value $param{"ctrl"} in lc at lib/Net/Sieve/Script/Rule.pm line 77.
Use of uninitialized value $1 in lc at lib/Net/Sieve/Script/Condition.pm line 47.
Use of uninitialized value $address in lc at lib/Net/Sieve/Script/Condition.pm line 152.
Use of uninitialized value $comparator in lc at lib/Net/Sieve/Script/Condition.pm line 154.
t/002_write_action.t ..... ok
Use of uninitialized value $param{"ctrl"} in lc at lib/Net/Sieve/Script/Rule.pm line 77.
Use of uninitialized value $1 in lc at lib/Net/Sieve/Script/Condition.pm line 47.
Use of uninitialized value $address in lc at lib/Net/Sieve/Script/Condition.pm line 152.
Use of uninitialized value $comparator in lc at lib/Net/Sieve/Script/Condition.pm line 154.
Use of uninitialized value $1 in lc at lib/Net/Sieve/Script/Condition.pm line 47.
Use of uninitialized value $address in lc at lib/Net/Sieve/Script/Condition.pm line 152.
Use of uninitialized value $comparator in lc at lib/Net/Sieve/Script/Condition.pm line 154.
Use of uninitialized value $1 in lc at lib/Net/Sieve/Script/Condition.pm line 47.
Use of uninitialized value $match in lc at lib/Net/Sieve/Script/Condition.pm line 146.
Use of uninitialized value $address in lc at lib/Net/Sieve/Script/Condition.pm line 152.
Use of uninitialized value $match in lc at lib/Net/Sieve/Script/Condition.pm line 153.
Use of uninitialized value $comparator in lc at lib/Net/Sieve/Script/Condition.pm line 154.
Use of uninitialized value $1 in lc at lib/Net/Sieve/Script/Condition.pm line 47.
Use of uninitialized value $address in lc at lib/Net/Sieve/Script/Condition.pm line 152.
Use of uninitialized value $comparator in lc at lib/Net/Sieve/Script/Condition.pm line 154.
Use of uninitialized value $1 in lc at lib/Net/Sieve/Script/Condition.pm line 47.
Use of uninitialized value $1 in lc at lib/Net/Sieve/Script/Condition.pm line 47.
Use of uninitialized value $address in lc at lib/Net/Sieve/Script/Condition.pm line 152.
Use of uninitialized value $comparator in lc at lib/Net/Sieve/Script/Condition.pm line 154.
Use of uninitialized value $1 in lc at lib/Net/Sieve/Script/Condition.pm line 47.
Use of uninitialized value $address in lc at lib/Net/Sieve/Script/Condition.pm line 152.
Use of uninitialized value $comparator in lc at lib/Net/Sieve/Script/Condition.pm line 154.
Use of uninitialized value $match in lc at lib/Net/Sieve/Script/Condition.pm line 146.
Use of uninitialized value $address in lc at lib/Net/Sieve/Script/Condition.pm line 152.
Use of uninitialized value $match in lc at lib/Net/Sieve/Script/Condition.pm line 153.
Use of uninitialized value $comparator in lc at lib/Net/Sieve/Script/Condition.pm line 154.
Use of uninitialized value $1 in lc at lib/Net/Sieve/Script/Condition.pm line 47.
Use of uninitialized value $match in lc at lib/Net/Sieve/Script/Condition.pm line 146.
Use of uninitialized value $address in lc at lib/Net/Sieve/Script/Condition.pm line 152.
Use of uninitialized value $match in lc at lib/Net/Sieve/Script/Condition.pm line 153.
Use of uninitialized value $comparator in lc at lib/Net/Sieve/Script/Condition.pm line 154.
Use of uninitialized value $1 in lc at lib/Net/Sieve/Script/Condition.pm line 47.
Use of uninitialized value $match in lc at lib/Net/Sieve/Script/Condition.pm line 146.
Use of uninitialized value $address in lc at lib/Net/Sieve/Script/Condition.pm line 152.
Use of uninitialized value $match in lc at lib/Net/Sieve/Script/Condition.pm line 153.
Use of uninitialized value $comparator in lc at lib/Net/Sieve/Script/Condition.pm line 154.
Use of uninitialized value $1 in lc at lib/Net/Sieve/Script/Condition.pm line 47.
Use of uninitialized value $match in lc at lib/Net/Sieve/Script/Condition.pm line 146.
Use of uninitialized value $address in lc at lib/Net/Sieve/Script/Condition.pm line 152.
Use of uninitialized value $match in lc at lib/Net/Sieve/Script/Condition.pm line 153.
Use of uninitialized value $comparator in lc at lib/Net/Sieve/Script/Condition.pm line 154.
Use of uninitialized value $1 in lc at lib/Net/Sieve/Script/Condition.pm line 47.
Use of uninitialized value $address in lc at lib/Net/Sieve/Script/Condition.pm line 152.
Use of uninitialized value $comparator in lc at lib/Net/Sieve/Script/Condition.pm line 154.
Use of uninitialized value $1 in lc at lib/Net/Sieve/Script/Condition.pm line 47.
Use of uninitialized value $address in lc at lib/Net/Sieve/Script/Condition.pm line 152.
Use of uninitialized value $comparator in lc at lib/Net/Sieve/Script/Condition.pm line 154.
Use of uninitialized value $1 in lc at lib/Net/Sieve/Script/Condition.pm line 47.
Use of uninitialized value $match in lc at lib/Net/Sieve/Script/Condition.pm line 146.
Use of uninitialized value $address in lc at lib/Net/Sieve/Script/Condition.pm line 152.
Use of uninitialized value $match in lc at lib/Net/Sieve/Script/Condition.pm line 153.
Use of uninitialized value $comparator in lc at lib/Net/Sieve/Script/Condition.pm line 154.
Use of uninitialized value $1 in lc at lib/Net/Sieve/Script/Condition.pm line 47.
Use of uninitialized value $address in lc at lib/Net/Sieve/Script/Condition.pm line 152.
Use of uninitialized value $comparator in lc at lib/Net/Sieve/Script/Condition.pm line 154.
t/002_write_condition.t .. ok
Use of uninitialized value $param{"ctrl"} in lc at lib/Net/Sieve/Script/Rule.pm line 77.
Use of uninitialized value $1 in lc at lib/Net/Sieve/Script/Condition.pm line 47.
Use of uninitialized value $address in lc at lib/Net/Sieve/Script/Condition.pm line 152.
Use of uninitialized value $comparator in lc at lib/Net/Sieve/Script/Condition.pm line 154.
Use of uninitialized value $param{"ctrl"} in lc at lib/Net/Sieve/Script/Rule.pm line 77.
Use of uninitialized value $1 in lc at lib/Net/Sieve/Script/Condition.pm line 47.
Use of uninitialized value $address in lc at lib/Net/Sieve/Script/Condition.pm line 152.
Use of uninitialized value $comparator in lc at lib/Net/Sieve/Script/Condition.pm line 154.
Use of uninitialized value $param{"ctrl"} in lc at lib/Net/Sieve/Script/Rule.pm line 77.
Use of uninitialized value $1 in lc at lib/Net/Sieve/Script/Condition.pm line 47.
Use of uninitialized value $address in lc at lib/Net/Sieve/Script/Condition.pm line 152.
Use of uninitialized value $comparator in lc at lib/Net/Sieve/Script/Condition.pm line 154.
Use of uninitialized value $1 in lc at lib/Net/Sieve/Script/Condition.pm line 47.
Use of uninitialized value $address in lc at lib/Net/Sieve/Script/Condition.pm line 152.
Use of uninitialized value $comparator in lc at lib/Net/Sieve/Script/Condition.pm line 154.
Use of uninitialized value $1 in lc at lib/Net/Sieve/Script/Condition.pm line 47.
Use of uninitialized value $address in lc at lib/Net/Sieve/Script/Condition.pm line 152.
Use of uninitialized value $comparator in lc at lib/Net/Sieve/Script/Condition.pm line 154.
Use of uninitialized value $1 in lc at lib/Net/Sieve/Script/Condition.pm line 47.
Use of uninitialized value $address in lc at lib/Net/Sieve/Script/Condition.pm line 152.
Use of uninitialized value $comparator in lc at lib/Net/Sieve/Script/Condition.pm line 154.
Use of uninitialized value $1 in lc at lib/Net/Sieve/Script/Condition.pm line 47.
Use of uninitialized value $address in lc at lib/Net/Sieve/Script/Condition.pm line 152.
Use of uninitialized value $comparator in lc at lib/Net/Sieve/Script/Condition.pm line 154.
Use of uninitialized value $1 in lc at lib/Net/Sieve/Script/Condition.pm line 47.
Use of uninitialized value $address in lc at lib/Net/Sieve/Script/Condition.pm line 152.
Use of uninitialized value $comparator in lc at lib/Net/Sieve/Script/Condition.pm line 154.
Use of uninitialized value $param{"ctrl"} in lc at lib/Net/Sieve/Script/Rule.pm line 77.
Use of uninitialized value $1 in lc at lib/Net/Sieve/Script/Condition.pm line 47.
Use of uninitialized value $match in lc at lib/Net/Sieve/Script/Condition.pm line 146.
Use of uninitialized value $address in lc at lib/Net/Sieve/Script/Condition.pm line 152.
Use of uninitialized value $match in lc at lib/Net/Sieve/Script/Condition.pm line 153.
Use of uninitialized value $comparator in lc at lib/Net/Sieve/Script/Condition.pm line 154.
Use of uninitialized value $param{"ctrl"} in lc at lib/Net/Sieve/Script/Rule.pm line 77.
Use of uninitialized value $param{"ctrl"} in lc at lib/Net/Sieve/Script/Rule.pm line 77.
Use of uninitialized value $1 in lc at lib/Net/Sieve/Script/Condition.pm line 47.
Use of uninitialized value $address in lc at lib/Net/Sieve/Script/Condition.pm line 152.
Use of uninitialized value $comparator in lc at lib/Net/Sieve/Script/Condition.pm line 154.
Use of uninitialized value $param{"ctrl"} in lc at lib/Net/Sieve/Script/Rule.pm line 77.
Use of uninitialized value $1 in lc at lib/Net/Sieve/Script/Condition.pm line 47.
Use of uninitialized value $address in lc at lib/Net/Sieve/Script/Condition.pm line 152.
Use of uninitialized value $comparator in lc at lib/Net/Sieve/Script/Condition.pm line 154.
Use of uninitialized value $param{"ctrl"} in lc at lib/Net/Sieve/Script/Rule.pm line 77.
Use of uninitialized value $1 in lc at lib/Net/Sieve/Script/Condition.pm line 47.
Use of uninitialized value $address in lc at lib/Net/Sieve/Script/Condition.pm line 152.
Use of uninitialized value $comparator in lc at lib/Net/Sieve/Script/Condition.pm line 154.
Use of uninitialized value $param{"ctrl"} in lc at lib/Net/Sieve/Script/Rule.pm line 77.
Use of uninitialized value $1 in lc at lib/Net/Sieve/Script/Condition.pm line 47.
Use of uninitialized value $address in lc at lib/Net/Sieve/Script/Condition.pm line 152.
Use of uninitialized value $comparator in lc at lib/Net/Sieve/Script/Condition.pm line 154.
Use of uninitialized value $param{"ctrl"} in lc at lib/Net/Sieve/Script/Rule.pm line 77.
Use of uninitialized value $match in lc at lib/Net/Sieve/Script/Condition.pm line 146.
Use of uninitialized value $address in lc at lib/Net/Sieve/Script/Condition.pm line 152.
Use of uninitialized value $match in lc at lib/Net/Sieve/Script/Condition.pm line 153.
Use of uninitialized value $comparator in lc at lib/Net/Sieve/Script/Condition.pm line 154.
t/002_write_script.t ..... ok
t/pod.t .................. ok
t/pod_coverage.t ......... ok
All tests successful.
Files=11, Tests=134, 0 wallclock secs ( 0.00 usr 0.05 sys + 0.05 cusr 0.42 csys = 0.53 CPU)
Result: PASS
------------------------------
PREREQUISITES
------------------------------
Prerequisite modules loaded:
requires:
Module Need Have
--------------------- ----- --------
Class::Accessor::Fast 0.3 0.34
perl 5.006 5.018004
Pod::Coverage 0 0.23
Test::More 0 1.302086
build_requires:
Module Need Have
--------------------- ----- --------
ExtUtils::MakeMaker 6.59 7.24
Pod::Coverage 0 0.23
Test::More 0 1.302086
configure_requires:
Module Need Have
--------------------- ----- --------
ExtUtils::MakeMaker 6.59 7.24
------------------------------
ENVIRONMENT AND OTHER CONTEXT
------------------------------
Environment variables:
LC_ALL = de_DE.ISO8859-1
PATH = /usr/local/bin:/usr/bin:/bin:/usr/local/sbin:/usr/sbin:/sbin:/home/cpansand/bin/freebsd10.3:/home/cpansand/bin/sh:/home/cpansand/bin:/usr/games:/home/cpansand/devel:/home/eserte/src/srezic-misc/scripts
PERL5LIB =
PERL5OPT =
PERL5_CPANPLUS_IS_RUNNING = 81137
PERL5_CPAN_IS_RUNNING = 81137
PERL5_CPAN_IS_RUNNING_IN_RECURSION = 81098,81137
PERLDOC = -MPod::Perldoc::ToTextOverstrike
PERL_BATCH = yes
PERL_CANARY_STABILITY_NOPROMPT = 1
PERL_CPAN_REPORTER_CONFIG = /var/tmp/cpansmoker-1023/2017082115/cpanreporter_000_config.ini
PERL_EXTUTILS_AUTOINSTALL = --defaultdeps
SHELL = /usr/local/bin/zsh
TERM = screen
TMPDIR = /var/tmp/cpansmoker-1023/2017082115
Perl special variables (and OS-specific diagnostics, for MSWin32):
$^X = /usr/perl5.18.4p/bin/perl5.18.4
$UID/$EUID = 1023 / 1023
$GID = 1023 1023
$EGID = 1023 1023
Perl module toolchain versions installed:
Module Have
------------------- --------
CPAN 2.16
CPAN::Meta 2.150010
Cwd 3.62
ExtUtils::CBuilder 0.280226
ExtUtils::Command 7.24
ExtUtils::Install 2.14
ExtUtils::MakeMaker 7.24
ExtUtils::Manifest 1.70
ExtUtils::ParseXS 3.35
File::Spec 3.62
JSON 2.94
JSON::PP 2.27400
Module::Build 0.4222
Module::Signature 0.79
Parse::CPAN::Meta 2.150010
Test::Harness 3.38
Test::More 1.302086
YAML 1.21
YAML::Syck 1.29
version 0.9917
--
Summary of my perl5 (revision 5 version 18 subversion 4) configuration:
Platform:
osname=freebsd, osvers=10.1-release, archname=amd64-freebsd
uname='freebsd cvrsnica-freebsd-101.herceg.de 10.1-release freebsd 10.1-release #0 r274401: tue nov 11 21:02:49 utc 2014 root@releng1.nyi.freebsd.org:usrobjusrsrcsysgeneric amd64 '
config_args='-ds -e -Dprefix=/usr/perl5.18.4p'
hint=recommended, useposix=true, d_sigaction=define
useithreads=undef, usemultiplicity=undef
useperlio=define, d_sfio=undef, uselargefiles=define, usesocks=undef
use64bitint=define, use64bitall=define, uselongdouble=undef
usemymalloc=n, bincompat5005=undef
Compiler:
cc='cc', ccflags ='-DHAS_FPSETMASK -DHAS_FLOATINGPOINT_H -fno-strict-aliasing -pipe -fstack-protector -I/usr/local/include',
optimize='-O',
cppflags='-DHAS_FPSETMASK -DHAS_FLOATINGPOINT_H -fno-strict-aliasing -pipe -fstack-protector -I/usr/local/include'
ccversion='', gccversion='4.2.1 Compatible FreeBSD Clang 3.4.1 (tags/RELEASE_34/dot1-final 208032)', gccosandvers=''
intsize=4, longsize=8, ptrsize=8, doublesize=8, byteorder=12345678
d_longlong=define, longlongsize=8, d_longdbl=define, longdblsize=16
ivtype='long', ivsize=8, nvtype='double', nvsize=8, Off_t='off_t', lseeksize=8
alignbytes=8, prototype=define
Linker and Libraries:
ld='cc', ldflags ='-pthread -Wl,-E -fstack-protector -L/usr/local/lib'
libpth=/usr/lib /usr/local/lib
libs=-lgdbm -lm -lcrypt -lutil -lc
perllibs=-lm -lcrypt -lutil -lc
libc=, so=so, useshrplib=false, libperl=libperl.a
gnulibc_version=''
Dynamic Linking:
dlsrc=dl_dlopen.xs, dlext=so, d_dlsymun=undef, ccdlflags=' '
cccdlflags='-DPIC -fPIC', lddlflags='-shared -L/usr/local/lib -fstack-protector'
Characteristics of this binary (from libperl):
Compile-time options: HAS_TIMES PERLIO_LAYERS PERL_DONT_CREATE_GVSV
PERL_HASH_FUNC_ONE_AT_A_TIME_HARD PERL_MALLOC_WRAP
PERL_PRESERVE_IVUV PERL_SAWAMPERSAND USE_64_BIT_ALL
USE_64_BIT_INT USE_LARGE_FILES USE_LOCALE
USE_LOCALE_COLLATE USE_LOCALE_CTYPE
USE_LOCALE_NUMERIC USE_PERLIO USE_PERL_ATOF
Built under freebsd
Compiled at Apr 4 2015 13:03:15
%ENV:
PERL5LIB=""
PERL5OPT=""
PERL5_CPANPLUS_IS_RUNNING="81137"
PERL5_CPAN_IS_RUNNING="81137"
PERL5_CPAN_IS_RUNNING_IN_RECURSION="81098,81137"
PERLDOC="-MPod::Perldoc::ToTextOverstrike"
PERL_BATCH="yes"
PERL_CANARY_STABILITY_NOPROMPT="1"
PERL_CPAN_REPORTER_CONFIG="/var/tmp/cpansmoker-1023/2017082115/cpanreporter_000_config.ini"
PERL_EXTUTILS_AUTOINSTALL="--defaultdeps"
@INC:
/usr/perl5.18.4p/lib/site_perl/5.18.4/amd64-freebsd
/usr/perl5.18.4p/lib/site_perl/5.18.4
/usr/perl5.18.4p/lib/5.18.4/amd64-freebsd
/usr/perl5.18.4p/lib/5.18.4
.