Back
From: metabase:user:31d414ea-2aae-11df-837a-5e0a49663a4f
Subject: PASS Search-Tools-0.99 v5.18.0 GNU/Linux
Date: 2014-03-04T14:20:18Z
This distribution has been tested as part of the CPAN Testers
project, supporting the Perl programming language. See
http://wiki.cpantesters.org/ for more information or email
questions to cpan-testers-discuss@perl.org
--
Dear Peter Karman,
This is a computer-generated report for Search-Tools-0.99
on perl 5.18.0, created by CPAN-Reporter-1.2010.
Thank you for uploading your work to CPAN. Congratulations!
All tests were successful.
Sections of this report:
* Tester comments
* Program output
* Prerequisites
* Environment and other context
------------------------------
TESTER COMMENTS
------------------------------
Additional comments from tester:
this report is from an automated smoke testing program
and was not reviewed by a human for accuracy
------------------------------
PROGRAM OUTPUT
------------------------------
Output from '/usr/bin/make test':
PERL_DL_NONLAZY=1 /home/david/cpantesting/perl-5.18.0/bin/perl "-MExtUtils::Command::MM" "-e" "test_harness(0, 'blib/lib', 'blib/arch')" t/*.t
# testing Search::Tools version 0.99
t/00-load.t .................... ok
t/02regexp.t ................... ok
t/03snip.t ..................... ok
t/04hilite.t ................... ok
t/05stopwords.t ................ ok
t/06xml.t ...................... ok
t/07stemmer.t .................. ok
t/08transliterate.t ............ ok
t/09locale.t ................... ok
t/10spellcheck.t ............... ok
t/11synopsis.t ................. ok
byte 36 () is not Latin1 (it's 129 dec / 81 hex) at t/12utf8.t line 49.
byte 12 () is not Latin1 (it's 128 dec / 80 hex) at t/12utf8.t line 67.
t/12utf8.t ..................... ok
t/13-snip-linux-user-group.t ... ok
t/14-findaprofessional.t ....... ok
t/15-child-adoption.t .......... ok
t/16-dot.com.t ................. ok
t/17-tokenizer.t ............... ok
t/18-tokenizer-mem.t ........... ok
t/19-tokenizer-pp.t ............ ok
t/20transliterate-map.t ........ ok
t/21-hiliter-with-hyphen.t ..... ok
t/22-query-parser.t ............ ok
t/23-regex-builder.t ........... ok
t/24-child-abuse.t ............. ok
t/25-domestic-accounts.t ....... ok
t/26-is-sentence.t ............. ok
t/27-bigfile.t ................. skipped: set TEST_BIG_FILE to run t/27-bigfile.t
t/28-byte-length.t ............. ok
t/29-hiliter-wildcard.t ........ ok
t/30-perl-to-xml.t ............. ok
t/31-snip-phrases.t ............ ok
t/32-pre-existing.t ............ ok
t/33-matches.t ................. ok
t/34-style-hilite.t ............ ok
t/35-whitespace.t .............. ok
t/36-snipper-term-length.t ..... ok
t/37-heatmap-long-sentences.t .. ok
t/38-hiliter-multiple-terms.t .. ok
t/39-tokenizer-refcounts.t ..... ok
t/40-perl517-regex.t ........... ok
t/41-hiliter-blessed-query.t ... ok
t/90-leaktrace.t ............... ok
t/91-valgrind.t ................ skipped: Test::Valgrind has false positives
t/pod-coverage.t ............... skipped: set PERL_AUTHOR_TEST to test POD
t/pod.t ........................ skipped: set PERL_AUTHOR_TEST to test POD
t/Search-Tools.t ............... ok
All tests successful.
Files=46, Tests=3056, 13 wallclock secs ( 0.33 usr 0.18 sys + 4.00 cusr 0.73 csys = 5.24 CPU)
Result: PASS
------------------------------
PREREQUISITES
------------------------------
Prerequisite modules loaded:
requires:
Module Need Have
------------------- -------- --------
Data::Dump 0 1.22
Encode 0 2.49
Encoding::FixLatin 0 1.02
File::Basename 0 2.84
File::Slurp 0 9999.19
perl 5.008003 5.018000
Rose::ObjectX::CAF 0.03 0.03
Scalar::Util 0 1.38
Search::Query 0.18 0.25
Test::More 0.94 1.001002
build_requires:
Module Need Have
------------------- -------- --------
ExtUtils::MakeMaker 0 6.66
configure_requires:
Module Need Have
------------------- -------- --------
ExtUtils::MakeMaker 0 6.66
------------------------------
ENVIRONMENT AND OTHER CONTEXT
------------------------------
Environment variables:
AUTOMATED_TESTING = 1
PATH = /usr/local/bin:/usr/bin:/bin:/usr/games
PERL = 5.18.0
PERL5LIB =
PERL5OPT =
PERL5_CPANPLUS_IS_RUNNING = 3717
PERL5_CPAN_IS_RUNNING = 3717
PERLVER = 5.18.0
PERL_INLINE_DIRECTORY = /home/david/.Inline-5.18.0
PERL_MM_USE_DEFAULT = 1
SHELL = /bin/bash
TERM = screen
Perl special variables (and OS-specific diagnostics, for MSWin32):
$^X = /home/david/cpantesting/perl-5.18.0/bin/perl
$UID/$EUID = 1000 / 1000
$GID = 1000 1000
$EGID = 1000 1000
Perl module toolchain versions installed:
Module Have
------------------- --------
CPAN 2.00
CPAN::Meta 2.133380
Cwd 3.40
ExtUtils::CBuilder 0.280210
ExtUtils::Command 1.17
ExtUtils::Install 1.59
ExtUtils::MakeMaker 6.66
ExtUtils::Manifest 1.63
ExtUtils::ParseXS 3.22
File::Spec 3.40
JSON 2.57
JSON::PP 2.27202
Module::Build 0.4205
Module::Signature n/a
Parse::CPAN::Meta 1.4404
Test::Harness 3.30
Test::More 1.001002
YAML 0.90
YAML::Syck n/a
version 0.9902
--
Summary of my perl5 (revision 5 version 18 subversion 0) configuration:
Platform:
osname=linux, osvers=3.2.0-4-amd64, archname=x86_64-linux-thread-multi
uname='linux pigsty.barnyard.co.uk 3.2.0-4-amd64 #1 smp debian 3.2.35-2 x86_64 gnulinux '
config_args='-de -Dprefix=/home/david/cpantesting/perl-5.18.0 -Dusethreads -Duse64bitall'
hint=recommended, useposix=true, d_sigaction=define
useithreads=define, usemultiplicity=define
useperlio=define, d_sfio=undef, uselargefiles=define, usesocks=undef
use64bitint=define, use64bitall=define, uselongdouble=undef
usemymalloc=n, bincompat5005=undef
Compiler:
cc='cc', ccflags ='-D_REENTRANT -D_GNU_SOURCE -fno-strict-aliasing -pipe -fstack-protector -I/usr/local/include -D_LARGEFILE_SOURCE -D_FILE_OFFSET_BITS=64',
optimize='-O2',
cppflags='-D_REENTRANT -D_GNU_SOURCE -fno-strict-aliasing -pipe -fstack-protector -I/usr/local/include'
ccversion='', gccversion='4.1.2 20061115 (prerelease) (Debian 4.1.1-21)', gccosandvers=''
intsize=4, longsize=8, ptrsize=8, doublesize=8, byteorder=12345678
d_longlong=define, longlongsize=8, d_longdbl=define, longdblsize=16
ivtype='long', ivsize=8, nvtype='double', nvsize=8, Off_t='off_t', lseeksize=8
alignbytes=8, prototype=define
Linker and Libraries:
ld='cc', ldflags =' -fstack-protector -L/usr/local/lib'
libpth=/usr/local/lib /lib /usr/lib /lib64 /usr/lib64
libs=-lnsl -lgdbm -ldb -ldl -lm -lcrypt -lutil -lpthread -lc -lgdbm_compat
perllibs=-lnsl -ldl -lm -lcrypt -lutil -lpthread -lc
libc=/lib/libc-2.3.6.so, so=so, useshrplib=false, libperl=libperl.a
gnulibc_version='2.3.6'
Dynamic Linking:
dlsrc=dl_dlopen.xs, dlext=so, d_dlsymun=undef, ccdlflags='-Wl,-E'
cccdlflags='-fPIC', lddlflags='-shared -O2 -L/usr/local/lib -fstack-protector'
Characteristics of this binary (from libperl):
Compile-time options: HAS_TIMES MULTIPLICITY PERLIO_LAYERS
PERL_DONT_CREATE_GVSV
PERL_HASH_FUNC_ONE_AT_A_TIME_HARD
PERL_IMPLICIT_CONTEXT PERL_MALLOC_WRAP
PERL_PRESERVE_IVUV PERL_SAWAMPERSAND USE_64_BIT_ALL
USE_64_BIT_INT USE_ITHREADS USE_LARGE_FILES
USE_LOCALE USE_LOCALE_COLLATE USE_LOCALE_CTYPE
USE_LOCALE_NUMERIC USE_PERLIO USE_PERL_ATOF
USE_REENTRANT_API
Built under linux
Compiled at May 20 2013 18:28:55
%ENV:
PERL="5.18.0"
PERL5LIB=""
PERL5OPT=""
PERL5_CPANPLUS_IS_RUNNING="3717"
PERL5_CPAN_IS_RUNNING="3717"
PERLVER="5.18.0"
PERL_INLINE_DIRECTORY="/home/david/.Inline-5.18.0"
PERL_MM_USE_DEFAULT="1"
@INC:
/home/david/cpantesting/perl-5.18.0/lib/site_perl/5.18.0/x86_64-linux-thread-multi
/home/david/cpantesting/perl-5.18.0/lib/site_perl/5.18.0
/home/david/cpantesting/perl-5.18.0/lib/5.18.0/x86_64-linux-thread-multi
/home/david/cpantesting/perl-5.18.0/lib/5.18.0
.