Back
From: metabase:user:bf998058-baeb-11e4-99c3-b01b75490a75
Subject: PASS MooseX-Meta-TypeConstraint-Mooish-0.001 v5.18.4 Mac OS X
Date: 2015-06-01T19:40:52Z
This distribution has been tested as part of the CPAN Testers
project, supporting the Perl programming language. See
http://wiki.cpantesters.org/ for more information or email
questions to cpan-testers-discuss@perl.org
--
Dear RSRCHBOY,
This is a computer-generated report for MooseX-Meta-TypeConstraint-Mooish-0.001
on perl 5.18.4, created by App::cpanminus::reporter 0.12 (1.7034).
Thank you for uploading your work to CPAN. Congratulations!
All tests were successful.
Sections of this report:
* Tester comments
* Program output
* Prerequisites
* Environment and other context
------------------------------
TESTER COMMENTS
------------------------------
Additional comments from tester:
none provided
------------------------------
PROGRAM OUTPUT
------------------------------
Output from '':
Building and testing MooseX-Meta-TypeConstraint-Mooish-0.001
cp lib/MooseX/TraitFor/Meta/TypeConstraint/Mooish.pm blib/lib/MooseX/TraitFor/Meta/TypeConstraint/Mooish.pm
cp lib/MooseX/Meta/TypeConstraint/Mooish.pm blib/lib/MooseX/Meta/TypeConstraint/Mooish.pm
Manifying 2 pod documents
PERL_DL_NONLAZY=1 "/Volumes/amaretto/Users/ether/perl5/perlbrew/perls/18.4/bin/perl" "-MExtUtils::Command::MM" "-MTest::Harness" "-e" "undef *Test::Harness::Switches; test_harness(0, 'blib/lib', 'blib/arch')" t/*.t
#
#
# Generated by Dist::Zilla::Plugin::ReportVersions::Tiny v1.10
# perl: 5.018004 (wanted 5.006) on darwin from /Volumes/amaretto/Users/ether/perl5/perlbrew/perls/18.4/bin/perl
#
# ExtUtils::MakeMaker => 7.0519 (want any version)
# File::Spec => 3.47 (want any version)
# IO::Handle => 1.34 (want any version)
# IPC::Open3 => 1.13 (want any version)
# Moose => 2.1403 (want any version)
# Moose::Meta::TypeConstraint => 2.1403 (want any version)
# Moose::Role => 2.1403 (want any version)
# Test::CheckDeps => 0.010 (want 0.010)
# Test::Fatal => 0.014 (want any version)
# Test::Moose::More => 0.029 (want 0.028)
# Test::More => 1.001014 (want 0.94)
# Try::Tiny => 0.22 (want any version)
# aliased => 0.34 (want any version)
# namespace::autoclean => 0.24 (want 0.24)
# strict => 1.07 (want any version)
# warnings => 1.18 (want any version)
#
# Thanks for using my code. I hope it works for you.
# If not, please try and include this output in the bug report.
# That will help me reproduce the issue and solve your problem.
#
t/isa-mooish.t ................ ok
t/00-check-deps.t ............. ok
t/public-interface.t .......... ok
t/000-report-versions-tiny.t .. ok
t/00-compile.t ................ ok
All tests successful.
Files=5, Tests=44, 0 wallclock secs ( 0.02 usr 0.01 sys + 1.10 cusr 0.09 csys = 1.22 CPU)
Result: PASS
------------------------------
PREREQUISITES
------------------------------
Prerequisite modules loaded:
No requirements found
------------------------------
ENVIRONMENT AND OTHER CONTEXT
------------------------------
Environment variables:
LANG = en_CA.UTF-8
PATH = /Volumes/amaretto/Users/ether/.perlbrew/libs/18.4@std/bin:/Volumes/amaretto/Users/ether/perl5/perlbrew/bin:/Volumes/amaretto/Users/ether/perl5/perlbrew/perls/18.4/bin:/Volumes/amaretto/Users/ether/bin:/Volumes/amaretto/Users/ether/git/misc/install/jaeger/bin:/Volumes/amaretto/Users/ether/git/misc/install/generic/bin:/opt/local/bin:/opt/local/sbin:/Volumes/amaretto/Users/ether/git/git-hub/lib:/usr/local/bin:/usr/bin:/bin:/usr/sbin:/sbin:/opt/local/share/git-core/contrib/workdir
PERL5LIB = /Volumes/amaretto/Users/ether/.perlbrew/libs/18.4@std/lib/perl5
PERLBREW_BASHRC_VERSION = 0.73
PERLBREW_HOME = /Volumes/amaretto/Users/ether/.perlbrew
PERLBREW_LIB = std
PERLBREW_MANPATH = /Volumes/amaretto/Users/ether/.perlbrew/libs/18.4@std/man:/Volumes/amaretto/Users/ether/perl5/perlbrew/perls/18.4/man
PERLBREW_PATH = /Volumes/amaretto/Users/ether/.perlbrew/libs/18.4@std/bin:/Volumes/amaretto/Users/ether/perl5/perlbrew/bin:/Volumes/amaretto/Users/ether/perl5/perlbrew/perls/18.4/bin
PERLBREW_PERL = 18.4
PERLBREW_ROOT = /Volumes/amaretto/Users/ether/perl5/perlbrew
PERLBREW_VERSION = 0.73
PERLDOC_PAGER = less -sicMr
PERL_AUTOINSTALL_PREFER_CPAN = 1
PERL_INSTALL_QUIET = 1
PERL_LOCAL_LIB_ROOT = /Volumes/amaretto/Users/ether/.perlbrew/libs/18.4@std
PERL_MB_OPT = --install_base /Volumes/amaretto/Users/ether/.perlbrew/libs/18.4@std
PERL_MM_OPT = INSTALL_BASE=/Volumes/amaretto/Users/ether/.perlbrew/libs/18.4@std
SHELL = /bin/bash
TERM = xterm-color
TMPDIR = /var/folders/4f/y458q_3n2g75w6m_k19nn8kr0000gp/T/
Perl special variables (and OS-specific diagnostics, for MSWin32):
EGID = 20 20 12 61 79 80 81 98 701 33 100 204 398 399
EUID = 502
EXECUTABLE_NAME = /Volumes/amaretto/Users/ether/perl5/perlbrew/perls/18.4/bin/perl
GID = 20 20 12 61 79 80 81 98 701 33 100 204 398 399
UID = 502
Perl module toolchain versions installed:
Module Have
------------------- --------
CPAN 2.00
CPAN::Meta 2.150001
Cwd 3.47
ExtUtils::CBuilder 0.280210
ExtUtils::Command 7.05_19
ExtUtils::Install 1.59
ExtUtils::MakeMaker 7.05_19
ExtUtils::Manifest 1.70
ExtUtils::ParseXS 3.18
File::Spec 3.47
JSON 2.90
JSON::PP 2.27203
Module::Build 0.4211
Module::Signature n/a
Parse::CPAN::Meta 1.4414
Test::Harness 3.35
Test::More 1.001014
YAML n/a
YAML::Syck n/a
version 0.9912
--
Summary of my perl5 (revision 5 version 18 subversion 4) configuration:
Platform:
osname=darwin, osvers=14.1.0, archname=darwin-2level
uname='darwin jaeger 14.1.0 darwin kernel version 14.1.0: mon dec 22 23:10:38 pst 2014; root:xnu-2782.10.72~2release_x86_64 x86_64 '
config_args='-de -Dprefix=/Volumes/amaretto/Users/ether/perl5/perlbrew/perls/18.4 -Dman1dir=none -Dman3dir=none -Aeval:scriptdir=/Volumes/amaretto/Users/ether/perl5/perlbrew/perls/18.4/bin'
hint=recommended, useposix=true, d_sigaction=define
useithreads=undef, usemultiplicity=undef
useperlio=define, d_sfio=undef, uselargefiles=define, usesocks=undef
use64bitint=define, use64bitall=define, uselongdouble=undef
usemymalloc=n, bincompat5005=undef
Compiler:
cc='cc', ccflags ='-fno-common -DPERL_DARWIN -fno-strict-aliasing -pipe -fstack-protector -I/opt/local/include',
optimize='-O3',
cppflags='-fno-common -DPERL_DARWIN -fno-strict-aliasing -pipe -fstack-protector -I/opt/local/include'
ccversion='', gccversion='4.2.1 Compatible Apple LLVM 6.0 (clang-600.0.56)', gccosandvers=''
intsize=4, longsize=8, ptrsize=8, doublesize=8, byteorder=12345678
d_longlong=define, longlongsize=8, d_longdbl=define, longdblsize=16
ivtype='long', ivsize=8, nvtype='double', nvsize=8, Off_t='off_t', lseeksize=8
alignbytes=8, prototype=define
Linker and Libraries:
ld='env MACOSX_DEPLOYMENT_TARGET=10.3 cc', ldflags =' -fstack-protector -L/opt/local/lib'
libpth=/opt/local/lib /usr/lib
libs=-lgdbm -ldbm -ldl -lm -lutil -lc
perllibs=-ldl -lm -lutil -lc
libc=, so=dylib, useshrplib=false, libperl=libperl.a
gnulibc_version=''
Dynamic Linking:
dlsrc=dl_dlopen.xs, dlext=bundle, d_dlsymun=undef, ccdlflags=' '
cccdlflags=' ', lddlflags=' -bundle -undefined dynamic_lookup -L/opt/local/lib -fstack-protector'
Characteristics of this binary (from libperl):
Compile-time options: HAS_TIMES PERLIO_LAYERS PERL_DONT_CREATE_GVSV
PERL_HASH_FUNC_ONE_AT_A_TIME_HARD PERL_MALLOC_WRAP
PERL_PRESERVE_IVUV PERL_SAWAMPERSAND USE_64_BIT_ALL
USE_64_BIT_INT USE_LARGE_FILES USE_LOCALE
USE_LOCALE_COLLATE USE_LOCALE_CTYPE
USE_LOCALE_NUMERIC USE_PERLIO USE_PERL_ATOF
Locally applied patches:
Devel::PatchPerl 1.30
Built under darwin
Compiled at Feb 22 2015 17:46:12
%ENV:
PERL5LIB="/Volumes/amaretto/Users/ether/.perlbrew/libs/18.4@std/lib/perl5"
PERLBREW_BASHRC_VERSION="0.73"
PERLBREW_HOME="/Volumes/amaretto/Users/ether/.perlbrew"
PERLBREW_LIB="std"
PERLBREW_MANPATH="/Volumes/amaretto/Users/ether/.perlbrew/libs/18.4@std/man:/Volumes/amaretto/Users/ether/perl5/perlbrew/perls/18.4/man"
PERLBREW_PATH="/Volumes/amaretto/Users/ether/.perlbrew/libs/18.4@std/bin:/Volumes/amaretto/Users/ether/perl5/perlbrew/bin:/Volumes/amaretto/Users/ether/perl5/perlbrew/perls/18.4/bin"
PERLBREW_PERL="18.4"
PERLBREW_ROOT="/Volumes/amaretto/Users/ether/perl5/perlbrew"
PERLBREW_VERSION="0.73"
PERLDOC_PAGER="less -sicMr"
PERL_AUTOINSTALL_PREFER_CPAN="1"
PERL_INSTALL_QUIET="1"
PERL_LOCAL_LIB_ROOT="/Volumes/amaretto/Users/ether/.perlbrew/libs/18.4@std"
PERL_MB_OPT="--install_base /Volumes/amaretto/Users/ether/.perlbrew/libs/18.4@std"
PERL_MM_OPT="INSTALL_BASE=/Volumes/amaretto/Users/ether/.perlbrew/libs/18.4@std"
@INC:
/Volumes/amaretto/Users/ether/.perlbrew/libs/18.4@std/lib/perl5/darwin-2level
/Volumes/amaretto/Users/ether/.perlbrew/libs/18.4@std/lib/perl5
/Volumes/amaretto/Users/ether/perl5/perlbrew/perls/18.4/lib/site_perl/5.18.4/darwin-2level
/Volumes/amaretto/Users/ether/perl5/perlbrew/perls/18.4/lib/site_perl/5.18.4
/Volumes/amaretto/Users/ether/perl5/perlbrew/perls/18.4/lib/5.18.4/darwin-2level
/Volumes/amaretto/Users/ether/perl5/perlbrew/perls/18.4/lib/5.18.4
.