Back
From: metabase:user:30ae4450-2aae-11df-837a-5e0a49663a4f
Subject: PASS WebService-Zoopla-API-0.001 v5.16.3
Date: 2014-04-10T02:23:19Z
This distribution has been tested as part of the CPAN Testers
project, supporting the Perl programming language. See
http://wiki.cpantesters.org/ for more information or email
questions to cpan-testers-discuss@perl.org
--
Dear Willem Basson,
This is a computer-generated report for WebService-Zoopla-API-0.001
on perl 5.16.3, created by CPAN-Reporter-1.2010_01.
Thank you for uploading your work to CPAN. Congratulations!
All tests were successful.
Sections of this report:
* Tester comments
* Program output
* Prerequisites
* Environment and other context
------------------------------
TESTER COMMENTS
------------------------------
Additional comments from tester:
this report is from an automated smoke testing program
and was not reviewed by a human for accuracy
------------------------------
PROGRAM OUTPUT
------------------------------
Output from 'C:\strawberry163\c\bin\dmake.exe test':
C:\strawberry163\perl\bin\perl.exe "-MExtUtils::Command::MM" "-e" "test_harness(0, 'blib\lib', 'blib\arch')" t/*.t
Class::MOP::load_class is deprecated at C:/strawberry163/perl/site/lib/Class/MOP.pm line 73.
Class::MOP::load_class('MooseX::Role::Parameterized::Meta::Role::Parameterized') called at C:/strawberry163/perl/vendor/lib/MooseX/Role/Parameterized/Meta/Role/Parameterizable.pm line 60
MooseX::Role::Parameterized::Meta::Role::Parameterizable::generate_role('MooseX::Role::Parameterized::Meta::Role::Parameterizable=HASH...', 'consumer', 'Moose::Meta::Role=HASH(0x15eca24)', 'parameters', 'HASH(0x1832e6c)') called at C:/strawberry163/perl/vendor/lib/MooseX/Role/Parameterized/Meta/Role/Parameterizable.pm line 104
MooseX::Role::Parameterized::Meta::Role::Parameterizable::apply('MooseX::Role::Parameterized::Meta::Role::Parameterizable=HASH...', 'Moose::Meta::Role=HASH(0x15eca24)') called at C:/strawberry163/perl/site/lib/Moose/Util.pm line 166
Moose::Util::_apply_all_roles('Moose::Meta::Role=HASH(0x15eca24)', undef, 'MooseX::Getopt::GLD') called at C:/strawberry163/perl/site/lib/Moose/Util.pm line 108
Moose::Util::apply_all_roles('Moose::Meta::Role=HASH(0x15eca24)', 'MooseX::Getopt::GLD') called at C:/strawberry163/perl/site/lib/Moose/Role.pm line 27
Moose::Role::with('Moose::Meta::Role=HASH(0x15eca24)', 'MooseX::Getopt::GLD') called at C:/strawberry163/perl/site/lib/Moose/Exporter.pm line 405
Moose::Role::with('MooseX::Getopt::GLD') called at C:/strawberry163/perl/site/lib/MooseX/Getopt.pm line 12
require MooseX/Getopt.pm called at C:/strawberry163/perl/site/lib/MooseX/Types/Path/Class.pm line 35
eval {...} called at C:/strawberry163/perl/site/lib/MooseX/Types/Path/Class.pm line 35
require MooseX/Types/Path/Class.pm called at C:/strawberry163/perl/site/lib/MooseX/Types/URI.pm line 26
MooseX::Types::URI::BEGIN() called at C:/strawberry163/perl/site/lib/MooseX/Getopt.pm line 0
eval {...} called at C:/strawberry163/perl/site/lib/MooseX/Getopt.pm line 0
require MooseX/Types/URI.pm called at C:\strawberry163\cpan\build\Net-HTTP-Spore-0.06-HgZmhI/blib/lib/Net/HTTP/Spore/Meta/Method.pm line 12
Net::HTTP::Spore::Meta::Method::BEGIN() called at C:/strawberry163/perl/site/lib/MooseX/Getopt.pm line 0
eval {...} called at C:/strawberry163/perl/site/lib/MooseX/Getopt.pm line 0
require Net/HTTP/Spore/Meta/Method.pm called at C:\strawberry163\cpan\build\Net-HTTP-Spore-0.06-HgZmhI/blib/lib/Net/HTTP/Spore/Meta/Method/Spore.pm line 11
Net::HTTP::Spore::Meta::Method::Spore::BEGIN() called at C:/strawberry163/perl/site/lib/MooseX/Getopt.pm line 0
eval {...} called at C:/strawberry163/perl/site/lib/MooseX/Getopt.pm line 0
require Net/HTTP/Spore/Meta/Method/Spore.pm called at C:/strawberry163/perl/site/lib/Module/Runtime.pm line 317
Module::Runtime::require_module('Net::HTTP::Spore::Meta::Method::Spore') called at C:/strawberry163/perl/site/lib/Module/Runtime.pm line 348
Module::Runtime::use_module('Net::HTTP::Spore::Meta::Method::Spore') called at C:/strawberry163/perl/site/lib/Moose/Util.pm line 141
Moose::Util::_apply_all_roles('Moose::Meta::Role=HASH(0x14a0e9c)', undef, 'Net::HTTP::Spore::Meta::Method::Spore') called at C:/strawberry163/perl/site/lib/Moose/Util.pm line 108
Moose::Util::apply_all_roles('Moose::Meta::Role=HASH(0x14a0e9c)', 'Net::HTTP::Spore::Meta::Method::Spore') called at C:/strawberry163/perl/site/lib/Moose/Role.pm line 27
Moose::Role::with('Moose::Meta::Role=HASH(0x14a0e9c)', 'Net::HTTP::Spore::Meta::Method::Spore') called at C:/strawberry163/perl/site/lib/Moose/Exporter.pm line 405
Moose::Role::with('Net::HTTP::Spore::Meta::Method::Spore') called at C:\strawberry163\cpan\build\Net-HTTP-Spore-0.06-HgZmhI/blib/lib/Net/HTTP/Spore/Meta/Class.pm line 10
require Net/HTTP/Spore/Meta/Class.pm called at C:/strawberry163/perl/site/lib/Module/Runtime.pm line 317
Module::Runtime::require_module('Net::HTTP::Spore::Meta::Class') called at C:/strawberry163/perl/site/lib/Module/Runtime.pm line 348
Module::Runtime::use_module('Net::HTTP::Spore::Meta::Class') called at C:/strawberry163/perl/site/lib/Moose/Util.pm line 141
Moose::Util::_apply_all_roles('Moose::Meta::Class=HASH(0x1489e74)', undef, 'Net::HTTP::Spore::Meta::Class') called at C:/strawberry163/perl/site/lib/Moose/Util.pm line 108
Moose::Util::apply_all_roles('Moose::Meta::Class=HASH(0x1489e74)', 'Net::HTTP::Spore::Meta::Class') called at C:/strawberry163/perl/site/lib/Moose/Meta/Class.pm line 93
Moose::Meta::Class::create('Moose::Meta::Class', 'Moose::Meta::Class::__ANON__::SERIAL::1', 'roles', 'ARRAY(0x12a393c)', 'weaken', '', 'superclasses', 'ARRAY(0x1489b44)') called at C:/strawberry163/perl/site/lib/Class/MOP/Package.pm line 126
Class::MOP::Package::create_anon('Moose::Meta::Class', 'superclasses', 'ARRAY(0x1489b44)', 'roles', 'ARRAY(0x12a393c)', 'cache', 1) called at C:/strawberry163/perl/site/lib/Class/MOP/Class.pm line 475
Class::MOP::Class::create_anon_class('Moose::Meta::Class', 'superclasses', 'ARRAY(0x1489b44)', 'roles', 'ARRAY(0x12a393c)', 'cache', 1) called at C:/strawberry163/perl/site/lib/Moose/Util/MetaRole.pm line 113
Moose::Util::MetaRole::_make_new_class('Moose::Meta::Class', 'ARRAY(0x12a393c)') called at C:/strawberry163/perl/site/lib/Moose/Util/MetaRole.pm line 56
Moose::Util::MetaRole::_make_new_metaclass('Moose::Meta::Class=HASH(0x1489564)', 'HASH(0x12a395c)', 'class') called at C:/strawberry163/perl/site/lib/Moose/Util/MetaRole.pm line 26
Moose::Util::MetaRole::apply_metaroles('for', 'Net::HTTP::Spore::Core', 'class_metaroles', 'HASH(0x12a395c)') called at C:\strawberry163\cpan\build\Net-HTTP-Spore-0.06-HgZmhI/blib/lib/Net/HTTP/Spore/Meta.pm line 28
Net::HTTP::Spore::Meta::init_meta('Net::HTTP::Spore::Meta', 'for_class', 'MooseX::Getopt::ProcessedArgv', 'metaclass', undef, 'meta_name', 'meta') called at C:/strawberry163/perl/site/lib/Moose/Exporter.pm line 470
Moose::Exporter::__ANON__('Net::HTTP::Spore::Meta') called at C:\strawberry163\cpan\build\Net-HTTP-Spore-0.06-HgZmhI/blib/lib/Net/HTTP/Spore/Core.pm line 6
Net::HTTP::Spore::Core::BEGIN() called at C:/strawberry163/perl/site/lib/MooseX/Getopt.pm line 0
eval {...} called at C:/strawberry163/perl/site/lib/MooseX/Getopt.pm line 0
require Net/HTTP/Spore/Core.pm called at C:\strawberry163\cpan\build\Net-HTTP-Spore-0.06-HgZmhI/blib/lib/Net/HTTP/Spore.pm line 16
Net::HTTP::Spore::BEGIN() called at C:/strawberry163/perl/site/lib/MooseX/Getopt.pm line 0
eval {...} called at C:/strawberry163/perl/site/lib/MooseX/Getopt.pm line 0
require Net/HTTP/Spore.pm called at lib/WebService/Zoopla/API.pm line 3
WebService::Zoopla::API::BEGIN() called at C:/strawberry163/perl/site/lib/MooseX/Getopt.pm line 0
eval {...} called at C:/strawberry163/perl/site/lib/MooseX/Getopt.pm line 0
require WebService/Zoopla/API.pm called at -e line 1
Passing a list of values to enum is deprecated. Enum values should be wrapped in an arrayref. at C:\strawberry163\cpan\build\Net-HTTP-Spore-0.06-HgZmhI/blib/lib/Net/HTTP/Spore/Meta/Types.pm line 18.
require Net/HTTP/Spore/Meta/Types.pm called at C:\strawberry163\cpan\build\Net-HTTP-Spore-0.06-HgZmhI/blib/lib/Net/HTTP/Spore/Meta/Method.pm line 16
Net::HTTP::Spore::Meta::Method::BEGIN() called at C:\strawberry163\cpan\build\Net-HTTP-Spore-0.06-HgZmhI/blib/lib/Net/HTTP/Spore/Meta/Types.pm line 0
eval {...} called at C:\strawberry163\cpan\build\Net-HTTP-Spore-0.06-HgZmhI/blib/lib/Net/HTTP/Spore/Meta/Types.pm line 0
require Net/HTTP/Spore/Meta/Method.pm called at C:\strawberry163\cpan\build\Net-HTTP-Spore-0.06-HgZmhI/blib/lib/Net/HTTP/Spore/Meta/Method/Spore.pm line 11
Net::HTTP::Spore::Meta::Method::Spore::BEGIN() called at C:\strawberry163\cpan\build\Net-HTTP-Spore-0.06-HgZmhI/blib/lib/Net/HTTP/Spore/Meta/Types.pm line 0
eval {...} called at C:\strawberry163\cpan\build\Net-HTTP-Spore-0.06-HgZmhI/blib/lib/Net/HTTP/Spore/Meta/Types.pm line 0
require Net/HTTP/Spore/Meta/Method/Spore.pm called at C:/strawberry163/perl/site/lib/Module/Runtime.pm line 317
Module::Runtime::require_module('Net::HTTP::Spore::Meta::Method::Spore') called at C:/strawberry163/perl/site/lib/Module/Runtime.pm line 348
Module::Runtime::use_module('Net::HTTP::Spore::Meta::Method::Spore') called at C:/strawberry163/perl/site/lib/Moose/Util.pm line 141
Moose::Util::_apply_all_roles('Moose::Meta::Role=HASH(0x14a0e9c)', undef, 'Net::HTTP::Spore::Meta::Method::Spore') called at C:/strawberry163/perl/site/lib/Moose/Util.pm line 108
Moose::Util::apply_all_roles('Moose::Meta::Role=HASH(0x14a0e9c)', 'Net::HTTP::Spore::Meta::Method::Spore') called at C:/strawberry163/perl/site/lib/Moose/Role.pm line 27
Moose::Role::with('Moose::Meta::Role=HASH(0x14a0e9c)', 'Net::HTTP::Spore::Meta::Method::Spore') called at C:/strawberry163/perl/site/lib/Moose/Exporter.pm line 405
Moose::Role::with('Net::HTTP::Spore::Meta::Method::Spore') called at C:\strawberry163\cpan\build\Net-HTTP-Spore-0.06-HgZmhI/blib/lib/Net/HTTP/Spore/Meta/Class.pm line 10
require Net/HTTP/Spore/Meta/Class.pm called at C:/strawberry163/perl/site/lib/Module/Runtime.pm line 317
Module::Runtime::require_module('Net::HTTP::Spore::Meta::Class') called at C:/strawberry163/perl/site/lib/Module/Runtime.pm line 348
Module::Runtime::use_module('Net::HTTP::Spore::Meta::Class') called at C:/strawberry163/perl/site/lib/Moose/Util.pm line 141
Moose::Util::_apply_all_roles('Moose::Meta::Class=HASH(0x1489e74)', undef, 'Net::HTTP::Spore::Meta::Class') called at C:/strawberry163/perl/site/lib/Moose/Util.pm line 108
Moose::Util::apply_all_roles('Moose::Meta::Class=HASH(0x1489e74)', 'Net::HTTP::Spore::Meta::Class') called at C:/strawberry163/perl/site/lib/Moose/Meta/Class.pm line 93
Moose::Meta::Class::create('Moose::Meta::Class', 'Moose::Meta::Class::__ANON__::SERIAL::1', 'roles', 'ARRAY(0x12a393c)', 'weaken', '', 'superclasses', 'ARRAY(0x1489b44)') called at C:/strawberry163/perl/site/lib/Class/MOP/Package.pm line 126
Class::MOP::Package::create_anon('Moose::Meta::Class', 'superclasses', 'ARRAY(0x1489b44)', 'roles', 'ARRAY(0x12a393c)', 'cache', 1) called at C:/strawberry163/perl/site/lib/Class/MOP/Class.pm line 475
Class::MOP::Class::create_anon_class('Moose::Meta::Class', 'superclasses', 'ARRAY(0x1489b44)', 'roles', 'ARRAY(0x12a393c)', 'cache', 1) called at C:/strawberry163/perl/site/lib/Moose/Util/MetaRole.pm line 113
Moose::Util::MetaRole::_make_new_class('Moose::Meta::Class', 'ARRAY(0x12a393c)') called at C:/strawberry163/perl/site/lib/Moose/Util/MetaRole.pm line 56
Moose::Util::MetaRole::_make_new_metaclass('Moose::Meta::Class=HASH(0x1489564)', 'HASH(0x12a395c)', 'class') called at C:/strawberry163/perl/site/lib/Moose/Util/MetaRole.pm line 26
Moose::Util::MetaRole::apply_metaroles('for', 'Net::HTTP::Spore::Core', 'class_metaroles', 'HASH(0x12a395c)') called at C:\strawberry163\cpan\build\Net-HTTP-Spore-0.06-HgZmhI/blib/lib/Net/HTTP/Spore/Meta.pm line 28
Net::HTTP::Spore::Meta::init_meta('Net::HTTP::Spore::Meta', 'for_class', 'Net::HTTP::Spore::Meta::Types', 'metaclass', undef, 'meta_name', 'meta') called at C:/strawberry163/perl/site/lib/Moose/Exporter.pm line 470
Moose::Exporter::__ANON__('Net::HTTP::Spore::Meta') called at C:\strawberry163\cpan\build\Net-HTTP-Spore-0.06-HgZmhI/blib/lib/Net/HTTP/Spore/Core.pm line 6
Net::HTTP::Spore::Core::BEGIN() called at C:\strawberry163\cpan\build\Net-HTTP-Spore-0.06-HgZmhI/blib/lib/Net/HTTP/Spore/Meta/Types.pm line 0
eval {...} called at C:\strawberry163\cpan\build\Net-HTTP-Spore-0.06-HgZmhI/blib/lib/Net/HTTP/Spore/Meta/Types.pm line 0
require Net/HTTP/Spore/Core.pm called at C:\strawberry163\cpan\build\Net-HTTP-Spore-0.06-HgZmhI/blib/lib/Net/HTTP/Spore.pm line 16
Net::HTTP::Spore::BEGIN() called at C:\strawberry163\cpan\build\Net-HTTP-Spore-0.06-HgZmhI/blib/lib/Net/HTTP/Spore/Meta/Types.pm line 0
eval {...} called at C:\strawberry163\cpan\build\Net-HTTP-Spore-0.06-HgZmhI/blib/lib/Net/HTTP/Spore/Meta/Types.pm line 0
require Net/HTTP/Spore.pm called at lib/WebService/Zoopla/API.pm line 3
WebService::Zoopla::API::BEGIN() called at C:\strawberry163\cpan\build\Net-HTTP-Spore-0.06-HgZmhI/blib/lib/Net/HTTP/Spore/Meta/Types.pm line 0
eval {...} called at C:\strawberry163\cpan\build\Net-HTTP-Spore-0.06-HgZmhI/blib/lib/Net/HTTP/Spore/Meta/Types.pm line 0
require WebService/Zoopla/API.pm called at -e line 1
t/00-compile.t ............... ok
t/01_basic_test.t ............ skipped: Set the following environment variables or these tests are skipped: $ENV{'ZOOPLA_API_KEY'}
t/author-critic.t ............ skipped: these tests are for testing by the author
t/release-dist-manifest.t .... skipped: these tests are for release candidate testing
t/release-distmeta.t ......... skipped: these tests are for release candidate testing
t/release-eol.t .............. skipped: these tests are for release candidate testing
t/release-has-version.t ...... skipped: these tests are for release candidate testing
t/release-kwalitee.t ......... skipped: these tests are for release candidate testing
t/release-minimum-version.t .. skipped: these tests are for release candidate testing
t/release-no-tabs.t .......... skipped: these tests are for release candidate testing
t/release-pod-coverage.t ..... skipped: these tests are for release candidate testing
t/release-pod-syntax.t ....... skipped: these tests are for release candidate testing
t/release-portability.t ...... skipped: these tests are for release candidate testing
t/release-synopsis.t ......... skipped: these tests are for release candidate testing
t/release-unused-vars.t ...... skipped: these tests are for release candidate testing
All tests successful.
Files=15, Tests=1, 3 wallclock secs ( 0.04 usr + 0.11 sys = 0.15 CPU)
Result: PASS
------------------------------
PREREQUISITES
------------------------------
Prerequisite modules loaded:
requires:
Module Need Have
------------------- ---- --------
List::Util 0 1.38
Moose 0 2.1204
Net::HTTP::Spore 0 0.06
build_requires:
Module Need Have
------------------- ---- --------
Data::Dumper 0 2.143
English 0 1.05
File::Find 0 1.20
File::Temp 0 0.22
Test::More 0 1.001002
Test::Most 0 0.33
configure_requires:
Module Need Have
------------------- ---- --------
ExtUtils::MakeMaker 6.31 6.64
------------------------------
ENVIRONMENT AND OTHER CONTEXT
------------------------------
Environment variables:
AUTOMATED_TESTING = 1
COMSPEC = C:\WINDOWS\system32\cmd.exe
NUMBER_OF_PROCESSORS = 1
PATH = C:\Program Files\Far Manager\;C:\WINDOWS\system32;C:\WINDOWS;C:\WINDOWS\System32\Wbem;C:\strawberry163\c\bin;C:\strawberry163\perl\site\bin;C:\strawberry163\perl\bin
PERL5LIB = C:\strawberry163\cpan\build\Net-HTTP-Spore-0.06-HgZmhI/blib/arch;C:\strawberry163\cpan\build\Net-HTTP-Spore-0.06-HgZmhI/blib/lib
PERL5OPT =
PERL5_CPANPLUS_IS_RUNNING = 468
PERL5_CPAN_IS_RUNNING = 468
PERL5_CPAN_IS_RUNNING_IN_RECURSION = 1504,468
PERL_CR_SMOKER_CURRENT = WebService-Zoopla-API-0.001
PERL_EXTUTILS_AUTOINSTALL = --defaultdeps
PERL_MM_USE_DEFAULT = 1
PROCESSOR_IDENTIFIER = x86 Family 16 Model 5 Stepping 3, AuthenticAMD
TEMP = C:\DOCUME~1\c\LOCALS~1\Temp
TERM = dumb
Perl special variables (and OS-specific diagnostics, for MSWin32):
$^X = C:\strawberry163\perl\bin\perl.exe
$UID/$EUID = 0 / 0
$GID = 0
$EGID = 0
Win32::GetOSName = WinXP/.Net
Win32::GetOSVersion = Service Pack 3, 5, 1, 2600, 2, 3, 0, 256, 1
Win32::FsType = NTFS
Win32::IsAdminUser = 1
Perl module toolchain versions installed:
Module Have
------------------- --------
CPAN 2.00
CPAN::Meta 2.140640
Cwd 3.40
ExtUtils::CBuilder 0.280206
ExtUtils::Command 1.17
ExtUtils::Install 1.58
ExtUtils::MakeMaker 6.64
ExtUtils::Manifest 1.61
ExtUtils::ParseXS 3.24
File::Spec 3.40
JSON 2.90
JSON::PP 2.27203
Module::Build 0.4205
Module::Signature 0.70
Parse::CPAN::Meta 1.4414
Test::Harness 3.30
Test::More 1.001002
YAML 0.90
YAML::Syck 1.24
version 0.9902
--
Summary of my perl5 (revision 5 version 16 subversion 3) configuration:
Platform:
osname=MSWin32, osvers=4.0, archname=MSWin32-x86-multi-thread
uname='Win32 strawberry-perl 5.16.3.1 #1 Tue Mar 12 13:55:20 2013 i386'
config_args='undef'
hint=recommended, useposix=true, d_sigaction=undef
useithreads=define, usemultiplicity=define
useperlio=define, d_sfio=undef, uselargefiles=define, usesocks=undef
use64bitint=undef, use64bitall=undef, uselongdouble=undef
usemymalloc=n, bincompat5005=undef
Compiler:
cc='gcc', ccflags =' -s -O2 -DWIN32 -DPERL_TEXTMODE_SCRIPTS -DPERL_IMPLICIT_CONTEXT -DPERL_IMPLICIT_SYS -fno-strict-aliasing -mms-bitfields',
optimize='-s -O2',
cppflags='-DWIN32'
ccversion='', gccversion='4.6.3', gccosandvers=''
intsize=4, longsize=4, ptrsize=4, doublesize=8, byteorder=1234
d_longlong=undef, longlongsize=8, d_longdbl=define, longdblsize=12
ivtype='long', ivsize=4, nvtype='double', nvsize=8, Off_t='long long', lseeksize=8
alignbytes=8, prototype=define
Linker and Libraries:
ld='g++', ldflags ='-s -L"C:\strawberry163\perl\lib\CORE" -L"C:\strawberry163\c\lib"'
libpth=C:\strawberry163\c\lib C:\strawberry163\c\i686-w64-mingw32\lib
libs=-lmoldname -lkernel32 -luser32 -lgdi32 -lwinspool -lcomdlg32 -ladvapi32 -lshell32 -lole32 -loleaut32 -lnetapi32 -luuid -lws2_32 -lmpr -lwinmm -lversion -lodbc32 -lodbccp32 -lcomctl32
perllibs=-lmoldname -lkernel32 -luser32 -lgdi32 -lwinspool -lcomdlg32 -ladvapi32 -lshell32 -lole32 -loleaut32 -lnetapi32 -luuid -lws2_32 -lmpr -lwinmm -lversion -lodbc32 -lodbccp32 -lcomctl32
libc=, so=dll, useshrplib=true, libperl=libperl516.a
gnulibc_version=''
Dynamic Linking:
dlsrc=dl_win32.xs, dlext=dll, d_dlsymun=undef, ccdlflags=' '
cccdlflags=' ', lddlflags='-mdll -s -L"C:\strawberry163\perl\lib\CORE" -L"C:\strawberry163\c\lib"'
Characteristics of this binary (from libperl):
Compile-time options: HAS_TIMES HAVE_INTERP_INTERN MULTIPLICITY
PERLIO_LAYERS PERL_DONT_CREATE_GVSV
PERL_IMPLICIT_CONTEXT PERL_IMPLICIT_SYS
PERL_MALLOC_WRAP PERL_PRESERVE_IVUV PL_OP_SLAB_ALLOC
USE_ITHREADS USE_LARGE_FILES USE_LOCALE
USE_LOCALE_COLLATE USE_LOCALE_CTYPE
USE_LOCALE_NUMERIC USE_PERLIO USE_PERL_ATOF
Built under MSWin32
Compiled at Mar 12 2013 14:01:07
%ENV:
PERL5LIB="C:\strawberry163\cpan\build\Net-HTTP-Spore-0.06-HgZmhI/blib/arch;C:\strawberry163\cpan\build\Net-HTTP-Spore-0.06-HgZmhI/blib/lib"
PERL5_CPANPLUS_IS_RUNNING="468"
PERL5_CPAN_IS_RUNNING="468"
PERL5_CPAN_IS_RUNNING_IN_RECURSION="1504,468"
PERL_CR_SMOKER_CURRENT="WebService-Zoopla-API-0.001"
PERL_EXTUTILS_AUTOINSTALL="--defaultdeps"
PERL_MM_USE_DEFAULT="1"
@INC:
C:\strawberry163\cpan\build\Net-HTTP-Spore-0.06-HgZmhI/blib/arch
C:\strawberry163\cpan\build\Net-HTTP-Spore-0.06-HgZmhI/blib/lib
C:/strawberry163/perl/site/lib
C:/strawberry163/perl/vendor/lib
C:/strawberry163/perl/lib
.