Test-CleanNamespaces v0.24 Perl 5 v5.16.3 MSWin32-x64-multi-thread

Status
Pass
From
twata
Dist
Test-CleanNamespaces v0.24
Platform
Perl 5 v5.16.3 MSWin32-x64-multi-thread
Date
2020-04-04 04:14:49
ID
1ce4e472-7003-1014-8bae-5b7376a13fd6
This distribution has been tested as part of the CPAN Testers
project, supporting the Perl programming language.  See
http://wiki.cpantesters.org/ for more information or email
questions to cpan-testers-discuss@perl.org


--
Dear Karen Etheridge,

This is a computer-generated report for Test-CleanNamespaces-0.24
on perl 5.16.3, created by CPAN-Reporter-1.2018.

Thank you for uploading your work to CPAN.  Congratulations!
All tests were successful.

Sections of this report:

    * Tester comments
    * Program output
    * Prerequisites
    * Environment and other context

------------------------------
TESTER COMMENTS
------------------------------

Additional comments from tester:

none provided

------------------------------
PROGRAM OUTPUT
------------------------------

Output from 'C:\Strawberry\c\bin\dmake.exe test':

C:\"Strawberry\perl\bin\perl.exe" "-MExtUtils::Command::MM" "-MTest::Harness" "-e" "undef *Test::Harness::Switches; test_harness(0, 'blib\lib', 'blib\arch')" t/*.t
# 
# Versions for all modules listed in MYMETA.json (including optional ones):
# 
# === Configure Requires ===
# 
#     Module                       Want     Have
#     ------------------------ -------- --------
#     CPAN::Meta::Requirements 2.120620    2.140
#     ExtUtils::MakeMaker           any     7.44
#     Module::Metadata              any 1.000037
# 
# === Build Requires ===
# 
#     Module              Want Have
#     ------------------- ---- ----
#     ExtUtils::MakeMaker  any 7.44
# 
# === Test Requires ===
# 
#     Module                 Want     Have
#     --------------------- ----- --------
#     ExtUtils::MakeMaker     any     7.44
#     File::Spec              any     3.40
#     File::Spec::Functions   any     3.40
#     File::pushd             any    1.004
#     Scalar::Util            any  1.50_11
#     Sub::Exporter           any    0.985
#     Test::Deep              any    1.130
#     Test::More             0.96 1.302174
#     Test::Needs             any 0.002006
#     Test::Tester            any 1.302174
#     Test::Warnings        0.009    0.028
#     constant                any     1.25
#     if                      any   0.0602
#     lib                     any     0.63
#     namespace::clean        any     0.24
#     overload                any     1.18
#     parent                  any    0.225
# 
# === Test Recommends ===
# 
#     Module         Want     Have
#     ---------- -------- --------
#     CPAN::Meta 2.120900 2.150010
# 
# === Test Suggests ===
# 
#     Module                          Want     Have
#     --------------------------- -------- --------
#     Class::MOP::Class                any   2.0604
#     Moo                              any 2.003006
#     Moo::Role                        any 2.003006
#     Moose                            any   2.0604
#     Moose::Exporter                  any   2.0604
#     Moose::Role                      any   2.0604
#     MooseX::Role::Parameterized      any     1.00
#     Mouse                            any  missing
#     Mouse::Role                      any  missing
#     Role::Tiny                  1.003000 2.001004
#     metaclass                        any   2.0604
# 
# === Runtime Requires ===
# 
#     Module              Want     Have
#     --------------- -------- --------
#     Exporter            5.57     5.67
#     File::Find           any     1.20
#     File::Spec           any     3.40
#     Module::Runtime      any    0.016
#     Package::Stash      0.14     0.34
#     Role::Tiny      1.003000 2.001004
#     Sub::Identify        any     0.14
#     Test::Builder        any 1.302174
#     strict               any     1.07
#     warnings             any     1.13
# 
# === Runtime Recommends ===
# 
#     Module             Want Have
#     ------------------ ---- ----
#     Package::Stash::XS  any 0.26
# 
# === Runtime Suggests ===
# 
#     Module     Want     Have
#     ---------- ---- --------
#     Role::Tiny  any 2.001004
# 
# === Other Modules ===
# 
#     Module           Have
#     --------------- -----
#     Encode           3.02
#     File::Temp       0.22
#     JSON::PP         4.04
#     Module::Runtime 0.016
#     Pod::Coverage    0.23
#     Sub::Name        0.05
#     YAML             1.30
#     autodie          2.16
# 
t/00-report-prereqs.t ......... ok
t/basic.t ..................... ok
t/class_mop.t ................. skipped: skipping for regular installs, due to possible circular dependency issues
t/clean-namespaces.t .......... ok
t/find_modules.t .............. ok
t/moo.t ....................... ok
t/moose-parameterized-role.t .. skipped: skipping for regular installs, due to possible circular dependency issues
t/moose.t ..................... skipped: skipping for regular installs, due to possible circular dependency issues
t/mouse.t ..................... skipped: Need Mouse
t/overload.t .................. ok
t/role_tiny.t ................. ok
t/self.t ...................... ok
t/zzz-check-breaks.t .......... ok
All tests successful.
Files=13, Tests=134,  8 wallclock secs ( 0.08 usr +  0.03 sys =  0.11 CPU)
Result: PASS

------------------------------
PREREQUISITES
------------------------------

Prerequisite modules loaded:

requires:

    Module                   Need     Have    
    ------------------------ -------- --------
    Exporter                 5.57     5.67    
    File::Find               0        1.20    
    File::Spec               0        3.40    
    Module::Runtime          0        0.016   
    Package::Stash           0.14     0.34    
    perl                     5.006    5.016003
    Role::Tiny               1.003000 2.001004
    strict                   0        1.07    
    Sub::Identify            0        0.14    
    Test::Builder            0        1.302174
    warnings                 0        1.13    

build_requires:

    Module                   Need     Have    
    ------------------------ -------- --------
    constant                 0        1.25    
    ExtUtils::MakeMaker      0        7.44    
    File::pushd              0        1.004   
    File::Spec               0        3.40    
    File::Spec::Functions    0        3.40    
    if                       0        0.0602  
    lib                      0        0.63    
    namespace::clean         0        0.24    
    overload                 0        1.18    
    parent                   0        0.225   
    Scalar::Util             0        1.50_11 
    Sub::Exporter            0        0.985   
    Test::Deep               0        1.130   
    Test::More               0.96     1.302174
    Test::Needs              0        0.002006
    Test::Tester             0        1.302174
    Test::Warnings           0.009    0.028   

configure_requires:

    Module                   Need     Have    
    ------------------------ -------- --------
    CPAN::Meta::Requirements 2.120620 2.140   
    ExtUtils::MakeMaker      0        7.44    
    Module::Metadata         0        1.000037
    perl                     5.006    5.016003


------------------------------
ENVIRONMENT AND OTHER CONTEXT
------------------------------

Environment variables:

    COMSPEC = C:\WINDOWS\system32\cmd.exe
    NUMBER_OF_PROCESSORS = 4
    PATH = C:\home\pianokey\perl5\bin;C:\WINDOWS\system32;C:\WINDOWS;C:\WINDOWS\System32\Wbem;C:\WINDOWS\System32\WindowsPowerShell\v1.0\;C:\Strawberry\c\bin;C:\Strawberry\perl\site\bin;C:\Strawberry\perl\bin
    PERL5LIB = C:\home\pianokey\perl5\lib\perl5
    PERL5OPT = 
    PERL5_CPANPLUS_IS_RUNNING = 7080
    PERL5_CPAN_IS_RUNNING = 7080
    PERL_LOCAL_LIB_ROOT = C:\home\pianokey\perl5
    PERL_MB_OPT = --install_base "C:\\home\\pianokey\\perl5"
    PERL_MM_OPT = INSTALL_BASE=C:\\home\\pianokey\\perl5
    PROCESSOR_IDENTIFIER = Intel64 Family 6 Model 58 Stepping 9, GenuineIntel
    TEMP = C:\Users\USER\AppData\Local\Temp
    TERM = dumb

Perl special variables (and OS-specific diagnostics, for MSWin32):

    $^X = C:\Strawberry\perl\bin\perl.exe
    $UID/$EUID = 0 / 0
    $GID = 0
    $EGID = 0
    Win32::GetOSName = Win8
    Win32::GetOSVersion = , 6, 2, 9200, 2, 0, 0, 256, 1
    Win32::FsType = NTFS
    Win32::IsAdminUser = 0

Perl module toolchain versions installed:

    Module              Have    
    ------------------- --------
    CPAN                1.9800  
    CPAN::Meta          2.150010
    Cwd                 3.40    
    ExtUtils::CBuilder  0.280206
    ExtUtils::Command   7.44    
    ExtUtils::Install   2.06    
    ExtUtils::MakeMaker 7.44    
    ExtUtils::Manifest  1.70    
    ExtUtils::ParseXS   3.18    
    File::Spec          3.40    
    JSON                2.53    
    JSON::PP            4.04    
    Module::Build       0.4229  
    Module::Signature   n/a     
    Parse::CPAN::Meta   2.150010
    Test::Harness       3.42    
    Test::More          1.302174
    YAML                1.30    
    YAML::Syck          1.23    
    version             0.9902  


--

Summary of my perl5 (revision 5 version 16 subversion 3) configuration:
   
  Platform:
    osname=MSWin32, osvers=4.0, archname=MSWin32-x64-multi-thread
    uname='Win32 strawberry-perl 5.16.3.1 #1 Tue Mar 12 12:12:07 2013 x64'
    config_args='undef'
    hint=recommended, useposix=true, d_sigaction=undef
    useithreads=define, usemultiplicity=define
    useperlio=define, d_sfio=undef, uselargefiles=define, usesocks=undef
    use64bitint=define, use64bitall=undef, uselongdouble=undef
    usemymalloc=n, bincompat5005=undef
  Compiler:
    cc='gcc', ccflags =' -s -O2 -DWIN32 -DWIN64 -DCONSERVATIVE  -DPERL_TEXTMODE_SCRIPTS -DPERL_IMPLICIT_CONTEXT -DPERL_IMPLICIT_SYS -fno-strict-aliasing -mms-bitfields',
    optimize='-s -O2',
    cppflags='-DWIN32'
    ccversion='', gccversion='4.6.3', gccosandvers=''
    intsize=4, longsize=4, ptrsize=8, doublesize=8, byteorder=12345678
    d_longlong=define, longlongsize=8, d_longdbl=define, longdblsize=12
    ivtype='long long', ivsize=8, nvtype='double', nvsize=8, Off_t='long long', lseeksize=8
    alignbytes=8, prototype=define
  Linker and Libraries:
    ld='g++', ldflags ='-s -L"C:\Strawberry\perl\lib\CORE" -L"C:\Strawberry\c\lib"'
    libpth=C:\Strawberry\c\lib C:\Strawberry\c\x86_64-w64-mingw32\lib
    libs=-lmoldname -lkernel32 -luser32 -lgdi32 -lwinspool -lcomdlg32 -ladvapi32 -lshell32 -lole32 -loleaut32 -lnetapi32 -luuid -lws2_32 -lmpr -lwinmm -lversion -lodbc32 -lodbccp32 -lcomctl32
    perllibs=-lmoldname -lkernel32 -luser32 -lgdi32 -lwinspool -lcomdlg32 -ladvapi32 -lshell32 -lole32 -loleaut32 -lnetapi32 -luuid -lws2_32 -lmpr -lwinmm -lversion -lodbc32 -lodbccp32 -lcomctl32
    libc=, so=dll, useshrplib=true, libperl=libperl516.a
    gnulibc_version=''
  Dynamic Linking:
    dlsrc=dl_win32.xs, dlext=dll, d_dlsymun=undef, ccdlflags=' '
    cccdlflags=' ', lddlflags='-mdll -s -L"C:\Strawberry\perl\lib\CORE" -L"C:\Strawberry\c\lib"'


Characteristics of this binary (from libperl): 
  Compile-time options: HAS_TIMES HAVE_INTERP_INTERN MULTIPLICITY
                        PERLIO_LAYERS PERL_DONT_CREATE_GVSV
                        PERL_IMPLICIT_CONTEXT PERL_IMPLICIT_SYS
                        PERL_MALLOC_WRAP PERL_PRESERVE_IVUV PL_OP_SLAB_ALLOC
                        USE_64_BIT_INT USE_ITHREADS USE_LARGE_FILES
                        USE_LOCALE USE_LOCALE_COLLATE USE_LOCALE_CTYPE
                        USE_LOCALE_NUMERIC USE_PERLIO USE_PERL_ATOF
  Built under MSWin32
  Compiled at Mar 12 2013 12:16:40
  %ENV:
    PERL5LIB="C:\home\pianokey\perl5\lib\perl5"
    PERL5_CPANPLUS_IS_RUNNING="7080"
    PERL5_CPAN_IS_RUNNING="7080"
    PERL_LOCAL_LIB_ROOT="C:\home\pianokey\perl5"
    PERL_MB_OPT="--install_base "C:\\home\\pianokey\\perl5""
    PERL_MM_OPT="INSTALL_BASE=C:\\home\\pianokey\\perl5"
  @INC:
    C:\home\pianokey\perl5\lib\perl5/MSWin32-x64-multi-thread
    C:\home\pianokey\perl5\lib\perl5
    C:/Strawberry/perl/site/lib
    C:/Strawberry/perl/vendor/lib
    C:/Strawberry/perl/lib
    .