Report for MooseX-ConfigFromFile-0.14

Back
From: metabase:user:314402c4-2aae-11df-837a-5e0a49663a4f
Subject: PASS MooseX-ConfigFromFile-0.14 v5.25.11 GNU/Linux
Date: 2017-03-22T23:56:05Z

This distribution has been tested as part of the CPAN Testers
project, supporting the Perl programming language.  See
http://wiki.cpantesters.org/ for more information or email
questions to cpan-testers-discuss@perl.org


--
Dear Karen Etheridge,

This is a computer-generated report for MooseX-ConfigFromFile-0.14
on perl 5.25.11, created by CPAN-Reporter-1.2018.

Thank you for uploading your work to CPAN.  Congratulations!
All tests were successful.

Sections of this report:

    * Tester comments
    * Program output
    * Prerequisites
    * Environment and other context

------------------------------
TESTER COMMENTS
------------------------------

Additional comments from tester:

none provided

------------------------------
PROGRAM OUTPUT
------------------------------

Output from './Build test':

# 
# Versions for all modules listed in MYMETA.json (including optional ones):
# 
# === Configure Requires ===
# 
#     Module               Want  Have
#     ------------------- ----- -----
#     Module::Build::Tiny 0.007 0.039
# 
# === Test Requires ===
# 
#     Module                Want     Have
#     --------------------- ---- --------
#     ExtUtils::MakeMaker    any     7.24
#     File::Spec             any     3.67
#     Moose                  any   2.2004
#     Scalar::Util           any     1.47
#     Test::Deep             any    1.126
#     Test::Fatal            any    0.014
#     Test::More            0.88 1.302078
#     Test::Requires         any     0.10
#     Test::Without::Module  any     0.18
#     if                     any   0.0606
#     strict                 any     1.11
# 
# === Test Recommends ===
# 
#     Module             Want     Have
#     -------------- -------- --------
#     CPAN::Meta     2.120900 2.150010
#     MooseX::Getopt      any     0.71
# 
# === Runtime Requires ===
# 
#     Module                     Want   Have
#     ------------------------- ----- ------
#     Carp                        any   1.42
#     Moose::Role                 any 2.2004
#     MooseX::Types::Moose        any   0.50
#     MooseX::Types::Path::Tiny 0.005  0.011
#     namespace::autoclean        any   0.28
#     warnings                    any   1.37
# 
# === Other Modules ===
# 
#     Module        Have
#     ------------- ----
#     Pod::Coverage 0.23
# 
t/00-report-prereqs.t .... ok
t/01use.t ................ ok
t/02subclass.t ........... ok
t/03configfile_method.t .. ok
t/04a_getopt.t ........... ok
t/04b_getopt.t ........... ok
t/05_default_sub.t ....... ok
t/zzz-check-breaks.t ..... ok
All tests successful.
Files=8, Tests=63,  5 wallclock secs ( 0.05 usr  0.02 sys +  4.37 cusr  0.36 csys =  4.80 CPU)
Result: PASS

------------------------------
PREREQUISITES
------------------------------

Prerequisite modules loaded:

requires:

    Module                    Need     Have    
    ------------------------- -------- --------
    Carp                      0        1.42    
    Moose::Role               0        2.2004  
    MooseX::Types::Moose      0        0.50    
    MooseX::Types::Path::Tiny 0.005    0.011   
    namespace::autoclean      0        0.28    
    perl                      5.006    5.025011
    warnings                  0        1.37    

build_requires:

    Module                    Need     Have    
    ------------------------- -------- --------
    ExtUtils::MakeMaker       0        7.24    
    File::Spec                0        3.67    
    if                        0        0.0606  
    Moose                     0        2.2004  
    perl                      5.006    5.025011
    Scalar::Util              0        1.47    
    strict                    0        1.11    
    Test::Deep                0        1.126   
    Test::Fatal               0        0.014   
    Test::More                0.88     1.302078
    Test::Requires            0        0.10    
    Test::Without::Module     0        0.18    

configure_requires:

    Module                    Need     Have    
    ------------------------- -------- --------
    Module::Build::Tiny       0.007    0.039   
    perl                      5.006    5.025011

opt_build_requires:

    Module                    Need     Have    
    ------------------------- -------- --------
    CPAN::Meta                2.120900 2.150010
    MooseX::Getopt            0        0.71    


------------------------------
ENVIRONMENT AND OTHER CONTEXT
------------------------------

Environment variables:

    LANG = en_US.UTF-8
    PATH = /usr/local/bin:/usr/bin:/bin:/usr/local/sbin:/usr/sbin:/sbin:/home/cpansand/bin/linux-gnu:/home/cpansand/bin/sh:/home/cpansand/bin:/usr/games:/home/cpansand/devel:/home/eserte/src/srezic-misc/scripts
    PERL5LIB = /home/cpansand/.cpan/build/2017032221/Compiler-Lexer-0.22-0/blib/arch:/home/cpansand/.cpan/build/2017032221/Compiler-Lexer-0.22-0/blib/lib:/home/cpansand/.cpan/build/2017032221/libintl-perl-1.26-1/blib/arch:/home/cpansand/.cpan/build/2017032221/libintl-perl-1.26-1/blib/lib:/home/cpansand/.cpan/build/2017032221/WWW-Form-UrlEncoded-0.24-1/blib/arch:/home/cpansand/.cpan/build/2017032221/WWW-Form-UrlEncoded-0.24-1/blib/lib
    PERL5OPT = 
    PERL5_CPANPLUS_IS_RUNNING = 20501
    PERL5_CPAN_IS_RUNNING = 20501
    PERL5_CPAN_IS_RUNNING_IN_RECURSION = 20194,20501
    PERLDOC = -MPod::Perldoc::ToTextOverstrike
    PERL_BATCH = yes
    PERL_CANARY_STABILITY_NOPROMPT = 1
    PERL_CPAN_REPORTER_CONFIG = /var/tmp/cpansmoker-1002/2017032221/cpanreporter_001_config.ini
    PERL_EXTUTILS_AUTOINSTALL = --defaultdeps
    PERL_USE_UNSAFE_INC = 1
    SHELL = /bin/zsh
    TERM = screen
    TMPDIR = /var/tmp/cpansmoker-1002/2017032221

Perl special variables (and OS-specific diagnostics, for MSWin32):

    $^X = /opt/perl-5.25.11/bin/perl5.25.11
    $UID/$EUID = 1002 / 1002
    $GID = 1002 1002
    $EGID = 1002 1002

Perl module toolchain versions installed:

    Module              Have      
    ------------------- ----------
    CPAN                2.17      
    CPAN::Meta          2.150010  
    Cwd                 3.67      
    ExtUtils::CBuilder  0.280225  
    ExtUtils::Command   7.24      
    ExtUtils::Install   2.04      
    ExtUtils::MakeMaker 7.24      
    ExtUtils::Manifest  1.70      
    ExtUtils::ParseXS   3.34      
    File::Spec          3.67      
    JSON                2.90      
    JSON::PP            2.27400_02
    Module::Build       0.4220    
    Module::Signature   0.81      
    Parse::CPAN::Meta   2.150010  
    Test::Harness       3.38      
    Test::More          1.302078  
    YAML                1.23      
    YAML::Syck          1.29      
    version             0.9917    


--

Summary of my perl5 (revision 5 version 25 subversion 11) configuration:
   
  Platform:
    osname=linux
    osvers=4.4.0-67-generic
    archname=x86_64-linux
    uname='linux prod3 4.4.0-67-generic #88-ubuntu smp wed mar 8 16:34:45 utc 2017 x86_64 x86_64 x86_64 gnulinux '
    config_args='-ds -e -Dprefix=/opt/perl-5.25.11 -Dusedevel -Dcf_email=srezic@cpan.org'
    hint=recommended
    useposix=true
    d_sigaction=define
    useithreads=undef
    usemultiplicity=undef
    use64bitint=define
    use64bitall=define
    uselongdouble=undef
    usemymalloc=n
    default_inc_excludes_dot=define
    bincompat5005=undef
  Compiler:
    cc='cc'
    ccflags ='-fwrapv -fno-strict-aliasing -pipe -fstack-protector-strong -I/usr/local/include -D_LARGEFILE_SOURCE -D_FILE_OFFSET_BITS=64'
    optimize='-O2'
    cppflags='-fwrapv -fno-strict-aliasing -pipe -fstack-protector-strong -I/usr/local/include'
    ccversion=''
    gccversion='5.4.0 20160609'
    gccosandvers=''
    intsize=4
    longsize=8
    ptrsize=8
    doublesize=8
    byteorder=12345678
    doublekind=3
    d_longlong=define
    longlongsize=8
    d_longdbl=define
    longdblsize=16
    longdblkind=3
    ivtype='long'
    ivsize=8
    nvtype='double'
    nvsize=8
    Off_t='off_t'
    lseeksize=8
    alignbytes=8
    prototype=define
  Linker and Libraries:
    ld='cc'
    ldflags =' -fstack-protector-strong -L/usr/local/lib'
    libpth=/usr/local/lib /usr/lib/gcc/x86_64-linux-gnu/5/include-fixed /usr/include/x86_64-linux-gnu /usr/lib /lib/x86_64-linux-gnu /lib/../lib /usr/lib/x86_64-linux-gnu /usr/lib/../lib /lib
    libs=-lpthread -lnsl -lgdbm -ldb -ldl -lm -lcrypt -lutil -lc -lgdbm_compat
    perllibs=-lpthread -lnsl -ldl -lm -lcrypt -lutil -lc
    libc=libc-2.23.so
    so=so
    useshrplib=false
    libperl=libperl.a
    gnulibc_version='2.23'
  Dynamic Linking:
    dlsrc=dl_dlopen.xs
    dlext=so
    d_dlsymun=undef
    ccdlflags='-Wl,-E'
    cccdlflags='-fPIC'
    lddlflags='-shared -O2 -L/usr/local/lib -fstack-protector-strong'


Characteristics of this binary (from libperl): 
  Compile-time options:
    HAS_TIMES
    PERLIO_LAYERS
    PERL_COPY_ON_WRITE
    PERL_DONT_CREATE_GVSV
    PERL_MALLOC_WRAP
    PERL_OP_PARENT
    PERL_PRESERVE_IVUV
    PERL_USE_DEVEL
    USE_64_BIT_ALL
    USE_64_BIT_INT
    USE_LARGE_FILES
    USE_LOCALE
    USE_LOCALE_COLLATE
    USE_LOCALE_CTYPE
    USE_LOCALE_NUMERIC
    USE_LOCALE_TIME
    USE_PERLIO
    USE_PERL_ATOF
  Built under linux
  Compiled at Mar 22 2017 08:12:27
  %ENV:
    PERL5LIB="/home/cpansand/.cpan/build/2017032221/Compiler-Lexer-0.22-0/blib/arch:/home/cpansand/.cpan/build/2017032221/Compiler-Lexer-0.22-0/blib/lib:/home/cpansand/.cpan/build/2017032221/libintl-perl-1.26-1/blib/arch:/home/cpansand/.cpan/build/2017032221/libintl-perl-1.26-1/blib/lib:/home/cpansand/.cpan/build/2017032221/WWW-Form-UrlEncoded-0.24-1/blib/arch:/home/cpansand/.cpan/build/2017032221/WWW-Form-UrlEncoded-0.24-1/blib/lib"
    PERL5OPT=""
    PERL5_CPANPLUS_IS_RUNNING="20501"
    PERL5_CPAN_IS_RUNNING="20501"
    PERL5_CPAN_IS_RUNNING_IN_RECURSION="20194,20501"
    PERLDOC="-MPod::Perldoc::ToTextOverstrike"
    PERL_BATCH="yes"
    PERL_CANARY_STABILITY_NOPROMPT="1"
    PERL_CPAN_REPORTER_CONFIG="/var/tmp/cpansmoker-1002/2017032221/cpanreporter_001_config.ini"
    PERL_EXTUTILS_AUTOINSTALL="--defaultdeps"
    PERL_USE_UNSAFE_INC="1"
  @INC:
    /home/cpansand/.cpan/build/2017032221/Compiler-Lexer-0.22-0/blib/arch
    /home/cpansand/.cpan/build/2017032221/Compiler-Lexer-0.22-0/blib/lib
    /home/cpansand/.cpan/build/2017032221/libintl-perl-1.26-1/blib/arch
    /home/cpansand/.cpan/build/2017032221/libintl-perl-1.26-1/blib/lib
    /home/cpansand/.cpan/build/2017032221/WWW-Form-UrlEncoded-0.24-1/blib/arch
    /home/cpansand/.cpan/build/2017032221/WWW-Form-UrlEncoded-0.24-1/blib/lib
    /opt/perl-5.25.11/lib/site_perl/5.25.11/x86_64-linux
    /opt/perl-5.25.11/lib/site_perl/5.25.11
    /opt/perl-5.25.11/lib/5.25.11/x86_64-linux
    /opt/perl-5.25.11/lib/5.25.11
    .