Text-Amuse-Preprocessor v0.64 Perl 5 v5.28.1 x86_64-linux

Status
Pass
From
Slaven Rezić
Dist
Text-Amuse-Preprocessor v0.64
Platform
Perl 5 v5.28.1 x86_64-linux
Date
2020-11-05 20:33:06
ID
1c953c5a-1fa6-11eb-a6a9-4c7a1f24ea8f
This distribution has been tested as part of the CPAN Testers
project, supporting the Perl programming language.  See
http://wiki.cpantesters.org/ for more information or email
questions to cpan-testers-discuss@perl.org


--
Dear Marco Pessotto,

This is a computer-generated report for Text-Amuse-Preprocessor-0.64
on perl 5.28.1, created by CPAN-Reporter-1.2018.

Thank you for uploading your work to CPAN.  Congratulations!
All tests were successful.

Sections of this report:

    * Tester comments
    * Program output
    * Prerequisites
    * Environment and other context

------------------------------
TESTER COMMENTS
------------------------------

Additional comments from tester:

none provided

------------------------------
PROGRAM OUTPUT
------------------------------

Output from '/usr/bin/make test':

PERL_DL_NONLAZY=1 "/opt/perl-5.28.1/bin/perl" "-MExtUtils::Command::MM" "-MTest::Harness" "-e" "undef *Test::Harness::Switches; test_harness(0, 'blib/lib', 'blib/arch')" t/*.t
# Testing Text::Amuse::Preprocessor 0.64, Perl 5.028001, /opt/perl-5.28.1/bin/perl
t/00-load.t ........... ok
t/changes.t ........... skipped: Changes testing not required (or Test::CPAN::Changes not found)
t/chars.t ............. ok
# Using /var/tmp/cpansmoker-1023/2020110519/MeGytwxTRf for ligatures
# Using /var/tmp/cpansmoker-1023/2020110519/89igpabQTI for missing_nl
# Using /var/tmp/cpansmoker-1023/2020110519/_yv6L7CLY8 for garbage
# Using /var/tmp/cpansmoker-1023/2020110519/4FLEzimWt7 for ellipsis_no_fix
# Using /var/tmp/cpansmoker-1023/2020110519/bFNuKCbv9F for ellipsis
# Using /var/tmp/cpansmoker-1023/2020110519/6TYadobkvM for links
# Using /var/tmp/cpansmoker-1023/2020110519/2XmQdtDhtb for en
# Using /var/tmp/cpansmoker-1023/2020110519/pl44xLH3ji for fi
# Using /var/tmp/cpansmoker-1023/2020110519/2IQNqRIPFM for es
# Using /var/tmp/cpansmoker-1023/2020110519/R2agn0SG84 for sr
# Using /var/tmp/cpansmoker-1023/2020110519/sJSJMqaZ_A for hr
# Using /var/tmp/cpansmoker-1023/2020110519/nGfAiUqJlF for ru
# Using /var/tmp/cpansmoker-1023/2020110519/cldwFwY3Je for it
# Using /var/tmp/cpansmoker-1023/2020110519/TY7si786Kj for mk
# Using /var/tmp/cpansmoker-1023/2020110519/QZEGH5UX6h for sv
# Using /var/tmp/cpansmoker-1023/2020110519/1T7OIseRcQ for de
# Using /var/tmp/cpansmoker-1023/2020110519/5ANDIcqVL7 for pl
# Using /var/tmp/cpansmoker-1023/2020110519/0HTDaqMDfi for bg
# Using /var/tmp/cpansmoker-1023/2020110519/ixXpITDICM for fr
# Using /var/tmp/cpansmoker-1023/2020110519/bM59UDe5LT for pt
# Using /var/tmp/cpansmoker-1023/2020110519/mzcC2wEkpX for sq
# Using /var/tmp/cpansmoker-1023/2020110519/3R3rHNAp3l for da
# Using /var/tmp/cpansmoker-1023/2020110519/pA7k5yGWCF for nl
# Using /var/tmp/cpansmoker-1023/2020110519/Re0vQB_C1G for id
# Using /var/tmp/cpansmoker-1023/2020110519/yx5tgIcz8f for Full example
# Using /var/tmp/cpansmoker-1023/2020110519/jccgja81td for Quote
# Using /var/tmp/cpansmoker-1023/2020110519/5c69dnDDXY for Quote
# Using /var/tmp/cpansmoker-1023/2020110519/6DN_FGHegD for Nl quotation
t/common.t ............ ok
t/crash-on-verb.t ..... ok
# $VAR1 = "#title Test
# #lang en
# 
# 0
# 
# \x{201c}0\x{201d}
# 
# 0
# ";
# $VAR1 = "#title Test
# #lang en
# 
# 0
# 
# \x{201c}0\x{201d}
# 
# 0
# ";
t/crash_on_loop.t ..... ok
# /var/tmp/cpansmoker-1023/2020110519/f8YWqW0I4R/verbatim-in.muse
# /var/tmp/cpansmoker-1023/2020110519/f8YWqW0I4R
t/exclude-verbatim.t .. ok
# Testing t/footnotes/good.in => t/footnotes/good.out
# Testing t/footnotes/good2.in => t/footnotes/good2.out
# Testing t/footnotes/good3.in => t/footnotes/good3.out
# Testing t/footnotes/mixed.in => t/footnotes/mixed.out
# Testing t/footnotes/indentation.in => t/footnotes/indentation.out
# Testing t/footnotes/sec-good.in => t/footnotes/sec-good.out
# Testing t/footnotes/sec-good2.in => t/footnotes/sec-good2.out
# Testing t/footnotes/sec-good3.in => t/footnotes/sec-good3.out
# Testing t/footnotes/sec-bad.in => t/footnotes/sec-bad.out
# @@ -1 +1,2 @@
# -{4}
# +{3}
# +{3}
# Testing t/footnotes/sec-bad2.in => t/footnotes/sec-bad2.out
# @@ -1,3 +1,2 @@
# -{4}
# +{3}
# -{5}
# +{3}
# -{6}
# Testing t/footnotes/bad.in => t/footnotes/bad.out
# @@ -1,2 +1,3 @@
#  [1]
# -[1]
# +[2]
# +[4]
# Testing t/footnotes/bad2.in => t/footnotes/bad2.out
# @@ -1,4 +1,3 @@
#  [1]
# -[1]
# +[2]
#  [4]
# -[5]
t/footnotes.t ......... ok
tagpile mismatch: root, p
t/html-2.t ............ ok
# Using /var/tmp/cpansmoker-1023/2020110519/MYhkT_oZcI.html
# Using /var/tmp/cpansmoker-1023/2020110519/XF872fYtAc.html
# Using /var/tmp/cpansmoker-1023/2020110519/QvVv7VQt6q.html
# Using /var/tmp/cpansmoker-1023/2020110519/YD_9S2Gis0.html
# Using /var/tmp/cpansmoker-1023/2020110519/s1m49u8MFQ.html
# Using /var/tmp/cpansmoker-1023/2020110519/NVv1sKGpVM.html
# Using /var/tmp/cpansmoker-1023/2020110519/UWKwNzfr0C.html
# Using /var/tmp/cpansmoker-1023/2020110519/GMCuTPpDNp.html
# Using /var/tmp/cpansmoker-1023/2020110519/hTCv1uehEP.html
# Using /var/tmp/cpansmoker-1023/2020110519/FnOaSwBB_I.html
# Using /var/tmp/cpansmoker-1023/2020110519/7FuupAgUy1.html
# Using /var/tmp/cpansmoker-1023/2020110519/3gvMJmZG1L.html
# Using /var/tmp/cpansmoker-1023/2020110519/389jaFbtwx.html
# Using /var/tmp/cpansmoker-1023/2020110519/lQ3y1gCr0X.html
# Using /var/tmp/cpansmoker-1023/2020110519/Uy9dEPEvDY.html
# Using /var/tmp/cpansmoker-1023/2020110519/QpLDkNsUkI.html
# Using /var/tmp/cpansmoker-1023/2020110519/7kyLUGpTV6.html
t/html.t .............. ok
t/manifest.t .......... skipped: Author tests not required for installation
t/memory-cycles.t ..... ok
t/nbsp.t .............. ok
# Infile is /var/tmp/cpansmoker-1023/2020110519/FhMHclbs3X/input.txt
# Using /var/tmp/cpansmoker-1023/2020110519/Yl1EEwAwxM as temporary dir
t/object.t ............ ok
t/pod-coverage.t ...... skipped: Pod coverage not required for installation
t/pod.t ............... skipped: Pod test not required for installation
t/russian.t ........... ok
t/subs.t .............. ok
t/typography.t ........ ok
All tests successful.
Files=19, Tests=431,  2 wallclock secs ( 0.11 usr  0.03 sys +  2.45 cusr  0.34 csys =  2.93 CPU)
Result: PASS

------------------------------
PREREQUISITES
------------------------------

Prerequisite modules loaded:

requires:

    Module              Need Have    
    ------------------- ---- --------
    HTML::PullParser    0    3.57    
    IO::HTML            1    1.001   
    Pod::Simple::Wiki   0.19 0.20    
    Text::Amuse         0.95 1.70    
    Text::Diff          0    1.45    

build_requires:

    Module              Need Have    
    ------------------- ---- --------
    Test::More          0    1.302181

configure_requires:

    Module              Need Have    
    ------------------- ---- --------
    ExtUtils::MakeMaker 0    7.52    


------------------------------
ENVIRONMENT AND OTHER CONTEXT
------------------------------

Environment variables:

    LANG = en_US.UTF-8
    PATH = /usr/local/bin:/usr/bin:/bin:/usr/local/sbin:/usr/sbin:/sbin:/home/cpansand/bin/linux-gnu:/home/cpansand/bin/sh:/home/cpansand/bin:/usr/games:/home/cpansand/devel:/home/eserte/src/srezic-misc/scripts
    PERL5LIB = /home/cpansand/.cpan/build/2020110519/Pod-Simple-Wiki-0.20-5/blib/arch:/home/cpansand/.cpan/build/2020110519/Pod-Simple-Wiki-0.20-5/blib/lib
    PERL5OPT = 
    PERL5_CPANPLUS_IS_RUNNING = 26461
    PERL5_CPAN_IS_RUNNING = 26461
    PERL5_CPAN_IS_RUNNING_IN_RECURSION = 25079,26461
    PERLDOC = -MPod::Perldoc::ToTextOverstrike
    PERL_BATCH = yes
    PERL_CANARY_STABILITY_NOPROMPT = 1
    PERL_CPAN_REPORTER_CONFIG = /var/tmp/cpansmoker-1023/2020110519/cpanreporter_000_config.ini
    PERL_EXTUTILS_AUTOINSTALL = --defaultdeps
    PERL_USE_UNSAFE_INC = 1
    SHELL = /usr/bin/zsh
    TERM = screen
    TMPDIR = /var/tmp/cpansmoker-1023/2020110519

Perl special variables (and OS-specific diagnostics, for MSWin32):

    $^X = /opt/perl-5.28.1/bin/perl
    $UID/$EUID = 1023 / 1023
    $GID = 1023 1023
    $EGID = 1023 1023

Perl module toolchain versions installed:

    Module              Have    
    ------------------- --------
    CPAN                2.20    
    CPAN::Meta          2.150010
    Cwd                 3.75    
    ExtUtils::CBuilder  0.280231
    ExtUtils::Command   7.52    
    ExtUtils::Install   2.14    
    ExtUtils::MakeMaker 7.52    
    ExtUtils::Manifest  1.70    
    ExtUtils::ParseXS   3.39    
    File::Spec          3.75    
    JSON                4.02    
    JSON::PP            2.97001 
    Module::Build       0.4229  
    Module::Signature   0.83    
    Parse::CPAN::Meta   2.150010
    Test::Harness       3.42    
    Test::More          1.302181
    YAML                1.30    
    YAML::Syck          1.31    
    version             0.9927  


--

Summary of my perl5 (revision 5 version 28 subversion 1) configuration:
   
  Platform:
    osname=linux
    osvers=3.10.0-957.10.1.el7.x86_64
    archname=x86_64-linux
    uname='linux centos-4gb-hel1-1 3.10.0-957.10.1.el7.x86_64 #1 smp mon mar 18 15:06:45 utc 2019 x86_64 x86_64 x86_64 gnulinux '
    config_args='-ds -e -Dprefix=/opt/perl-5.28.1 -Dcf_email=srezic@cpan.org'
    hint=recommended
    useposix=true
    d_sigaction=define
    useithreads=undef
    usemultiplicity=undef
    use64bitint=define
    use64bitall=define
    uselongdouble=undef
    usemymalloc=n
    default_inc_excludes_dot=define
    bincompat5005=undef
  Compiler:
    cc='cc'
    ccflags ='-fwrapv -fno-strict-aliasing -pipe -fstack-protector-strong -I/usr/local/include -D_LARGEFILE_SOURCE -D_FILE_OFFSET_BITS=64 -D_FORTIFY_SOURCE=2'
    optimize='-O2'
    cppflags='-fwrapv -fno-strict-aliasing -pipe -fstack-protector-strong -I/usr/local/include'
    ccversion=''
    gccversion='4.8.5 20150623 (Red Hat 4.8.5-36)'
    gccosandvers=''
    intsize=4
    longsize=8
    ptrsize=8
    doublesize=8
    byteorder=12345678
    doublekind=3
    d_longlong=define
    longlongsize=8
    d_longdbl=define
    longdblsize=16
    longdblkind=3
    ivtype='long'
    ivsize=8
    nvtype='double'
    nvsize=8
    Off_t='off_t'
    lseeksize=8
    alignbytes=8
    prototype=define
  Linker and Libraries:
    ld='cc'
    ldflags =' -fstack-protector-strong -L/usr/local/lib'
    libpth=/usr/local/lib /usr/lib /lib/../lib64 /usr/lib/../lib64 /lib /lib64 /usr/lib64 /usr/local/lib64
    libs=-lpthread -lnsl -lgdbm -ldb -ldl -lm -lcrypt -lutil -lc -lgdbm_compat
    perllibs=-lpthread -lnsl -ldl -lm -lcrypt -lutil -lc
    libc=libc-2.17.so
    so=so
    useshrplib=false
    libperl=libperl.a
    gnulibc_version='2.17'
  Dynamic Linking:
    dlsrc=dl_dlopen.xs
    dlext=so
    d_dlsymun=undef
    ccdlflags='-Wl,-E'
    cccdlflags='-fPIC'
    lddlflags='-shared -O2 -L/usr/local/lib -fstack-protector-strong'


Characteristics of this binary (from libperl): 
  Compile-time options:
    HAS_TIMES
    PERLIO_LAYERS
    PERL_COPY_ON_WRITE
    PERL_DONT_CREATE_GVSV
    PERL_MALLOC_WRAP
    PERL_OP_PARENT
    PERL_PRESERVE_IVUV
    USE_64_BIT_ALL
    USE_64_BIT_INT
    USE_LARGE_FILES
    USE_LOCALE
    USE_LOCALE_COLLATE
    USE_LOCALE_CTYPE
    USE_LOCALE_NUMERIC
    USE_LOCALE_TIME
    USE_PERLIO
    USE_PERL_ATOF
  Built under linux
  Compiled at Apr 10 2019 22:28:37
  %ENV:
    PERL5LIB="/home/cpansand/.cpan/build/2020110519/Pod-Simple-Wiki-0.20-5/blib/arch:/home/cpansand/.cpan/build/2020110519/Pod-Simple-Wiki-0.20-5/blib/lib"
    PERL5OPT=""
    PERL5_CPANPLUS_IS_RUNNING="26461"
    PERL5_CPAN_IS_RUNNING="26461"
    PERL5_CPAN_IS_RUNNING_IN_RECURSION="25079,26461"
    PERLDOC="-MPod::Perldoc::ToTextOverstrike"
    PERL_BATCH="yes"
    PERL_CANARY_STABILITY_NOPROMPT="1"
    PERL_CPAN_REPORTER_CONFIG="/var/tmp/cpansmoker-1023/2020110519/cpanreporter_000_config.ini"
    PERL_EXTUTILS_AUTOINSTALL="--defaultdeps"
    PERL_USE_UNSAFE_INC="1"
  @INC:
    /home/cpansand/.cpan/build/2020110519/Pod-Simple-Wiki-0.20-5/blib/arch
    /home/cpansand/.cpan/build/2020110519/Pod-Simple-Wiki-0.20-5/blib/lib
    /opt/perl-5.28.1/lib/site_perl/5.28.1/x86_64-linux
    /opt/perl-5.28.1/lib/site_perl/5.28.1
    /opt/perl-5.28.1/lib/5.28.1/x86_64-linux
    /opt/perl-5.28.1/lib/5.28.1
    .