Dist-Zilla-Plugin-CopyFilesFromBuild v0.170880 Perl 5 v5.20.3 x86_64-linux-ld
- Status
- Pass
- From
- Andreas J. König (ANDK)
- Dist
-
Dist-Zilla-Plugin-CopyFilesFromBuild v0.170880
- Platform
- Perl 5 v5.20.3 x86_64-linux-ld
- Date
- 2019-07-18 16:35:54
- ID
- 1c7f9af6-a97a-11e9-99f3-f8b2f531b39b
This distribution has been tested as part of the CPAN Testers
project, supporting the Perl programming language. See
http://wiki.cpantesters.org/ for more information or email
questions to cpan-testers-discuss@perl.org
--
Dear Ryan C. Thompson,
This is a computer-generated report for Dist-Zilla-Plugin-CopyFilesFromBuild-0.170880
on perl 5.20.3, created by CPAN-Reporter-1.2018.
Thank you for uploading your work to CPAN. Congratulations!
All tests were successful.
Sections of this report:
* Tester comments
* Program output
* Prerequisites
* Environment and other context
------------------------------
TESTER COMMENTS
------------------------------
Additional comments from tester:
this report is from an automated smoke testing program
and was not reviewed by a human for accuracy
------------------------------
PROGRAM OUTPUT
------------------------------
Output from '/usr/bin/make test':
PERL_DL_NONLAZY=1 "/home/sand/src/perl/repoperls/installed-perls/host/k93msid/v5.20.3/fc43/bin/perl" "-MExtUtils::Command::MM" "-MTest::Harness" "-e" "undef *Test::Harness::Switches; test_harness(0, 'blib/lib', 'blib/arch')" t/*.t
t/00-compile.t ........... ok
# Testing with Perl 5.020003, /home/sand/src/perl/repoperls/installed-perls/host/k93msid/v5.20.3/fc43/bin/perl
# Carp version is 1.50
# Dist::Zilla::Plugin::ReadmeAnyFromPod version is 0.163250
# Dist::Zilla::Role::AfterBuild version is 6.012
# ExtUtils::MakeMaker version is 7.3702
# File::Copy version is 2.30
# File::Spec version is 3.75
# IO::File version is 1.39
# IO::Handle version is 1.39
# IPC::Open3 version is 1.16
# List::Util version is 1.5
# Moose version is 2.2011
# MooseX::Has::Sugar version is 1.000006
# Path::Tiny version is 0.108
# Scalar::Util version is 1.5
# Set::Scalar version is 1.29
# Test::DZil version is 6.012
# Test::Exception version is 0.43
# Test::More version is 1.302164
# Test::Most version is 0.35
# autodie version is 2.29
# blib version is 1.06
# strict version is 1.08
# utf8 version is 1.13_01
# warnings version is 1.23
t/000-report-versions.t .. ok
t/author-critic.t ........ skipped: these tests are for testing by the author
t/author-pod-coverage.t .. skipped: these tests are for testing by the author
t/author-pod-syntax.t .... skipped: these tests are for testing by the author
t/basic.t ................ ok
t/release-has-version.t .. skipped: these tests are for release candidate testing
t/release-kwalitee.t ..... skipped: these tests are for release candidate testing
t/release-portability.t .. skipped: these tests are for release candidate testing
t/release-unused-vars.t .. skipped: these tests are for release candidate testing
All tests successful.
Files=10, Tests=34, 4 wallclock secs ( 0.03 usr 0.06 sys + 1.51 cusr 0.31 csys = 1.91 CPU)
Result: PASS
------------------------------
PREREQUISITES
------------------------------
Prerequisite modules loaded:
requires:
Module Need Have
------------------------------------- ----- --------
Dist::Zilla::Role::AfterBuild 0 6.012
File::Copy 0 2.30
IO::File 0 1.39
List::Util 1.33 1.50
Moose 0 2.2011
MooseX::Has::Sugar 0 1.000006
Path::Tiny 0 0.108
perl 5.008 5.020003
Set::Scalar 0 1.29
strict 0 1.08
utf8 0 1.13_01
warnings 0 1.23
build_requires:
Module Need Have
------------------------------------- ----- --------
autodie 0 2.29
blib 1.01 1.06
Carp 0 1.50
Dist::Zilla::Plugin::ReadmeAnyFromPod 0 0.163250
ExtUtils::MakeMaker 0 7.37_02
File::Spec 0 3.75
IO::Handle 0 1.39
IPC::Open3 0 1.16
Scalar::Util 0 1.50
Test::DZil 0 6.012
Test::Exception 0 0.43
Test::More 0.94 1.302164
Test::Most 0 0.35
configure_requires:
Module Need Have
------------------------------------- ----- --------
ExtUtils::MakeMaker 0 7.37_02
perl 5.008 5.020003
------------------------------
ENVIRONMENT AND OTHER CONTEXT
------------------------------
Environment variables:
AUTOMATED_TESTING = 1
LANG = en_US.UTF-8
PATH = /home/sand/bin:/usr/local/bin:/usr/bin:/bin:/usr/games:/usr/local/perl/bin:/usr/X11/bin:/sbin:/usr/sbin
PERL5LIB =
PERL5OPT =
PERL5_CPANPLUS_IS_RUNNING = 22553
PERL5_CPAN_IS_RUNNING = 22553
PERL_CANARY_STABILITY_NOPROMPT = 1
PERL_MM_USE_DEFAULT = 1
PERL_USE_UNSAFE_INC = 1
SHELL = /usr/bin/zsh
TERM = screen
Perl special variables (and OS-specific diagnostics, for MSWin32):
$^X = /home/sand/src/perl/repoperls/installed-perls/host/k93msid/v5.20.3/fc43/bin/perl
$UID/$EUID = 1005 / 1005
$GID = 1005 1005
$EGID = 1005 1005
Perl module toolchain versions installed:
Module Have
------------------- --------
CPAN 2.27
CPAN::Meta 2.150010
Cwd 3.75
ExtUtils::CBuilder 0.280231
ExtUtils::Command 7.37_02
ExtUtils::Install 2.06
ExtUtils::MakeMaker 7.37_02
ExtUtils::Manifest 1.72
ExtUtils::ParseXS 3.35
File::Spec 3.75
JSON 4.02
JSON::PP 2.97001
Module::Build 0.4224
Module::Signature 0.83
Parse::CPAN::Meta 2.150010
Test::Harness 3.42
Test::More 1.302164
YAML 1.26
YAML::Syck 1.31
version 0.9924
--
Summary of my perl5 (revision 5 version 20 subversion 3) configuration:
Derived from: b67331aafd6eff33e3fd904c45e811f69cbfb0b2
Platform:
osname=linux, osvers=4.18.0-2-amd64, archname=x86_64-linux-ld
uname='linux k93msid 4.18.0-2-amd64 #1 smp debian 4.18.10-2 (2018-10-07) x86_64 gnulinux '
config_args='-Dprefix=/home/sand/src/perl/repoperls/installed-perls/host/k93msid/v5.20.3/fc43 -Dmyhostname=k93msid -Dinstallusrbinperl=n -Uversiononly -Dusedevel -des -Ui_db -Dlibswanted=cl pthread socket inet nsl gdbm dbm malloc dl ld sun m crypt sec util c cposix posix ucb BSD gdbm_compat -Uuseithreads -Duselongdouble -DEBUGGING=both'
hint=recommended, useposix=true, d_sigaction=define
useithreads=undef, usemultiplicity=undef
use64bitint=define, use64bitall=define, uselongdouble=define
usemymalloc=n, bincompat5005=undef
Compiler:
cc='cc', ccflags ='-fwrapv -DDEBUGGING -fno-strict-aliasing -pipe -fstack-protector -I/usr/local/include -D_LARGEFILE_SOURCE -D_FILE_OFFSET_BITS=64',
optimize='-O2 -g',
cppflags='-fwrapv -DDEBUGGING -fno-strict-aliasing -pipe -fstack-protector -I/usr/local/include'
ccversion='', gccversion='8.2.0', gccosandvers=''
intsize=4, longsize=8, ptrsize=8, doublesize=8, byteorder=12345678
d_longlong=define, longlongsize=8, d_longdbl=define, longdblsize=16
ivtype='long', ivsize=8, nvtype='long double', nvsize=16, Off_t='off_t', lseeksize=8
alignbytes=16, prototype=define
Linker and Libraries:
ld='cc', ldflags =' -fstack-protector -L/usr/local/lib'
libpth=/usr/local/lib /usr/lib/gcc/x86_64-linux-gnu/8/include-fixed /usr/include/x86_64-linux-gnu /usr/lib /lib/x86_64-linux-gnu /lib/../lib /usr/lib/x86_64-linux-gnu /usr/lib/../lib /lib
libs=-lpthread -lnsl -ldl -lm -lcrypt -lutil -lc
perllibs=-lpthread -lnsl -ldl -lm -lcrypt -lutil -lc
libc=libc-2.27.so, so=so, useshrplib=false, libperl=libperl.a
gnulibc_version='2.27'
Dynamic Linking:
dlsrc=dl_dlopen.xs, dlext=so, d_dlsymun=undef, ccdlflags='-Wl,-E'
cccdlflags='-fPIC', lddlflags='-shared -O2 -g -L/usr/local/lib -fstack-protector'
Characteristics of this binary (from libperl):
Compile-time options: DEBUGGING HAS_TIMES PERLIO_LAYERS
PERL_DONT_CREATE_GVSV
PERL_HASH_FUNC_ONE_AT_A_TIME_HARD PERL_MALLOC_WRAP
PERL_NEW_COPY_ON_WRITE PERL_PRESERVE_IVUV
PERL_USE_DEVEL USE_64_BIT_ALL USE_64_BIT_INT
USE_LARGE_FILES USE_LOCALE USE_LOCALE_COLLATE
USE_LOCALE_CTYPE USE_LOCALE_NUMERIC USE_LONG_DOUBLE
USE_PERLIO USE_PERL_ATOF
Locally applied patches:
uncommitted-changes
Built under linux
Compiled at Oct 28 2018 22:29:50
%ENV:
PERL5LIB=""
PERL5OPT=""
PERL5_CPANPLUS_IS_RUNNING="22553"
PERL5_CPAN_IS_RUNNING="22553"
PERL_CANARY_STABILITY_NOPROMPT="1"
PERL_MM_USE_DEFAULT="1"
PERL_USE_UNSAFE_INC="1"
@INC:
/home/sand/src/perl/repoperls/installed-perls/host/k93msid/v5.20.3/fc43/lib/site_perl/5.20.3/x86_64-linux-ld
/home/sand/src/perl/repoperls/installed-perls/host/k93msid/v5.20.3/fc43/lib/site_perl/5.20.3
/home/sand/src/perl/repoperls/installed-perls/host/k93msid/v5.20.3/fc43/lib/5.20.3/x86_64-linux-ld
/home/sand/src/perl/repoperls/installed-perls/host/k93msid/v5.20.3/fc43/lib/5.20.3
.