Report for Module-Setup-0.09

Back
From: metabase:user:3198cbe2-2aae-11df-837a-5e0a49663a4f
Subject: PASS Module-Setup-0.09 v5.16.2 GNU/Linux
Date: 2014-01-03T11:49:32Z

This distribution has been tested as part of the CPAN Testers
project, supporting the Perl programming language.  See
http://wiki.cpantesters.org/ for more information or email
questions to cpan-testers-discuss@perl.org


--
Dear Kazuhiro Osawa,

This is a computer-generated report for Module-Setup-0.09
on perl 5.16.2, created by CPAN-Reporter-1.2010.

Thank you for uploading your work to CPAN.  Congratulations!
All tests were successful.

Sections of this report:

    * Tester comments
    * Program output
    * Prerequisites
    * Environment and other context

------------------------------
TESTER COMMENTS
------------------------------

Additional comments from tester:

this report is from an automated smoke testing program
and was not reviewed by a human for accuracy

------------------------------
PROGRAM OUTPUT
------------------------------

Output from '/usr/bin/make test':

PERL_DL_NONLAZY=1 /home/graham/perls/perl5.16.2/bin/perl "-MExtUtils::Command::MM" "-MTest::Harness" "-e" "undef *Test::Harness::Switches; test_harness(0, 'inc', 'blib/lib', 'blib/arch')" t/*.t t/*/*.t
t/00_compile.t .................................... ok
t/010_core/detect-flavor-tests-error.t ............ ok
t/010_core/detect_module_and_flavor_name_error.t .. ok
t/010_core/dialog.t ............................... ok
t/010_core/distribute.t ........................... ok
t/010_core/flavor.t ............................... ok
t/010_core/load_argv.t ............................ ok
t/010_core/path.t ................................. ok
t/010_core/select-flavor.t ........................ ok
t/010_core/setup_base_dir.t ....................... ok
t/010_core/setup_options.t ........................ ok
t/010_core/setup_options_code.t ................... ok
t/010_core/stdout-log.t ........................... ok
t/010_core/system.t ............................... ok
t/010_core/test_util.t ............................ ok
t/020_run/additional.t ............................ ok
t/020_run/binary.t ................................ ok
t/020_run/direct.t ................................ ok
t/020_run/dupe-flavor.t ........................... ok
t/020_run/dupe.t .................................. ok
t/020_run/empty_dir.t ............................. ok
t/020_run/fail_flavor.t ........................... ok
t/020_run/hasnt-flavorclass.t ..................... ok
t/020_run/init.t .................................. ok
t/020_run/nullflavors.t ........................... ok
t/020_run/pack-additional.t ....................... ok
t/020_run/pack.t .................................. ok
t/020_run/simple.t ................................ ok
t/030_plugin/append_template_file.t ............... ok
t/030_plugin/append_template_file2.t .............. ok
t/030_plugin/illegalplugin.t ...................... ok
t/030_plugin/illegalpluginconfig.t ................ ok
t/030_plugin/localplugin.t ........................ ok
t/030_plugin/plain.t .............................. ok
Can't exec "git": No such file or directory at t/030_plugin/site_github.t line 4.
t/030_plugin/site_github.t ........................ skipped: git is not installed.
t/030_plugin/template.t ........................... ok
t/030_plugin/test_makefile.t ...................... ok
Can't exec "git": No such file or directory at t/030_plugin/vc_git.t line 4.
t/030_plugin/vc_git.t ............................. skipped: git is not installed.
Name "Module::Setup::Flavor::Default::setup_config" used only once: possible typo at t/030_plugin/vc_svk.t line 17.
t/030_plugin/vc_svk.t ............................. ok
t/030_plugin/vc_svn.t ............................. ok
t/040_flavor/coderepos.t .......................... ok
t/040_flavor/default-setup_config.t ............... ok
t/040_flavor/default.t ............................ ok
Can't exec "git": No such file or directory at /home/graham/perls/caches/perl-5.16.2/build/Module-Setup-0.09-LRhojK/blib/lib/Module/Setup.pm line 564, <DATA> line 1.
Use of uninitialized value $user in scalar chomp at /home/graham/perls/caches/perl-5.16.2/build/Module-Setup-0.09-LRhojK/blib/lib/Module/Setup/Plugin/Site/GitHub.pm line 40, <DATA> line 1.
Can't exec "git": No such file or directory at /home/graham/perls/caches/perl-5.16.2/build/Module-Setup-0.09-LRhojK/blib/lib/Module/Setup.pm line 564, <DATA> line 1.
Use of uninitialized value $token in scalar chomp at /home/graham/perls/caches/perl-5.16.2/build/Module-Setup-0.09-LRhojK/blib/lib/Module/Setup/Plugin/Site/GitHub.pm line 42, <DATA> line 1.
t/040_flavor/github.t ............................. ok
t/050_helper/basic-callback.t ..................... ok
t/050_helper/basic-foo.t .......................... ok
t/050_helper/basic.t .............................. ok
All tests successful.
Files=47, Tests=430, 17 wallclock secs ( 0.29 usr  0.08 sys + 14.69 cusr  1.44 csys = 16.50 CPU)
Result: PASS

------------------------------
PREREQUISITES
------------------------------

Prerequisite modules loaded:

requires:

    Module                       Need Have    
    ---------------------------- ---- --------
    Class::Trigger               0    0.14    
    Cwd                          0    3.40    
    ExtUtils::MakeMaker          0    6.85_07 
    File::Basename               0    2.84    
    File::Find::Rule             0    0.33    
    File::HomeDir                0    1.00    
    File::Path                   0    2.09    
    File::Temp                   0.2  0.2304  
    Filter::Util::Call           0    1.49    
    Getopt::Long                 0    2.42    
    IO::Scalar                   0    2.110   
    LWP::UserAgent               0    6.05    
    Module::Collect              0.06 0.06    
  ! Module::Install::AuthorTests 0    n/a     
  ! Module::Install::Repository  0    broken  
    Path::Class                  0    0.33    
    Pod::Usage                   0    1.63    
    Scalar::Util                 0    1.35    
    Storable                     0    2.45    
    Template                     2.2  2.25    
    Test::More                   0    1.001002
    Test::Requires               0    0.07    
    Text::Patch                  0    1.8     
    YAML                         0    0.88    

build_requires:

    Module                       Need Have    
    ---------------------------- ---- --------
    ExtUtils::MakeMaker          0    6.85_07 

configure_requires:

    Module                       Need Have    
    ---------------------------- ---- --------
    ExtUtils::MakeMaker          6.42 6.85_07 


------------------------------
ENVIRONMENT AND OTHER CONTEXT
------------------------------

Environment variables:

    AUTOMATED_TESTING = 1
    LANG = en_GB.UTF-8
    LC_ADDRESS = en_GB.UTF-8
    LC_COLLATE = en_GB.UTF-8
    LC_CTYPE = en_GB.UTF-8
    LC_IDENTIFICATION = en_GB.UTF-8
    LC_MEASUREMENT = en_GB.UTF-8
    LC_MESSAGES = en_GB.UTF-8
    LC_MONETARY = en_GB.UTF-8
    LC_NAME = en_GB.UTF-8
    LC_NUMERIC = en_GB.UTF-8
    LC_PAPER = en_GB.UTF-8
    LC_TELEPHONE = en_GB.UTF-8
    LC_TIME = en_GB.UTF-8
    PATH = /home/graham/perls/perl5.16.2/bin:/usr/local/sbin:/usr/local/bin:/usr/bin:/usr/bin/core_perl
    PERL5LIB = 
    PERL5OPT = 
    PERL5_CPANPLUS_IS_RUNNING = 11409
    PERL5_CPAN_IS_RUNNING = 11409
    PERL5_CPAN_IS_RUNNING_IN_RECURSION = 497,11409
    PERL_CR_SMOKER_CURRENT = Pickles-Dispatcher-Auto-0.03
    PERL_EXTUTILS_AUTOINSTALL = --defaultdeps
    PERL_MM_USE_DEFAULT = 1
    SHELL = /bin/bash
    TERM = xterm

Perl special variables (and OS-specific diagnostics, for MSWin32):

    $^X = /home/graham/perls/perl5.16.2/bin/perl
    $UID/$EUID = 1000 / 1000
    $GID = 100 10 100
    $EGID = 100 10 100

Perl module toolchain versions installed:

    Module              Have    
    ------------------- --------
    CPAN                2.00    
    CPAN::Meta          2.133380
    Cwd                 3.40    
    ExtUtils::CBuilder  0.280212
    ExtUtils::Command   1.18    
    ExtUtils::Install   1.58    
    ExtUtils::MakeMaker 6.85_07 
    ExtUtils::Manifest  1.63    
    ExtUtils::ParseXS   3.22    
    File::Spec          3.40    
    JSON                2.90    
    JSON::PP            2.27203 
    Module::Build       0.39_01 
    Module::Signature   n/a     
    Parse::CPAN::Meta   1.4409  
    Test::Harness       3.30    
    Test::More          1.001002
    YAML                0.88    
    YAML::Syck          1.27    
    version             0.9904  


--

Summary of my perl5 (revision 5 version 16 subversion 2) configuration:
   
  Platform:
    osname=linux, osvers=3.11.6-1-arch, archname=x86_64-linux
    uname='linux arch003 3.11.6-1-arch #1 smp preempt fri oct 18 23:22:36 cest 2013 x86_64 gnulinux '
    config_args=''
    hint=recommended, useposix=true, d_sigaction=define
    useithreads=undef, usemultiplicity=undef
    useperlio=define, d_sfio=undef, uselargefiles=define, usesocks=undef
    use64bitint=define, use64bitall=define, uselongdouble=undef
    usemymalloc=n, bincompat5005=undef
  Compiler:
    cc='cc', ccflags ='-fno-strict-aliasing -pipe -fstack-protector -I/usr/local/include -D_LARGEFILE_SOURCE -D_FILE_OFFSET_BITS=64',
    optimize='-O2',
    cppflags='-fno-strict-aliasing -pipe -fstack-protector -I/usr/local/include'
    ccversion='', gccversion='4.8.2', gccosandvers=''
    intsize=4, longsize=8, ptrsize=8, doublesize=8, byteorder=12345678
    d_longlong=define, longlongsize=8, d_longdbl=define, longdblsize=16
    ivtype='long', ivsize=8, nvtype='double', nvsize=8, Off_t='off_t', lseeksize=8
    alignbytes=8, prototype=define
  Linker and Libraries:
    ld='cc', ldflags =' -fstack-protector -L/usr/local/lib'
    libpth=/usr/local/lib /lib/../lib /usr/lib/../lib /lib /usr/lib /lib64 /usr/lib64
    libs=-lnsl -lgdbm -ldb -ldl -lm -lcrypt -lutil -lc -lgdbm_compat
    perllibs=-lnsl -ldl -lm -lcrypt -lutil -lc
    libc=/lib/libc-2.18.so, so=so, useshrplib=false, libperl=libperl.a
    gnulibc_version='2.18'
  Dynamic Linking:
    dlsrc=dl_dlopen.xs, dlext=so, d_dlsymun=undef, ccdlflags='-Wl,-E'
    cccdlflags='-fPIC', lddlflags='-shared -O2 -L/usr/local/lib -fstack-protector'


Characteristics of this binary (from libperl): 
  Compile-time options: HAS_TIMES PERLIO_LAYERS PERL_DONT_CREATE_GVSV
                        PERL_MALLOC_WRAP PERL_PRESERVE_IVUV USE_64_BIT_ALL
                        USE_64_BIT_INT USE_LARGE_FILES USE_LOCALE
                        USE_LOCALE_COLLATE USE_LOCALE_CTYPE
                        USE_LOCALE_NUMERIC USE_PERLIO USE_PERL_ATOF
  Built under linux
  Compiled at Dec  9 2013 10:49:46
  %ENV:
    PERL5LIB=""
    PERL5OPT=""
    PERL5_CPANPLUS_IS_RUNNING="11409"
    PERL5_CPAN_IS_RUNNING="11409"
    PERL5_CPAN_IS_RUNNING_IN_RECURSION="497,11409"
    PERL_CR_SMOKER_CURRENT="Pickles-Dispatcher-Auto-0.03"
    PERL_EXTUTILS_AUTOINSTALL="--defaultdeps"
    PERL_MM_USE_DEFAULT="1"
  @INC:
    /home/graham/perls/perl5.16.2/lib/site_perl/5.16.2/x86_64-linux
    /home/graham/perls/perl5.16.2/lib/site_perl/5.16.2
    /home/graham/perls/perl5.16.2/lib/5.16.2/x86_64-linux
    /home/graham/perls/perl5.16.2/lib/5.16.2
    .