PerlIO-utf8_strict v0.007 Perl 5 v5.26.3 i686-linux-multi
- Status
- Pass
- From
- Nigel Horne
- Dist
-
PerlIO-utf8_strict v0.007
- Platform
- Perl 5 v5.26.3 i686-linux-multi
- Date
- 2018-12-27 14:24:25
- ID
- 1c6d1a3e-09e3-11e9-afbf-aec3b07506ca
This distribution has been tested as part of the CPAN Testers
project, supporting the Perl programming language. See
http://wiki.cpantesters.org/ for more information or email
questions to cpan-testers-discuss@perl.org
--
Dear Leon Timmermans,
This is a computer-generated report for PerlIO-utf8_strict-0.007
on perl 5.26.3, created by CPAN-Reporter-1.2018.
Thank you for uploading your work to CPAN. Congratulations!
All tests were successful.
Sections of this report:
* Tester comments
* Program output
* Prerequisites
* Environment and other context
------------------------------
TESTER COMMENTS
------------------------------
Additional comments from tester:
this report is from an automated smoke testing program
and was not reviewed by a human for accuracy
------------------------------
PROGRAM OUTPUT
------------------------------
Output from '/usr/bin/make test':
"/home/njh/perl5/perlbrew/perls/perl-5.26.3-multi/bin/perl5.26.3" -MExtUtils::Command::MM -e 'cp_nonempty' -- utf8_strict.bs blib/arch/auto/PerlIO/utf8_strict/utf8_strict.bs 644
PERL_DL_NONLAZY=1 "/home/njh/perl5/perlbrew/perls/perl-5.26.3-multi/bin/perl5.26.3" "-MExtUtils::Command::MM" "-MTest::Harness" "-e" "undef *Test::Harness::Switches; test_harness(0, 'blib/lib', 'blib/arch')" t/*.t
t/basics.t ............. ok
t/bug.t ................ ok
t/non-shortest-form.t .. ok
t/incomplete.t ......... ok
t/noncharacters.t ...... ok
t/super.t .............. ok
t/unicode.t ............ ok
t/surrogates.t ......... ok
All tests successful.
Files=8, Tests=5816, 1 wallclock secs ( 0.62 usr 0.04 sys + 1.58 cusr 0.40 csys = 2.64 CPU)
Result: PASS
------------------------------
PREREQUISITES
------------------------------
Prerequisite modules loaded:
requires:
Module Need Have
--------------------- ----- --------
perl 5.008 5.026003
strict 0 1.11
warnings 0 1.37
XSLoader 0 0.27
build_requires:
Module Need Have
--------------------- ----- --------
Carp 0 1.42
Exporter 0 5.72
ExtUtils::MakeMaker 0 7.34
File::Spec::Functions 0 3.75
IO::File 0 1.16
IO::Handle 0 1.36
lib 0 0.64
Test::Exception 0 0.43
Test::More 0.88 1.302073
utf8 0 1.19
configure_requires:
Module Need Have
--------------------- ----- --------
ExtUtils::MakeMaker 0 7.34
perl 5.006 5.026003
------------------------------
ENVIRONMENT AND OTHER CONTEXT
------------------------------
Environment variables:
AUTOMATED_TESTING = 1
HARNESS_OPTIONS = j2
LANG = en_US.UTF-8
PATH = /home/njh/perl5/perlbrew/bin:/home/njh/perl5/perlbrew/perls/perl-5.26.3-multi/bin:/home/njh/src/njh/smoker/bin:/usr/bin:/bin
PERL5LIB = /home/njh/.cpan/build/Test-Exception-0.43-34/blib/arch:/home/njh/.cpan/build/Test-Exception-0.43-34/blib/lib:/home/njh/.cpan/build/Sub-Uplevel-0.2800-34/blib/arch:/home/njh/.cpan/build/Sub-Uplevel-0.2800-34/blib/lib:/home/njh/.cpan/build/Pod-Coverage-0.23-31/blib/arch:/home/njh/.cpan/build/Pod-Coverage-0.23-31/blib/lib:/home/njh/.cpan/build/Devel-Symdump-2.18-31/blib/arch:/home/njh/.cpan/build/Devel-Symdump-2.18-31/blib/lib:/home/njh/.cpan/build/HTML-Table-2.08a-25/blib/arch:/home/njh/.cpan/build/HTML-Table-2.08a-25/blib/lib:/home/njh/.cpan/build/Data-Tabulate-0.07-25/blib/arch:/home/njh/.cpan/build/Data-Tabulate-0.07-25/blib/lib:/home/njh/.cpan/build/Test-CheckManifest-1.38-25/blib/arch:/home/njh/.cpan/build/Test-CheckManifest-1.38-25/blib/lib:/home/njh/.cpan/build/PathTools-3.75-14/blib/arch:/home/njh/.cpan/build/PathTools-3.75-14/blib/lib
PERL5OPT =
PERL5_CPANPLUS_IS_RUNNING = 23481
PERL5_CPAN_IS_RUNNING = 23481
PERLBREW_HOME = /home/njh/.perlbrew
PERLBREW_MANPATH = /home/njh/perl5/perlbrew/perls/perl-5.26.3-multi/man
PERLBREW_PATH = /home/njh/perl5/perlbrew/bin:/home/njh/perl5/perlbrew/perls/perl-5.26.3-multi/bin
PERLBREW_PERL = perl-5.26.3-multi
PERLBREW_ROOT = /home/njh/perl5/perlbrew
PERLBREW_SHELLRC_VERSION = 0.84
PERLBREW_VERSION = 0.84
PERL_USE_UNSAFE_INC = 1
SHELL = /bin/sh
TEMP = /tmp/user/1000
TMPDIR = /tmp/user/1000/testwrapper.23467
Perl special variables (and OS-specific diagnostics, for MSWin32):
$^X = /home/njh/perl5/perlbrew/perls/perl-5.26.3-multi/bin/perl5.26.3
$UID/$EUID = 1000 / 1000
$GID = 1000 4 24 25 29 30 44 46 108 1000
$EGID = 1000 4 24 25 29 30 44 46 108 1000
Perl module toolchain versions installed:
Module Have
------------------- ----------
CPAN 2.18
CPAN::Meta 2.150010
Cwd 3.75
ExtUtils::CBuilder 0.280225
ExtUtils::Command 7.34
ExtUtils::Install 2.06
ExtUtils::MakeMaker 7.34
ExtUtils::Manifest 1.70
ExtUtils::ParseXS 3.34
File::Spec 3.75
JSON n/a
JSON::PP 2.27400_02
Module::Build n/a
Module::Signature n/a
Parse::CPAN::Meta 2.150010
Test::Harness 3.38
Test::More 1.302073
YAML n/a
YAML::Syck n/a
version 0.9917
--
Summary of my perl5 (revision 5 version 26 subversion 3) configuration:
Platform:
osname=linux
osvers=4.3.0-1-686-pae
archname=i686-linux-multi
uname='linux zack 4.3.0-1-686-pae #1 smp debian 4.3.5-1 (2016-02-06) i686 gnulinux '
config_args='-de -Dprefix=/home/njh/perl5/perlbrew/perls/perl-5.26.3-multi -Dusedevel -Dusemultiplicity -Accflags= -Aeval:scriptdir=/home/njh/perl5/perlbrew/perls/perl-5.26.3-multi/bin'
hint=recommended
useposix=true
d_sigaction=define
useithreads=undef
usemultiplicity=define
use64bitint=undef
use64bitall=undef
uselongdouble=undef
usemymalloc=n
default_inc_excludes_dot=define
bincompat5005=undef
Compiler:
cc='cc'
ccflags ='-fwrapv -fno-strict-aliasing -pipe -fstack-protector-strong -I/usr/local/include -D_LARGEFILE_SOURCE -D_FILE_OFFSET_BITS=64'
optimize='-O2'
cppflags='-fwrapv -fno-strict-aliasing -pipe -fstack-protector-strong -I/usr/local/include'
ccversion=''
gccversion='8.2.0'
gccosandvers=''
intsize=4
longsize=4
ptrsize=4
doublesize=8
byteorder=1234
doublekind=3
d_longlong=define
longlongsize=8
d_longdbl=define
longdblsize=12
longdblkind=3
ivtype='long'
ivsize=4
nvtype='double'
nvsize=8
Off_t='off_t'
lseeksize=8
alignbytes=4
prototype=define
Linker and Libraries:
ld='cc'
ldflags =' -fstack-protector-strong -L/usr/local/lib'
libpth=/usr/local/lib /usr/lib/gcc/i686-linux-gnu/8/include-fixed /usr/include/i386-linux-gnu /usr/lib /lib/i386-linux-gnu /lib/../lib /usr/lib/i386-linux-gnu /usr/lib/../lib /lib /lib64 /usr/lib64
libs=-lpthread -lnsl -lgdbm -ldb -ldl -lm -lcrypt -lutil -lc
perllibs=-lpthread -lnsl -ldl -lm -lcrypt -lutil -lc
libc=libc-2.28.so
so=so
useshrplib=false
libperl=libperl.a
gnulibc_version='2.28'
Dynamic Linking:
dlsrc=dl_dlopen.xs
dlext=so
d_dlsymun=undef
ccdlflags='-Wl,-E'
cccdlflags='-fPIC'
lddlflags='-shared -O2 -L/usr/local/lib -fstack-protector-strong'
Characteristics of this binary (from libperl):
Compile-time options:
HAS_TIMES
MULTIPLICITY
PERLIO_LAYERS
PERL_COPY_ON_WRITE
PERL_DONT_CREATE_GVSV
PERL_HASH_FUNC_ONE_AT_A_TIME_HARD
PERL_IMPLICIT_CONTEXT
PERL_MALLOC_WRAP
PERL_OP_PARENT
PERL_PRESERVE_IVUV
PERL_USE_DEVEL
USE_LARGE_FILES
USE_LOCALE
USE_LOCALE_COLLATE
USE_LOCALE_CTYPE
USE_LOCALE_NUMERIC
USE_LOCALE_TIME
USE_PERLIO
USE_PERL_ATOF
Locally applied patches:
Devel::PatchPerl 1.38
Built under linux
Compiled at Dec 12 2018 00:46:53
%ENV:
PERL5LIB="/home/njh/.cpan/build/Test-Exception-0.43-34/blib/arch:/home/njh/.cpan/build/Test-Exception-0.43-34/blib/lib:/home/njh/.cpan/build/Sub-Uplevel-0.2800-34/blib/arch:/home/njh/.cpan/build/Sub-Uplevel-0.2800-34/blib/lib:/home/njh/.cpan/build/Pod-Coverage-0.23-31/blib/arch:/home/njh/.cpan/build/Pod-Coverage-0.23-31/blib/lib:/home/njh/.cpan/build/Devel-Symdump-2.18-31/blib/arch:/home/njh/.cpan/build/Devel-Symdump-2.18-31/blib/lib:/home/njh/.cpan/build/HTML-Table-2.08a-25/blib/arch:/home/njh/.cpan/build/HTML-Table-2.08a-25/blib/lib:/home/njh/.cpan/build/Data-Tabulate-0.07-25/blib/arch:/home/njh/.cpan/build/Data-Tabulate-0.07-25/blib/lib:/home/njh/.cpan/build/Test-CheckManifest-1.38-25/blib/arch:/home/njh/.cpan/build/Test-CheckManifest-1.38-25/blib/lib:/home/njh/.cpan/build/PathTools-3.75-14/blib/arch:/home/njh/.cpan/build/PathTools-3.75-14/blib/lib"
PERL5OPT=""
PERL5_CPANPLUS_IS_RUNNING="23481"
PERL5_CPAN_IS_RUNNING="23481"
PERLBREW_HOME="/home/njh/.perlbrew"
PERLBREW_MANPATH="/home/njh/perl5/perlbrew/perls/perl-5.26.3-multi/man"
PERLBREW_PATH="/home/njh/perl5/perlbrew/bin:/home/njh/perl5/perlbrew/perls/perl-5.26.3-multi/bin"
PERLBREW_PERL="perl-5.26.3-multi"
PERLBREW_ROOT="/home/njh/perl5/perlbrew"
PERLBREW_SHELLRC_VERSION="0.84"
PERLBREW_VERSION="0.84"
PERL_USE_UNSAFE_INC="1"
@INC:
/home/njh/.cpan/build/Test-Exception-0.43-34/blib/arch
/home/njh/.cpan/build/Test-Exception-0.43-34/blib/lib
/home/njh/.cpan/build/Sub-Uplevel-0.2800-34/blib/arch
/home/njh/.cpan/build/Sub-Uplevel-0.2800-34/blib/lib
/home/njh/.cpan/build/Pod-Coverage-0.23-31/blib/arch
/home/njh/.cpan/build/Pod-Coverage-0.23-31/blib/lib
/home/njh/.cpan/build/Devel-Symdump-2.18-31/blib/arch
/home/njh/.cpan/build/Devel-Symdump-2.18-31/blib/lib
/home/njh/.cpan/build/HTML-Table-2.08a-25/blib/arch
/home/njh/.cpan/build/HTML-Table-2.08a-25/blib/lib
/home/njh/.cpan/build/Data-Tabulate-0.07-25/blib/arch
/home/njh/.cpan/build/Data-Tabulate-0.07-25/blib/lib
/home/njh/.cpan/build/Test-CheckManifest-1.38-25/blib/arch
/home/njh/.cpan/build/Test-CheckManifest-1.38-25/blib/lib
/home/njh/.cpan/build/PathTools-3.75-14/blib/arch
/home/njh/.cpan/build/PathTools-3.75-14/blib/lib
/home/njh/perl5/perlbrew/perls/perl-5.26.3-multi/lib/site_perl/5.26.3/i686-linux-multi
/home/njh/perl5/perlbrew/perls/perl-5.26.3-multi/lib/site_perl/5.26.3
/home/njh/perl5/perlbrew/perls/perl-5.26.3-multi/lib/5.26.3/i686-linux-multi
/home/njh/perl5/perlbrew/perls/perl-5.26.3-multi/lib/5.26.3
.