Set-Object v1.35 Perl 5 v5.18.0 x86_64-linux-thread-multi

Status
Pass
From
Nigel Horne
Dist
Set-Object v1.35
Platform
Perl 5 v5.18.0 x86_64-linux-thread-multi
Date
2017-10-23 19:55:25
ID
1c52ae24-b82c-11e7-a2a8-d0c13ad602b4
This distribution has been tested as part of the CPAN Testers
project, supporting the Perl programming language.  See
http://wiki.cpantesters.org/ for more information or email
questions to cpan-testers-discuss@perl.org


--
Dear Reini Urban,

This is a computer-generated report for Set-Object-1.35
on perl 5.18.0, created by CPAN-Reporter-1.2018.

Thank you for uploading your work to CPAN.  Congratulations!
All tests were successful.

Sections of this report:

    * Tester comments
    * Program output
    * Prerequisites
    * Environment and other context

------------------------------
TESTER COMMENTS
------------------------------

Additional comments from tester:

this report is from an automated smoke testing program
and was not reviewed by a human for accuracy

------------------------------
PROGRAM OUTPUT
------------------------------

Output from '/usr/bin/make test':

"/home/njh/perl5/perlbrew/perls/perl-5.18.0/bin/perl" -MExtUtils::Command::MM -e 'cp_nonempty' -- Object.bs blib/arch/auto/Set/Object/Object.bs 644
PERL_DL_NONLAZY=1 "/home/njh/perl5/perlbrew/perls/perl-5.18.0/bin/perl" "-MExtUtils::Command::MM" "-MTest::Harness" "-e" "undef *Test::Harness::Switches; test_harness(0, 'blib/lib', 'blib/arch')" t/ingy/arrayref.t t/misc/kwalitee.t t/misc/leaks.t t/misc/leaktrace.t t/misc/manifest.t t/misc/meta.t t/misc/more_leaks.t t/misc/perl_minimum_version.t t/misc/pod.t t/misc/pod_coverage.t t/misc/segfault.t t/misc/threads.t t/misc/undef.t t/object/abuse.t t/object/clear.t t/object/difference.t t/object/equal.t t/object/flags.t t/object/includes.t t/object/insert.t t/object/intersection.t t/object/members.t t/object/properties.t t/object/refcount.t t/object/remove.t t/object/set_subclass.t t/object/storable.t t/object/subsuper.t t/object/symmetric_difference.t t/object/union.t t/object/weakref.t t/scalar/basic.t t/scalar/basic_overload.t t/scalar/boolean.t t/scalar/clear.t t/scalar/compare.t t/scalar/custom_display.t t/scalar/difference.t t/scalar/each.t t/scalar/has.t t/scalar/intersection.t t/scalar/member.t t/scalar/misc.t t/scalar/set_set.t t/scalar/storable.t t/scalar/symmdiff.t t/scalar/union.t t/scalar/unique.t
t/ingy/arrayref.t ................ ok
t/misc/kwalitee.t ................ skipped: This test is only run for the module author
t/misc/leaktrace.t ............... skipped: require Test::LeakTrace
t/misc/leaks.t ................... ok
t/misc/manifest.t ................ skipped: Author tests not required for installation
t/misc/meta.t .................... skipped: This test is only run for the module author
t/misc/more_leaks.t .............. skipped: Test::LeakTrace missing
t/misc/perl_minimum_version.t .... skipped: Author tests not required for installation
t/misc/pod_coverage.t ............ ok
t/misc/pod.t ..................... ok
t/misc/segfault.t ................ ok
t/misc/undef.t ................... ok
Attempt to free nonexistent shared string '3', Perl interpreter: 0x16eba20 at t/misc/threads.t line 51.
Attempt to free nonexistent shared string '4', Perl interpreter: 0x16eba20 at t/misc/threads.t line 51.
Attempt to free nonexistent shared string '5', Perl interpreter: 0x16eba20 at t/misc/threads.t line 51.
Attempt to free nonexistent shared string '6', Perl interpreter: 0x16eba20 at t/misc/threads.t line 51.
Attempt to free nonexistent shared string '7', Perl interpreter: 0x16eba20 at t/misc/threads.t line 51.
Attempt to free nonexistent shared string '8', Perl interpreter: 0x16eba20 at t/misc/threads.t line 51.
Attempt to free nonexistent shared string '9', Perl interpreter: 0x16eba20 at t/misc/threads.t line 51.
Unbalanced string table refcount: (1) for "9" during global destruction.
Unbalanced string table refcount: (1) for "8" during global destruction.
Unbalanced string table refcount: (1) for "6" during global destruction.
Unbalanced string table refcount: (1) for "3" during global destruction.
Unbalanced string table refcount: (1) for "4" during global destruction.
Unbalanced string table refcount: (1) for "5" during global destruction.
Unbalanced string table refcount: (1) for "7" during global destruction.
t/misc/threads.t ................. ok
t/object/clear.t ................. ok
t/object/abuse.t ................. ok
t/object/difference.t ............ ok
t/object/equal.t ................. ok
t/object/flags.t ................. ok
t/object/includes.t .............. ok
t/object/insert.t ................ ok
t/object/intersection.t .......... ok
t/object/members.t ............... ok
t/object/refcount.t .............. ok
t/object/properties.t ............ ok
t/object/remove.t ................ ok
t/object/set_subclass.t .......... ok
t/object/subsuper.t .............. ok
t/object/symmetric_difference.t .. ok
t/object/storable.t .............. ok
t/object/union.t ................. ok
t/object/weakref.t ............... ok
t/scalar/basic.t ................. ok
t/scalar/boolean.t ............... ok
t/scalar/clear.t ................. ok
t/scalar/basic_overload.t ........ ok
t/scalar/compare.t ............... ok
t/scalar/custom_display.t ........ ok
t/scalar/difference.t ............ ok
t/scalar/has.t ................... ok
t/scalar/each.t .................. skipped: TO-DO
t/scalar/intersection.t .......... ok
t/scalar/member.t ................ ok
t/scalar/misc.t .................. ok
t/scalar/set_set.t ............... ok
t/scalar/symmdiff.t .............. ok
t/scalar/storable.t .............. ok
t/scalar/union.t ................. ok
t/scalar/unique.t ................ ok
All tests successful.
Files=48, Tests=457,  2 wallclock secs ( 0.25 usr  0.07 sys +  2.96 cusr  0.62 csys =  3.90 CPU)
Result: PASS

------------------------------
PREREQUISITES
------------------------------

Prerequisite modules loaded:

requires:

    Module              Need Have    
    ------------------- ---- --------
    Scalar::Util        0    1.41    
    Test::More          0    1.302086

build_requires:

    Module              Need Have    
    ------------------- ---- --------
    ExtUtils::MakeMaker 0    7.22    

configure_requires:

    Module              Need Have    
    ------------------- ---- --------
    ExtUtils::MakeMaker 0    7.22    


------------------------------
ENVIRONMENT AND OTHER CONTEXT
------------------------------

Environment variables:

    AUTOMATED_TESTING = 1
    HARNESS_OPTIONS = j2
    LANG = en_GB.UTF-8
    LANGUAGE = en_GB:en
    PATH = /home/njh/perl5/perlbrew/bin:/home/njh/perl5/perlbrew/perls/perl-5.18.0/bin:/home/njh/perl5/perlbrew/bin:/usr/bin:/bin
    PERL5LIB = /home/njh/.cpan/build/Data-Compare-1.25-10/blib/arch:/home/njh/.cpan/build/Data-Compare-1.25-10/blib/lib:/home/njh/.cpan/build/File-Find-Rule-0.34-9/blib/arch:/home/njh/.cpan/build/File-Find-Rule-0.34-9/blib/lib:/home/njh/.cpan/build/Text-Glob-0.11-5/blib/arch:/home/njh/.cpan/build/Text-Glob-0.11-5/blib/lib:/home/njh/.cpan/build/Number-Compare-0.03-9/blib/arch:/home/njh/.cpan/build/Number-Compare-0.03-9/blib/lib
    PERL5OPT = 
    PERL5_CPANPLUS_IS_RUNNING = 26775
    PERL5_CPAN_IS_RUNNING = 26775
    PERLBREW_BASHRC_VERSION = 0.75
    PERLBREW_HOME = /home/njh/.perlbrew
    PERLBREW_LIB = 
    PERLBREW_MANPATH = /home/njh/perl5/perlbrew/perls/perl-5.18.0/man
    PERLBREW_PATH = /home/njh/perl5/perlbrew/bin:/home/njh/perl5/perlbrew/perls/perl-5.18.0/bin
    PERLBREW_PERL = perl-5.18.0
    PERLBREW_ROOT = /home/njh/perl5/perlbrew
    PERLBREW_VERSION = 0.75
    PERL_LOCAL_LIB_ROOT = 
    SHELL = /bin/sh

Perl special variables (and OS-specific diagnostics, for MSWin32):

    $^X = /home/njh/perl5/perlbrew/perls/perl-5.18.0/bin/perl
    $UID/$EUID = 1000 / 1000
    $GID = 1000 4 24 25 29 30 44 46 103 108 116 127 1000
    $EGID = 1000 4 24 25 29 30 44 46 103 108 116 127 1000

Perl module toolchain versions installed:

    Module              Have    
    ------------------- --------
    CPAN                2.16    
    CPAN::Meta          2.150005
    Cwd                 3.47    
    ExtUtils::CBuilder  0.280210
    ExtUtils::Command   7.22    
    ExtUtils::Install   1.59    
    ExtUtils::MakeMaker 7.22    
    ExtUtils::Manifest  1.70    
    ExtUtils::ParseXS   3.30    
    File::Spec          3.47    
    JSON                2.90    
    JSON::PP            2.27400 
    Module::Build       0.4210  
    Module::Signature   n/a     
    Parse::CPAN::Meta   1.4422  
    Test::Harness       3.36    
    Test::More          1.302086
    YAML                1.23    
    YAML::Syck          1.30    
    version             0.9902  


--

Summary of my perl5 (revision 5 version 18 subversion 0) configuration:
   
  Platform:
    osname=linux, osvers=3.16-3-amd64, archname=x86_64-linux-thread-multi
    uname='linux compaq 3.16-3-amd64 #1 smp debian 3.16.5-1 (2014-10-10) x86_64 gnulinux '
    config_args='-de -Dprefix=/home/njh/perl5/perlbrew/perls/perl-5.18.0 -Duseithreads -Dusemultiplicity -Dusedevel -Accflags= -Aeval:scriptdir=/home/njh/perl5/perlbrew/perls/perl-5.18.0/bin'
    hint=recommended, useposix=true, d_sigaction=define
    useithreads=define, usemultiplicity=define
    useperlio=define, d_sfio=undef, uselargefiles=define, usesocks=undef
    use64bitint=define, use64bitall=define, uselongdouble=undef
    usemymalloc=n, bincompat5005=undef
  Compiler:
    cc='cc', ccflags ='-D_REENTRANT -D_GNU_SOURCE -fno-strict-aliasing -pipe -fstack-protector -I/usr/local/include -D_LARGEFILE_SOURCE -D_FILE_OFFSET_BITS=64',
    optimize='-O2',
    cppflags='-D_REENTRANT -D_GNU_SOURCE -fno-strict-aliasing -pipe -fstack-protector -I/usr/local/include'
    ccversion='', gccversion='4.9.2', gccosandvers=''
    intsize=4, longsize=8, ptrsize=8, doublesize=8, byteorder=12345678
    d_longlong=define, longlongsize=8, d_longdbl=define, longdblsize=16
    ivtype='long', ivsize=8, nvtype='double', nvsize=8, Off_t='off_t', lseeksize=8
    alignbytes=8, prototype=define
  Linker and Libraries:
    ld='cc', ldflags =' -fstack-protector -L/usr/local/lib'
    libpth=/usr/local/lib /lib/x86_64-linux-gnu /lib/../lib /usr/lib/x86_64-linux-gnu /usr/lib/../lib /lib /usr/lib
    libs=-lnsl -lgdbm -ldb -ldl -lm -lcrypt -lutil -lpthread -lc -lgdbm_compat
    perllibs=-lnsl -ldl -lm -lcrypt -lutil -lpthread -lc
    libc=, so=so, useshrplib=false, libperl=libperl.a
    gnulibc_version='2.19'
  Dynamic Linking:
    dlsrc=dl_dlopen.xs, dlext=so, d_dlsymun=undef, ccdlflags='-Wl,-E'
    cccdlflags='-fPIC', lddlflags='-shared -O2 -L/usr/local/lib -fstack-protector'


Characteristics of this binary (from libperl): 
  Compile-time options: HAS_TIMES MULTIPLICITY PERLIO_LAYERS
                        PERL_DONT_CREATE_GVSV
                        PERL_HASH_FUNC_ONE_AT_A_TIME_HARD
                        PERL_IMPLICIT_CONTEXT PERL_MALLOC_WRAP
                        PERL_PRESERVE_IVUV PERL_SAWAMPERSAND PERL_USE_DEVEL
                        USE_64_BIT_ALL USE_64_BIT_INT USE_ITHREADS
                        USE_LARGE_FILES USE_LOCALE USE_LOCALE_COLLATE
                        USE_LOCALE_CTYPE USE_LOCALE_NUMERIC USE_PERLIO
                        USE_PERL_ATOF USE_REENTRANT_API
  Built under linux
  Compiled at Nov 15 2014 07:09:45
  %ENV:
    PERL5LIB="/home/njh/.cpan/build/Data-Compare-1.25-10/blib/arch:/home/njh/.cpan/build/Data-Compare-1.25-10/blib/lib:/home/njh/.cpan/build/File-Find-Rule-0.34-9/blib/arch:/home/njh/.cpan/build/File-Find-Rule-0.34-9/blib/lib:/home/njh/.cpan/build/Text-Glob-0.11-5/blib/arch:/home/njh/.cpan/build/Text-Glob-0.11-5/blib/lib:/home/njh/.cpan/build/Number-Compare-0.03-9/blib/arch:/home/njh/.cpan/build/Number-Compare-0.03-9/blib/lib"
    PERL5OPT=""
    PERL5_CPANPLUS_IS_RUNNING="26775"
    PERL5_CPAN_IS_RUNNING="26775"
    PERLBREW_BASHRC_VERSION="0.75"
    PERLBREW_HOME="/home/njh/.perlbrew"
    PERLBREW_LIB=""
    PERLBREW_MANPATH="/home/njh/perl5/perlbrew/perls/perl-5.18.0/man"
    PERLBREW_PATH="/home/njh/perl5/perlbrew/bin:/home/njh/perl5/perlbrew/perls/perl-5.18.0/bin"
    PERLBREW_PERL="perl-5.18.0"
    PERLBREW_ROOT="/home/njh/perl5/perlbrew"
    PERLBREW_VERSION="0.75"
    PERL_LOCAL_LIB_ROOT=""
  @INC:
    /home/njh/.cpan/build/Data-Compare-1.25-10/blib/arch
    /home/njh/.cpan/build/Data-Compare-1.25-10/blib/lib
    /home/njh/.cpan/build/File-Find-Rule-0.34-9/blib/arch
    /home/njh/.cpan/build/File-Find-Rule-0.34-9/blib/lib
    /home/njh/.cpan/build/Text-Glob-0.11-5/blib/arch
    /home/njh/.cpan/build/Text-Glob-0.11-5/blib/lib
    /home/njh/.cpan/build/Number-Compare-0.03-9/blib/arch
    /home/njh/.cpan/build/Number-Compare-0.03-9/blib/lib
    /home/njh/perl5/perlbrew/perls/perl-5.18.0/lib/site_perl/5.18.0/x86_64-linux-thread-multi
    /home/njh/perl5/perlbrew/perls/perl-5.18.0/lib/site_perl/5.18.0
    /home/njh/perl5/perlbrew/perls/perl-5.18.0/lib/5.18.0/x86_64-linux-thread-multi
    /home/njh/perl5/perlbrew/perls/perl-5.18.0/lib/5.18.0
    .