Report for Module-Build-Deprecated-0.4210

Back
From: metabase:user:20b5d20a-b56b-11df-b6fe-a673812b71ce
Subject: PASS Module-Build-Deprecated-0.4210 v5.20.2 GNU/Linux
Date: 2015-06-15T22:37:31Z

This distribution has been tested as part of the CPAN Testers
project, supporting the Perl programming language.  See
http://wiki.cpantesters.org/ for more information or email
questions to cpan-testers-discuss@perl.org


--
Dear Leon Timmermans,

This is a computer-generated report for Module-Build-Deprecated-0.4210
on perl 5.20.2, created by CPAN-Reporter-1.2014.

Thank you for uploading your work to CPAN.  Congratulations!
All tests were successful.

Sections of this report:

    * Tester comments
    * Program output
    * Prerequisites
    * Environment and other context

------------------------------
TESTER COMMENTS
------------------------------

Additional comments from tester:

none provided

------------------------------
PROGRAM OUTPUT
------------------------------

Output from './Build test':

t/00-compile.t ............ ok
t/release-pod-coverage.t .. skipped: these tests are for release candidate testing
t/release-pod-syntax.t .... skipped: these tests are for release candidate testing
All tests successful.
Files=3, Tests=4,  1 wallclock secs ( 0.03 usr  0.01 sys +  0.21 cusr  0.01 csys =  0.26 CPU)
Result: PASS

------------------------------
PREREQUISITES
------------------------------

Prerequisite modules loaded:

requires:

    Module           Need   Have    
    ---------------- ------ --------
    base             0      2.22    
    CPAN::Meta::YAML 0.002  0.016   
    Module::Metadata 0      1.000027
    parent           0      0.234   
    perl             5.006  5.020002
    strict           0      1.08    
    version          0.87   0.9912  
    warnings         0      1.23    

build_requires:

    Module           Need   Have    
    ---------------- ------ --------
    File::Spec       0      3.48_01 
    IO::Handle       0      1.28    
    IPC::Open3       0      1.16    
    Module::Build    0.3601 0.4212  
    perl             5.006  5.020002
    Test::More       0      1.001014

configure_requires:

    Module           Need   Have    
    ---------------- ------ --------
    Module::Build    0.3601 0.4212  


------------------------------
ENVIRONMENT AND OTHER CONTEXT
------------------------------

Environment variables:

    LANG = en_US.UTF-8
    LC_COLLATE = C
    PATH = /usr/local/sbin:/usr/local/bin:/usr/sbin:/usr/bin:/sbin:/bin:/opt/bin:/usr/x86_64-pc-linux-gnu/gcc-bin/4.8.4
    PERL5LIB = 
    PERL5OPT = 
    PERL5_CPANPLUS_IS_RUNNING = 15224
    PERL5_CPAN_IS_RUNNING = 15224
    SHELL = /bin/bash
    TERM = screen

Perl special variables (and OS-specific diagnostics, for MSWin32):

    $^X = /usr/bin/perl
    $UID/$EUID = 0 / 0
    $GID = 0 0 1 2 3 4 6 10 11 20 26 27
    $EGID = 0 0 1 2 3 4 6 10 11 20 26 27

Perl module toolchain versions installed:

    Module              Have    
    ------------------- --------
    CPAN                2.10    
    CPAN::Meta          2.150001
    Cwd                 3.48_01 
    ExtUtils::CBuilder  0.280223
    ExtUtils::Command   1.20    
    ExtUtils::Install   2.04    
    ExtUtils::MakeMaker 7.04    
    ExtUtils::Manifest  1.70    
    ExtUtils::ParseXS   3.24    
    File::Spec          3.48_01 
    JSON                2.90    
    JSON::PP            2.27300 
    Module::Build       0.4212  
    Module::Signature   0.79    
    Parse::CPAN::Meta   1.4414  
    Test::Harness       3.35    
    Test::More          1.001014
    YAML                1.15    
    YAML::Syck          n/a     
    version             0.9912  


--

Summary of my perl5 (revision 5 version 20 subversion 2) configuration:
   
  Platform:
    osname=linux, osvers=3.17.7-gentoo, archname=x86_64-linux
    uname='linux ux11 3.17.7-gentoo #1 smp mon jan 5 16:48:11 cst 2015 x86_64 amd athlon(tm) 64 x2 dual core processor 4800+ authenticamd gnulinux '
    config_args='-des -Duseshrplib -Darchname=x86_64-linux -Dcc=x86_64-pc-linux-gnu-gcc -Doptimize=-march=athlon64 -O2 -pipe -Dldflags=-Wl,-O1 -Wl,--as-needed -Dprefix=/usr -Dinstallprefix=/usr -Dsiteprefix=/usr/local -Dvendorprefix=/usr -Dscriptdir=/usr/bin -Dprivlib=/usr/lib64/perl5/5.20.2 -Darchlib=/usr/lib64/perl5/5.20.2/x86_64-linux -Dsitelib=/usr/local/lib64/perl5/5.20.2 -Dsitearch=/usr/local/lib64/perl5/5.20.2/x86_64-linux -Dvendorlib=/usr/lib64/perl5/vendor_perl/5.20.2 -Dvendorarch=/usr/lib64/perl5/vendor_perl/5.20.2/x86_64-linux -Dman1dir=/usr/share/man/man1 -Dman3dir=/usr/share/man/man3 -Dsiteman1dir=/usr/local/man/man1 -Dsiteman3dir=/usr/local/man/man3 -Dvendorman1dir=/usr/share/man/man1 -Dvendorman3dir=/usr/share/man/man3 -Dman1ext=1 -Dman3ext=3pm -Dlibperl=libperl.so.5.20.2 -Dlocincpth=/usr/include  -Dglibpth=/lib64 /usr/lib64  -Duselargefiles -Dd_semctl_semun -Dcf_by=Gentoo -Dmyhostname=localhost -Dperladmin=root@localhost -Dinstallusrbinperl=n -Ud_csh -Uusenm -Di_ndbm -Di_gdbm -Di_db -DDEBUGGING=none -Dinc_version_list=5.20.0/x86_64-linux 5.20.0 5.20.1/x86_64-linux 5.20.1  -Dlibpth=/usr/local/lib64 /lib64 /usr/lib64 -Dnoextensions=ODBM_File'
    hint=recommended, useposix=true, d_sigaction=define
    useithreads=undef, usemultiplicity=undef
    use64bitint=define, use64bitall=define, uselongdouble=undef
    usemymalloc=n, bincompat5005=undef
  Compiler:
    cc='x86_64-pc-linux-gnu-gcc', ccflags ='-fwrapv -fno-strict-aliasing -pipe -D_LARGEFILE_SOURCE -D_FILE_OFFSET_BITS=64',
    optimize='-march=athlon64 -O2 -pipe',
    cppflags='-fwrapv -fno-strict-aliasing -pipe'
    ccversion='', gccversion='4.7.3', gccosandvers=''
    intsize=4, longsize=8, ptrsize=8, doublesize=8, byteorder=12345678
    d_longlong=define, longlongsize=8, d_longdbl=define, longdblsize=16
    ivtype='long', ivsize=8, nvtype='double', nvsize=8, Off_t='off_t', lseeksize=8
    alignbytes=8, prototype=define
  Linker and Libraries:
    ld='x86_64-pc-linux-gnu-gcc', ldflags ='-Wl,-O1 -Wl,--as-needed'
    libpth=/usr/local/lib64 /lib64 /usr/lib64 /usr/local/lib /usr/lib/gcc/x86_64-pc-linux-gnu/4.7.3/include-fixed /usr/lib /lib/../lib64 /usr/lib/../lib64 /lib
    libs=-lnsl -lgdbm -ldb -ldl -lm -lcrypt -lutil -lc -lgdbm_compat
    perllibs=-lnsl -ldl -lm -lcrypt -lutil -lc
    libc=libc-2.19.so, so=so, useshrplib=true, libperl=libperl.so.5.20.2
    gnulibc_version='2.19'
  Dynamic Linking:
    dlsrc=dl_dlopen.xs, dlext=so, d_dlsymun=undef, ccdlflags='-Wl,-E'
    cccdlflags='-fPIC', lddlflags='-shared -march=athlon64 -O2 -pipe -Wl,-O1 -Wl,--as-needed'


Characteristics of this binary (from libperl): 
  Compile-time options: HAS_TIMES PERLIO_LAYERS PERL_DONT_CREATE_GVSV
                        PERL_HASH_FUNC_ONE_AT_A_TIME_HARD PERL_MALLOC_WRAP
                        PERL_NEW_COPY_ON_WRITE PERL_PRESERVE_IVUV
                        USE_64_BIT_ALL USE_64_BIT_INT USE_LARGE_FILES
                        USE_LOCALE USE_LOCALE_COLLATE USE_LOCALE_CTYPE
                        USE_LOCALE_NUMERIC USE_PERLIO USE_PERL_ATOF
  Locally applied patches:
	gentoo/hints_hpux - Fix hpux hints
	gentoo/aix_soname - aix gcc detection and shared library soname support
	gentoo/EUMM-RUNPATH - https://bugs.gentoo.org/105054 cpan/ExtUtils-MakeMaker: drop $PORTAGE_TMPDIR from LD_RUN_PATH
	gentoo/config_over - Remove -rpath and append LDFLAGS to lddlflags
	gentoo/opensolaris_headers - [PATCH] Add headers for opensolaris
	gentoo/patchlevel - List packaged patches for perl-5.20.2(#1) in patchlevel.h
	gentoo/cpanplus_definstalldirs - Configure CPANPLUS to use the site directories by default.
	gentoo/cleanup-paths - [PATCH] Cleanup PATH and shrpenv
	gentoo/enc2xs - Tweak enc2xs to follow symlinks and ignore missing @INC directories.
	gentoo/enc2xs_checksums -
	gentoo/darwin-cc-ld - https://bugs.gentoo.org/297751 [PATCH] darwin: Use $CC to link
	gentoo/cpan_definstalldirs - Provide a sensible INSTALLDIRS default for modules installed from CPAN.
	gentoo/interix - [PATCH] Fix interix hints
	gentoo/create_libperl_soname - https://bugs.gentoo.org/286840 [PATCH] Set libperl soname
	gentoo/mod_paths - Add /etc/perl to @INC
	gentoo/EUMM_delete_packlist -
	gentoo/drop_fstack_protector - https://bugs.gentoo.org/348557 [PATCH] Don't force -fstack-protector on everyone
	gentoo/usr_local - [PATCH] Remove /usr/local paths
	gentoo/D-SHA-CFLAGS - https://bugs.gentoo.org/506818 [PATCH] Do not set custom CFLAGS in cpan/Digest-SHA
	gentoo/io_socket_ip_tests -
	debian/cpan-missing-site-dirs - Fix CPAN::FirstTime defaults with nonexisting site dirs if a parent is writable
	debian/regcomp-mips-optim - Downgrade the optimization of regcomp.c on mips and mipsel due to a gcc-4.9 bug
	debian/perldoc-less-R - Tell the 'less' pager to allow terminal escape sequences
	debian/makemaker-pasthru - Pass LD settings through to subdirectories
	fixes/net_smtp_docs - [rt.cpan.org #36038] Document the Net::SMTP 'Port' option
	fixes/memoize_storable_nstore - [rt.cpan.org #77790] Memoize::Storable: respect 'nstore' option not respected
	fixes/document_makemaker_ccflags - [rt.cpan.org #68613] Document that CCFLAGS should include $Config{ccflags}
  Built under linux
  Compiled at Apr  5 2015 03:33:06
  %ENV:
    PERL5LIB=""
    PERL5OPT=""
    PERL5_CPANPLUS_IS_RUNNING="15224"
    PERL5_CPAN_IS_RUNNING="15224"
  @INC:
    /etc/perl
    /usr/local/lib64/perl5/5.20.2/x86_64-linux
    /usr/local/lib64/perl5/5.20.2
    /usr/lib64/perl5/vendor_perl/5.20.2/x86_64-linux
    /usr/lib64/perl5/vendor_perl/5.20.2
    /usr/local/lib64/perl5/5.20.1/x86_64-linux
    /usr/local/lib64/perl5/5.20.1
    /usr/local/lib64/perl5
    /usr/lib64/perl5/vendor_perl/5.20.1/x86_64-linux
    /usr/lib64/perl5/vendor_perl/5.20.1
    /usr/lib64/perl5/vendor_perl
    /usr/lib64/perl5/5.20.2/x86_64-linux
    /usr/lib64/perl5/5.20.2
    .