Module-Faker v0.022 Perl 5 v5.22.3 x86_64-linux-ld

Status
Pass
From
Slaven Rezić (SREZIC)
Dist
Module-Faker v0.022
Platform
Perl 5 v5.22.3 x86_64-linux-ld
Date
2019-04-29 03:44:37
ID
1c4e55fa-6a31-11e9-a68a-e38e1f24ea8f
This distribution has been tested as part of the CPAN Testers
project, supporting the Perl programming language.  See
http://wiki.cpantesters.org/ for more information or email
questions to cpan-testers-discuss@perl.org


--
Dear Ricardo SIGNES,

This is a computer-generated report for Module-Faker-0.022
on perl 5.22.3, created by CPAN-Reporter-1.2018.

Thank you for uploading your work to CPAN.  Congratulations!
All tests were successful.

Sections of this report:

    * Tester comments
    * Program output
    * Prerequisites
    * Environment and other context

------------------------------
TESTER COMMENTS
------------------------------

Additional comments from tester:

none provided

------------------------------
PROGRAM OUTPUT
------------------------------

Output from '/usr/bin/make test':

PERL_DL_NONLAZY=1 "/opt/perl-5.22.3D/bin/perl" "-MExtUtils::Command::MM" "-MTest::Harness" "-e" "undef *Test::Harness::Switches; test_harness(0, 'blib/lib', 'blib/arch')" t/*.t
# 
# Versions for all modules listed in MYMETA.json (including optional ones):
# 
# === Configure Requires ===
# 
#     Module              Want    Have
#     ------------------- ---- -------
#     ExtUtils::MakeMaker  any 7.04_02
# 
# === Build Requires ===
# 
#     Module              Want    Have
#     ------------------- ---- -------
#     ExtUtils::MakeMaker  any 7.04_02
# 
# === Test Requires ===
# 
#     Module              Want       Have
#     ------------------- ---- ----------
#     Cwd                  any    3.56_02
#     ExtUtils::MakeMaker  any    7.04_02
#     File::Spec           any    3.56_02
#     JSON::PP             any 2.27300_01
#     Path::Class         0.06       0.37
#     Test::More          0.96   1.302086
# 
# === Test Recommends ===
# 
#     Module         Want     Have
#     ---------- -------- --------
#     CPAN::Meta 2.120900 2.150001
# 
# === Runtime Requires ===
# 
#     Module                           Want       Have
#     ---------------------------- -------- ----------
#     Archive::Any::Create              any       0.03
#     CPAN::DistnameInfo                any       0.12
#     CPAN::Meta                   2.130880   2.150001
#     CPAN::Meta::Converter             any   2.150001
#     CPAN::Meta::Merge                 any   2.150001
#     CPAN::Meta::Requirements          any      2.132
#     Carp                              any       1.36
#     Data::OptList                     any      0.110
#     Encode                            any    2.72_01
#     File::Next                        any       1.16
#     File::Path                        any       2.09
#     File::Temp                        any     0.2304
#     Getopt::Long::Descriptive         any      0.100
#     Moose                            0.33     2.2005
#     Moose::Role                       any     2.2005
#     Moose::Util::TypeConstraints      any     2.2005
#     Parse::CPAN::Meta              1.4401 1.4414_001
#     Path::Class                      0.06       0.37
#     Storable                          any    2.53_02
#     Text::Template                    any       1.47
#     strict                            any       1.09
#     warnings                          any       1.34
# 
t/00-report-prereqs.t .. ok
t/append-utf8.t ........ ok
t/append.t ............. ok
t/basic.t .............. ok
t/makefile-pl.t ........ ok
t/meta-files.t ......... ok
t/omit-file.t .......... ok
t/provide-order.t ...... ok
t/requires.t ........... ok
All tests successful.
Files=9, Tests=33,  2 wallclock secs ( 0.03 usr  0.01 sys +  1.84 cusr  0.24 csys =  2.12 CPU)
Result: PASS

------------------------------
PREREQUISITES
------------------------------

Prerequisite modules loaded:

requires:

    Module                       Need     Have      
    ---------------------------- -------- ----------
    Archive::Any::Create         0        0.03      
    Carp                         0        1.36      
    CPAN::DistnameInfo           0        0.12      
    CPAN::Meta                   2.130880 2.150001  
    CPAN::Meta::Converter        0        2.150001  
    CPAN::Meta::Merge            0        2.150001  
    CPAN::Meta::Requirements     0        2.132     
    Data::OptList                0        0.110     
    Encode                       0        2.72_01   
    File::Next                   0        1.16      
    File::Path                   0        2.09      
    File::Temp                   0        0.2304    
    Getopt::Long::Descriptive    0        0.100     
    Moose                        0.33     2.2005    
    Moose::Role                  0        2.2005    
    Moose::Util::TypeConstraints 0        2.2005    
    Parse::CPAN::Meta            1.4401   1.4414_001
    Path::Class                  0.06     0.37      
    perl                         5.014000 5.022003  
    Storable                     0        2.53_02   
    strict                       0        1.09      
    Text::Template               0        1.47      
    warnings                     0        1.34      

build_requires:

    Module                       Need     Have      
    ---------------------------- -------- ----------
    Cwd                          0        3.56_02   
    ExtUtils::MakeMaker          0        7.04_02   
    File::Spec                   0        3.56_02   
    JSON::PP                     0        2.27300_01
    Path::Class                  0.06     0.37      
    Test::More                   0.96     1.302086  

configure_requires:

    Module                       Need     Have      
    ---------------------------- -------- ----------
    ExtUtils::MakeMaker          0        7.04_02   

opt_build_requires:

    Module                       Need     Have      
    ---------------------------- -------- ----------
    CPAN::Meta                   2.120900 2.150001  


------------------------------
ENVIRONMENT AND OTHER CONTEXT
------------------------------

Environment variables:

    LANG = C
    PATH = /usr/local/bin:/usr/bin:/bin:/usr/local/sbin:/usr/sbin:/sbin:/home/cpansand/bin/linux-gnu:/home/cpansand/bin/sh:/home/cpansand/bin:/usr/games:/home/cpansand/devel:/home/eserte/src/srezic-misc/scripts
    PERL5LIB = /home/cpansand/.cpan/build/2019042903/File-Next-1.16-0/blib/arch:/home/cpansand/.cpan/build/2019042903/File-Next-1.16-0/blib/lib:/home/cpansand/.cpan/build/2019042903/Archive-Any-Create-0.03-0/blib/arch:/home/cpansand/.cpan/build/2019042903/Archive-Any-Create-0.03-0/blib/lib
    PERL5OPT = 
    PERL5_CPANPLUS_IS_RUNNING = 22179
    PERL5_CPAN_IS_RUNNING = 22179
    PERL5_CPAN_IS_RUNNING_IN_RECURSION = 11150,22179
    PERLDOC = -MPod::Perldoc::ToTextOverstrike
    PERL_BATCH = yes
    PERL_CANARY_STABILITY_NOPROMPT = 1
    PERL_CPAN_REPORTER_CONFIG = /var/tmp/cpansmoker-1023/2019042902/cpanreporter_000_config.ini
    PERL_EXTUTILS_AUTOINSTALL = --defaultdeps
    PERL_USE_UNSAFE_INC = 1
    SHELL = /usr/bin/zsh
    TERM = screen
    TMPDIR = /var/tmp/cpansmoker-1023/2019042902

Perl special variables (and OS-specific diagnostics, for MSWin32):

    $^X = /opt/perl-5.22.3D/bin/perl
    $UID/$EUID = 1023 / 1023
    $GID = 1023 1023
    $EGID = 1023 1023

Perl module toolchain versions installed:

    Module              Have      
    ------------------- ----------
    CPAN                2.16      
    CPAN::Meta          2.150001  
    Cwd                 3.56_02   
    ExtUtils::CBuilder  0.280221  
    ExtUtils::Command   1.20_01   
    ExtUtils::Install   2.04      
    ExtUtils::MakeMaker 7.04_02   
    ExtUtils::Manifest  1.70      
    ExtUtils::ParseXS   3.28      
    File::Spec          3.56_02   
    JSON                2.94      
    JSON::PP            2.27300_01
    Module::Build       0.4224    
    Module::Signature   0.81      
    Parse::CPAN::Meta   1.4414_001
    Test::Harness       3.35_01   
    Test::More          1.302086  
    YAML                1.23      
    YAML::Syck          1.30      
    version             0.9909    


--

Summary of my perl5 (revision 5 version 22 subversion 3) configuration:
   
  Platform:
    osname=linux, osvers=3.16.0-4-amd64, archname=x86_64-linux-ld
    uname='linux debian8 3.16.0-4-amd64 #1 smp debian 3.16.43-2+deb8u1 (2017-06-18) x86_64 gnulinux '
    config_args='-ds -e -Dprefix=/opt/perl-5.22.3D -Duselongdouble -Dcf_email=srezic@cpan.org'
    hint=recommended, useposix=true, d_sigaction=define
    useithreads=undef, usemultiplicity=undef
    use64bitint=define, use64bitall=define, uselongdouble=define
    usemymalloc=n, bincompat5005=undef
  Compiler:
    cc='cc', ccflags ='-fwrapv -fno-strict-aliasing -pipe -fstack-protector-strong -I/usr/local/include -D_LARGEFILE_SOURCE -D_FILE_OFFSET_BITS=64 -D_FORTIFY_SOURCE=2',
    optimize='-O2',
    cppflags='-fwrapv -fno-strict-aliasing -pipe -fstack-protector-strong -I/usr/local/include'
    ccversion='', gccversion='4.9.2', gccosandvers=''
    intsize=4, longsize=8, ptrsize=8, doublesize=8, byteorder=12345678, doublekind=3
    d_longlong=define, longlongsize=8, d_longdbl=define, longdblsize=16, longdblkind=3
    ivtype='long', ivsize=8, nvtype='long double', nvsize=16, Off_t='off_t', lseeksize=8
    alignbytes=16, prototype=define
  Linker and Libraries:
    ld='cc', ldflags =' -fstack-protector-strong -L/usr/local/lib'
    libpth=/usr/local/lib /usr/lib/gcc/x86_64-linux-gnu/4.9/include-fixed /usr/include/x86_64-linux-gnu /usr/lib /lib/x86_64-linux-gnu /lib/../lib /usr/lib/x86_64-linux-gnu /usr/lib/../lib /lib
    libs=-lpthread -lnsl -lgdbm -ldb -ldl -lm -lcrypt -lutil -lc -lgdbm_compat
    perllibs=-lpthread -lnsl -ldl -lm -lcrypt -lutil -lc
    libc=libc-2.19.so, so=so, useshrplib=false, libperl=libperl.a
    gnulibc_version='2.19'
  Dynamic Linking:
    dlsrc=dl_dlopen.xs, dlext=so, d_dlsymun=undef, ccdlflags='-Wl,-E'
    cccdlflags='-fPIC', lddlflags='-shared -O2 -L/usr/local/lib -fstack-protector-strong'


Characteristics of this binary (from libperl): 
  Compile-time options: HAS_TIMES PERLIO_LAYERS PERL_DONT_CREATE_GVSV
                        PERL_HASH_FUNC_ONE_AT_A_TIME_HARD PERL_MALLOC_WRAP
                        PERL_NEW_COPY_ON_WRITE PERL_PRESERVE_IVUV
                        USE_64_BIT_ALL USE_64_BIT_INT USE_LARGE_FILES
                        USE_LOCALE USE_LOCALE_COLLATE USE_LOCALE_CTYPE
                        USE_LOCALE_NUMERIC USE_LOCALE_TIME USE_LONG_DOUBLE
                        USE_PERLIO USE_PERL_ATOF
  Built under linux
  Compiled at Jun 27 2017 20:04:01
  %ENV:
    PERL5LIB="/home/cpansand/.cpan/build/2019042903/File-Next-1.16-0/blib/arch:/home/cpansand/.cpan/build/2019042903/File-Next-1.16-0/blib/lib:/home/cpansand/.cpan/build/2019042903/Archive-Any-Create-0.03-0/blib/arch:/home/cpansand/.cpan/build/2019042903/Archive-Any-Create-0.03-0/blib/lib"
    PERL5OPT=""
    PERL5_CPANPLUS_IS_RUNNING="22179"
    PERL5_CPAN_IS_RUNNING="22179"
    PERL5_CPAN_IS_RUNNING_IN_RECURSION="11150,22179"
    PERLDOC="-MPod::Perldoc::ToTextOverstrike"
    PERL_BATCH="yes"
    PERL_CANARY_STABILITY_NOPROMPT="1"
    PERL_CPAN_REPORTER_CONFIG="/var/tmp/cpansmoker-1023/2019042902/cpanreporter_000_config.ini"
    PERL_EXTUTILS_AUTOINSTALL="--defaultdeps"
    PERL_USE_UNSAFE_INC="1"
  @INC:
    /home/cpansand/.cpan/build/2019042903/File-Next-1.16-0/blib/arch
    /home/cpansand/.cpan/build/2019042903/File-Next-1.16-0/blib/lib
    /home/cpansand/.cpan/build/2019042903/Archive-Any-Create-0.03-0/blib/arch
    /home/cpansand/.cpan/build/2019042903/Archive-Any-Create-0.03-0/blib/lib
    /opt/perl-5.22.3D/lib/site_perl/5.22.3/x86_64-linux-ld
    /opt/perl-5.22.3D/lib/site_perl/5.22.3
    /opt/perl-5.22.3D/lib/5.22.3/x86_64-linux-ld
    /opt/perl-5.22.3D/lib/5.22.3
    .