Net-Statsd-Server v0.20 Perl 5 v5.37.9 x86_64-linux-thread-multi-ld

Status
Pass
From
Andreas J. König (ANDK)
Dist
Net-Statsd-Server v0.20
Platform
Perl 5 v5.37.9 x86_64-linux-thread-multi-ld
Date
2023-03-19 19:34:48
ID
1c4948aa-c68d-11ed-b1c8-44aeec7f97a0
This distribution has been tested as part of the CPAN Testers
project, supporting the Perl programming language.  See
http://wiki.cpantesters.org/ for more information or email
questions to cpan-testers-discuss@perl.org


--
Dear Cosimo Streppone,

This is a computer-generated report for Net-Statsd-Server-0.20
on perl 5.37.9, created by CPAN-Reporter-1.2018.

Thank you for uploading your work to CPAN.  Congratulations!
All tests were successful.

Sections of this report:

    * Tester comments
    * Program output
    * Prerequisites
    * Environment and other context

------------------------------
TESTER COMMENTS
------------------------------

Additional comments from tester:

this report is from an automated smoke testing program
and was not reviewed by a human for accuracy

------------------------------
PROGRAM OUTPUT
------------------------------

Output from '/usr/bin/make test':

PERL_DL_NONLAZY=1 "/tmp/basesmoker-reloperl-ABxO/bin/perl" "-MExtUtils::Command::MM" "-MTest::Harness" "-e" "undef *Test::Harness::Switches; test_harness(0, 'blib/lib', 'blib/arch')" t/*.t t/integration-tests/*.t
t/000-sanity.t ............................. ok
t/config.t ................................. ok
t/graphite.t ............................... ok
2023-03-19 19:31:23.000000 +0000 note  Net::Statsd::Server: Initializing Net::Statsd::Server::Backend::Console backend
2023-03-19 19:31:23.000000 +0000 note  Net::Statsd::Server: Initializing Net::Statsd::Server::Backend::Graphite backend
2023-03-19 19:31:23.000000 +0000 info  AnyEvent: Autoloaded model 'AnyEvent::Impl::EV', using it.
2023-03-19 19:31:23.413676 +0000 note  Net::Statsd::Server: statsd server started on 0.0.0.0:40001 (v0.17)
2023-03-19 19:31:23.413707 +0000 note  Net::Statsd::Server: manager interface started on 0.0.0.0:40002
2023-03-19 19:31:23.413733 +0000 note  Net::Statsd::Server: metrics flush will happen every 1s
2023-03-19 19:31:23.838084 +0000 warn  Net::Statsd::Server: Bad line: 1 in msg "a_bad_test_value|z"
2023-03-19 19:31:24.413660 +0000 note  Net::Statsd::Server: flushing metrics
Flushing stats at Sun Mar 19 19:31:24 2023
{"pctThreshold":[90],"sets":null,"timer_data":{},"counters":{"statsd.bad_lines_seen":1,"statsd.packets_received":1},"timers":{},"counter_rates":{"statsd.packets_received":1,"statsd.bad_lines_seen":1},"gauges":{}}
t/integration-tests/bad-message.t .......... ok
2023-03-19 19:31:24.000000 +0000 note  Net::Statsd::Server: Initializing Net::Statsd::Server::Backend::Console backend
2023-03-19 19:31:24.000000 +0000 note  Net::Statsd::Server: Initializing Net::Statsd::Server::Backend::Graphite backend
2023-03-19 19:31:24.000000 +0000 info  AnyEvent: Autoloaded model 'AnyEvent::Impl::EV', using it.
2023-03-19 19:31:24.609033 +0000 note  Net::Statsd::Server: statsd server started on 0.0.0.0:40001 (v0.17)
2023-03-19 19:31:24.609061 +0000 note  Net::Statsd::Server: manager interface started on 0.0.0.0:40002
2023-03-19 19:31:24.609086 +0000 note  Net::Statsd::Server: metrics flush will happen every 1s
2023-03-19 19:31:25.609586 +0000 note  Net::Statsd::Server: flushing metrics
Flushing stats at Sun Mar 19 19:31:25 2023
{"sets":null,"timers":{},"pctThreshold":[90],"counters":{"statsd.packets_received":1,"a_test_value":100,"statsd.bad_lines_seen":0},"gauges":{},"counter_rates":{"statsd.packets_received":1,"a_test_value":100,"statsd.bad_lines_seen":0},"timer_data":{}}
# stats.counters.statsd.packets_received.rate 1.000000 1679254285
# stats.counters.statsd.packets_received.count 1 1679254285
# stats.counters.a_test_value.rate 100.000000 1679254285
# stats.counters.a_test_value.count 100 1679254285
# stats.counters.statsd.bad_lines_seen.rate 0.000000 1679254285
# stats.counters.statsd.bad_lines_seen.count 0 1679254285
# stats.statsd.numStats 3 1679254285
# stats.statsd.graphiteStats.calculationtime 0.036000 1679254285
# stats.statsd.processing_time 0.017 1679254285
# stats.statsd.graphiteStats.last_exception 94299360456304 1679254285
# stats.statsd.graphiteStats.last_flush 94299360456304 1679254285
t/integration-tests/counts-are-valid.t ..... ok
2023-03-19 19:31:25.000000 +0000 note  Net::Statsd::Server: Initializing Net::Statsd::Server::Backend::Graphite backend
2023-03-19 19:31:25.000000 +0000 info  AnyEvent: Autoloaded model 'AnyEvent::Impl::EV', using it.
2023-03-19 19:31:25.818912 +0000 note  Net::Statsd::Server: statsd server started on 0.0.0.0:40001 (v0.17)
2023-03-19 19:31:25.818938 +0000 note  Net::Statsd::Server: manager interface started on 0.0.0.0:40002
2023-03-19 19:31:25.818963 +0000 note  Net::Statsd::Server: metrics flush will happen every 1s
2023-03-19 19:31:26.821485 +0000 note  Net::Statsd::Server: flushing metrics
# First flush. Test gauge should be there.
2023-03-19 19:31:27.821563 +0000 note  Net::Statsd::Server: flushing metrics
# Second flush. deleteGauges=false should keep the test gauge.
t/integration-tests/delete-gauges-false.t .. ok
2023-03-19 19:31:28.000000 +0000 note  Net::Statsd::Server: Initializing Net::Statsd::Server::Backend::Graphite backend
2023-03-19 19:31:28.000000 +0000 info  AnyEvent: Autoloaded model 'AnyEvent::Impl::EV', using it.
2023-03-19 19:31:28.036184 +0000 note  Net::Statsd::Server: statsd server started on 0.0.0.0:40001 (v0.17)
2023-03-19 19:31:28.036218 +0000 note  Net::Statsd::Server: manager interface started on 0.0.0.0:40002
2023-03-19 19:31:28.036246 +0000 note  Net::Statsd::Server: metrics flush will happen every 1s
2023-03-19 19:31:29.037590 +0000 note  Net::Statsd::Server: flushing metrics
# First flush. Test gauge should be there.
2023-03-19 19:31:30.037570 +0000 note  Net::Statsd::Server: flushing metrics
# Second flush. deleteIdleStats should have cleared the test gauge.
t/integration-tests/delete-idle-stats.t .... ok
2023-03-19 19:31:30.000000 +0000 note  Net::Statsd::Server: Initializing Net::Statsd::Server::Backend::Console backend
2023-03-19 19:31:30.000000 +0000 note  Net::Statsd::Server: Initializing Net::Statsd::Server::Backend::Graphite backend
2023-03-19 19:31:30.000000 +0000 info  AnyEvent: Autoloaded model 'AnyEvent::Impl::EV', using it.
2023-03-19 19:31:30.252973 +0000 note  Net::Statsd::Server: statsd server started on 0.0.0.0:40001 (v0.17)
2023-03-19 19:31:30.253009 +0000 note  Net::Statsd::Server: manager interface started on 0.0.0.0:40002
2023-03-19 19:31:30.253035 +0000 note  Net::Statsd::Server: metrics flush will happen every 1s
2023-03-19 19:31:31.253595 +0000 note  Net::Statsd::Server: flushing metrics
Flushing stats at Sun Mar 19 19:31:31 2023
{"counter_rates":{"a_test_value,category=web,severity=high":100,"statsd.packets_received":1,"statsd.bad_lines_seen":0},"timers":{},"gauges":{},"timer_data":{},"sets":null,"pctThreshold":[90],"counters":{"statsd.packets_received":1,"statsd.bad_lines_seen":0,"a_test_value,category=web,severity=high":100}}
# stats.counters.statsd.packets_received.rate 1.000000 1679254291
# stats.counters.statsd.packets_received.count 1 1679254291
# stats.counters.statsd.bad_lines_seen.rate 0.000000 1679254291
# stats.counters.statsd.bad_lines_seen.count 0 1679254291
# stats.counters.a_test_value,category=web,severity=high.rate 100.000000 1679254291
# stats.counters.a_test_value,category=web,severity=high.count 100 1679254291
# stats.statsd.numStats 3 1679254291
# stats.statsd.graphiteStats.calculationtime 0.037000 1679254291
# stats.statsd.processing_time 0.018 1679254291
# stats.statsd.graphiteStats.last_exception 93997612646000 1679254291
# stats.statsd.graphiteStats.last_flush 93997612646000 1679254291
t/integration-tests/keys-with-tags.t ....... ok
2023-03-19 19:31:31.000000 +0000 note  Net::Statsd::Server: Initializing Net::Statsd::Server::Backend::Graphite backend
2023-03-19 19:31:31.000000 +0000 info  AnyEvent: Autoloaded model 'AnyEvent::Impl::EV', using it.
2023-03-19 19:31:31.464704 +0000 note  Net::Statsd::Server: statsd server started on 0.0.0.0:40001 (v0.17)
2023-03-19 19:31:31.464745 +0000 note  Net::Statsd::Server: manager interface started on 0.0.0.0:40002
2023-03-19 19:31:31.464772 +0000 note  Net::Statsd::Server: metrics flush will happen every 1s
# Expected mean value is 2150.46
2023-03-19 19:31:32.465585 +0000 note  Net::Statsd::Server: flushing metrics
# stats.counters.statsd.bad_lines_seen.rate 0.000000 1679254292
# stats.counters.statsd.bad_lines_seen.count 0 1679254292
# stats.counters.statsd.packets_received.rate 100.000000 1679254292
# stats.counters.statsd.packets_received.count 100 1679254292
# stats.timers.read_latency.mean 2150.460000 1679254292
# stats.timers.read_latency.sum_squares 496802360.000000 1679254292
# stats.timers.read_latency.std 586.127451 1679254292
# stats.timers.read_latency.lower 1029.000000 1679254292
# stats.timers.read_latency.count_95 95.000000 1679254292
# stats.timers.read_latency.upper_95 2863.000000 1679254292
# stats.timers.read_latency.sum_squares_99 488017064.000000 1679254292
# stats.timers.read_latency.count_ps 100.000000 1679254292
# stats.timers.read_latency.sum_95 200413.000000 1679254292
# stats.timers.read_latency.mean_99 2142.242424 1679254292
# stats.timers.read_latency.mean_95 2109.610526 1679254292
# stats.timers.read_latency.count_99 99.000000 1679254292
# stats.timers.read_latency.sum 215046.000000 1679254292
# stats.timers.read_latency.count 100.000000 1679254292
# stats.timers.read_latency.mean_98 2133.938776 1679254292
# stats.timers.read_latency.upper_98 2924.000000 1679254292
# stats.timers.read_latency.sum_squares_95 453971579.000000 1679254292
# stats.timers.read_latency.count_98 98.000000 1679254292
# stats.timers.read_latency.sum_98 209126.000000 1679254292
# stats.timers.read_latency.sum_99 212082.000000 1679254292
# stats.timers.read_latency.upper 2964.000000 1679254292
# stats.timers.read_latency.median 2270.000000 1679254292
# stats.timers.read_latency.upper_99 2956.000000 1679254292
# stats.timers.read_latency.sum_squares_98 479279128.000000 1679254292
# stats.statsd.numStats 3 1679254292
# stats.statsd.graphiteStats.calculationtime 0.074000 1679254292
# stats.statsd.processing_time 0.187 1679254292
# stats.statsd.graphiteStats.last_exception 94591835541104 1679254292
# stats.statsd.graphiteStats.last_flush 94591835541104 1679254292
t/integration-tests/percent-threshold.t .... ok
2023-03-19 19:31:32.000000 +0000 note  Net::Statsd::Server: Initializing Net::Statsd::Server::Backend::Console backend
2023-03-19 19:31:32.000000 +0000 note  Net::Statsd::Server: Initializing Net::Statsd::Server::Backend::Graphite backend
2023-03-19 19:31:32.000000 +0000 info  AnyEvent: Autoloaded model 'AnyEvent::Impl::EV', using it.
2023-03-19 19:31:32.678755 +0000 note  Net::Statsd::Server: statsd server started on 0.0.0.0:40001 (v0.17)
2023-03-19 19:31:32.678790 +0000 note  Net::Statsd::Server: manager interface started on 0.0.0.0:40002
2023-03-19 19:31:32.678818 +0000 note  Net::Statsd::Server: metrics flush will happen every 1s
2023-03-19 19:31:33.680882 +0000 note  Net::Statsd::Server: flushing metrics
Flushing stats at Sun Mar 19 19:31:33 2023
{"counter_rates":{"statsd.packets_received":1,"statsd.bad_lines_seen":0},"timer_data":{"a_test_value":{"sum_90":"100","count_ps":1,"mean":100,"sum_squares":10000,"count":1,"lower":"100","std":0,"count_90":1,"sum_squares_90":10000,"upper_90":"100","upper":"100","sum":"100","mean_90":"100","median":"100"}},"gauges":{},"timers":{"a_test_value":["100"]},"counters":{"statsd.bad_lines_seen":0,"statsd.packets_received":1},"pctThreshold":["90"],"sets":null}
# stats.counters.statsd.bad_lines_seen.rate 0.000000 1679254293
# stats.counters.statsd.bad_lines_seen.count 0 1679254293
# stats.counters.statsd.packets_received.rate 1.000000 1679254293
# stats.counters.statsd.packets_received.count 1 1679254293
# stats.timers.a_test_value.sum_90 100.000000 1679254293
# stats.timers.a_test_value.count_ps 1.000000 1679254293
# stats.timers.a_test_value.mean 100.000000 1679254293
# stats.timers.a_test_value.sum_squares 10000.000000 1679254293
# stats.timers.a_test_value.count 1.000000 1679254293
# stats.timers.a_test_value.lower 100.000000 1679254293
# stats.timers.a_test_value.std 0.000000 1679254293
# stats.timers.a_test_value.count_90 1.000000 1679254293
# stats.timers.a_test_value.sum_squares_90 10000.000000 1679254293
# stats.timers.a_test_value.upper_90 100.000000 1679254293
# stats.timers.a_test_value.upper 100.000000 1679254293
# stats.timers.a_test_value.sum 100.000000 1679254293
# stats.timers.a_test_value.mean_90 100.000000 1679254293
# stats.timers.a_test_value.median 100.000000 1679254293
# stats.statsd.numStats 3 1679254293
# stats.statsd.graphiteStats.calculationtime 0.061000 1679254293
# stats.statsd.processing_time 0.045 1679254293
# stats.statsd.graphiteStats.last_exception 94515463016048 1679254293
# stats.statsd.graphiteStats.last_flush 94515463016048 1679254293
t/integration-tests/timers-are-valid.t ..... ok
t/process-metrics.t ........................ ok
t/trim.t ................................... ok
All tests successful.
Files=12, Tests=92, 11 wallclock secs ( 0.02 usr  0.03 sys +  1.16 cusr  0.30 csys =  1.51 CPU)
Result: PASS

------------------------------
PREREQUISITES
------------------------------

Prerequisite modules loaded:

requires:

    Module                Need Have    
    --------------------- ---- --------
    AnyEvent::Handle::UDP 0    0.050   
    IO::Socket::INET      0    1.51    
    JSON::XS              0    4.03    

build_requires:

    Module                Need Have    
    --------------------- ---- --------
    ExtUtils::MakeMaker   0    7.68    
    Test::More            0    1.302192

configure_requires:

    Module                Need Have    
    --------------------- ---- --------
    ExtUtils::MakeMaker   0    7.68    


------------------------------
ENVIRONMENT AND OTHER CONTEXT
------------------------------

Environment variables:

    AUTOMATED_TESTING = 1
    LANG = en_US.UTF-8
    LC_ADDRESS = de_DE.UTF-8
    LC_IDENTIFICATION = de_DE.UTF-8
    LC_MEASUREMENT = de_DE.UTF-8
    LC_MONETARY = de_DE.UTF-8
    LC_NAME = de_DE.UTF-8
    LC_NUMERIC = de_DE.UTF-8
    LC_PAPER = de_DE.UTF-8
    LC_TELEPHONE = de_DE.UTF-8
    LC_TIME = de_DE.UTF-8
    PATH = /home/sand/bin:/usr/local/bin:/usr/local/sbin:/usr/sbin:/usr/bin:/sbin:/bin:/usr/games:/usr/local/games:/snap/bin:/usr/local/perl/bin:/usr/X11/bin
    PERL5LIB = /tmp/loop_over_bdir-27709-MhZV1C/App-rmcd-0.280-0/blib/arch:/tmp/loop_over_bdir-27709-MhZV1C/App-rmcd-0.280-0/blib/lib:/tmp/loop_over_bdir-27709-MhZV1C/App-nrun-v1.1.2-0/blib/arch:/tmp/loop_over_bdir-27709-MhZV1C/App-nrun-v1.1.2-0/blib/lib:/tmp/loop_over_bdir-27709-MhZV1C/Device-Kiln-0.03-0/blib/arch:/tmp/loop_over_bdir-27709-MhZV1C/Device-Kiln-0.03-0/blib/lib:/tmp/loop_over_bdir-27709-MhZV1C/downsexta-0/blib/arch:/tmp/loop_over_bdir-27709-MhZV1C/downsexta-0/blib/lib:/tmp/loop_over_bdir-27709-MhZV1C/Dpkg-1.21.19-0/blib/arch:/tmp/loop_over_bdir-27709-MhZV1C/Dpkg-1.21.19-0/blib/lib:/tmp/loop_over_bdir-27709-MhZV1C/dta-tokwrap-0.98-0/blib/arch:/tmp/loop_over_bdir-27709-MhZV1C/dta-tokwrap-0.98-0/blib/lib:/tmp/loop_over_bdir-27709-MhZV1C/MP3-PodcastFetch-1.05-0/blib/arch:/tmp/loop_over_bdir-27709-MhZV1C/MP3-PodcastFetch-1.05-0/blib/lib:/tmp/loop_over_bdir-27709-MhZV1C/triceps-2.1.0-0/blib/arch:/tmp/loop_over_bdir-27709-MhZV1C/triceps-2.1.0-0/blib/lib:/tmp/loop_over_bdir-27709-MhZV1C/RackMan-1.19-0/blib/arch:/tmp/loop_over_bdir-27709-MhZV1C/RackMan-1.19-0/blib/lib:/tmp/loop_over_bdir-27709-MhZV1C/CORBA-Python-2.66-0/blib/arch:/tmp/loop_over_bdir-27709-MhZV1C/CORBA-Python-2.66-0/blib/lib:/tmp/loop_over_bdir-27709-MhZV1C/makepp-1.19-0/blib/arch:/tmp/loop_over_bdir-27709-MhZV1C/makepp-1.19-0/blib/lib:/tmp/loop_over_bdir-27709-MhZV1C/Linux-InitFS-0.2-0/blib/arch:/tmp/loop_over_bdir-27709-MhZV1C/Linux-InitFS-0.2-0/blib/lib:/tmp/loop_over_bdir-27709-MhZV1C/Business-Shipping-DataFiles-1.02-0/blib/arch:/tmp/loop_over_bdir-27709-MhZV1C/Business-Shipping-DataFiles-1.02-0/blib/lib:/tmp/loop_over_bdir-27709-MhZV1C/Lingua-BioYaTeA-0.11-0/blib/arch:/tmp/loop_over_bdir-27709-MhZV1C/Lingua-BioYaTeA-0.11-0/blib/lib:/tmp/loop_over_bdir-27709-MhZV1C/Lingua-YaTeA-0.626-0/blib/arch:/tmp/loop_over_bdir-27709-MhZV1C/Lingua-YaTeA-0.626-0/blib/lib:/tmp/loop_over_bdir-27709-MhZV1C/Devel-Required-0.16-0/blib/arch:/tmp/loop_over_bdir-27709-MhZV1C/Devel-Required-0.16-0/blib/lib
    PERL5OPT = 
    PERL5_CPANPLUS_IS_RUNNING = 27842
    PERL5_CPAN_IS_RUNNING = 27842
    PERL_CANARY_STABILITY_NOPROMPT = 1
    PERL_MM_USE_DEFAULT = 1
    PERL_USE_UNSAFE_INC = 1
    SHELL = /usr/bin/zsh
    TERM = screen

Perl special variables (and OS-specific diagnostics, for MSWin32):

    $^X = /tmp/basesmoker-reloperl-ABxO/bin/perl
    $UID/$EUID = 1005 / 1005
    $GID = 1005 1005
    $EGID = 1005 1005

Perl module toolchain versions installed:

    Module              Have    
    ------------------- --------
    CPAN                2.34    
    CPAN::Meta          2.150010
    Cwd                 3.88    
    ExtUtils::CBuilder  0.280238
    ExtUtils::Command   7.68    
    ExtUtils::Install   2.22    
    ExtUtils::MakeMaker 7.68    
    ExtUtils::Manifest  1.73    
    ExtUtils::ParseXS   3.49    
    File::Spec          3.88    
    JSON                4.10    
    JSON::PP            4.16    
    Module::Build       0.4232  
    Module::Signature   0.88    
    Parse::CPAN::Meta   2.150010
    Test::Harness       3.44    
    Test::More          1.302192
    YAML                1.30    
    YAML::Syck          1.34    
    version             0.9929  


--

Summary of my perl5 (revision 5 version 37 subversion 9) configuration:
  Commit id: 692cfdb0a41902b1e4fd4d934426ef95c2b4b694
  Platform:
    osname=linux
    osvers=5.19.0-32-generic
    archname=x86_64-linux-thread-multi-ld
    uname='linux k93jammy 5.19.0-32-generic #33~22.04.1-ubuntu smp preempt_dynamic mon jan 30 17:03:34 utc 2 x86_64 x86_64 x86_64 gnulinux '
    config_args='-Dprefix=/home/sand/src/perl/repoperls/installed-perls/host/k93jammy/v5.37.9/322f -Dmyhostname=k93jammy -Dinstallusrbinperl=n -Uversiononly -Dusedevel -des -Ui_db -Dlibswanted=cl pthread socket inet nsl gdbm dbm malloc dl ld sun m crypt sec util c cposix posix ucb BSD gdbm_compat -Duseithreads -Duselongdouble -DEBUGGING=-g'
    hint=recommended
    useposix=true
    d_sigaction=define
    useithreads=define
    usemultiplicity=define
    use64bitint=define
    use64bitall=define
    uselongdouble=define
    usemymalloc=n
    default_inc_excludes_dot=define
  Compiler:
    cc='cc'
    ccflags ='-D_REENTRANT -D_GNU_SOURCE -fwrapv -fno-strict-aliasing -pipe -fstack-protector-strong -I/usr/local/include -D_LARGEFILE_SOURCE -D_FILE_OFFSET_BITS=64'
    optimize='-O2 -g'
    cppflags='-D_REENTRANT -D_GNU_SOURCE -fwrapv -fno-strict-aliasing -pipe -fstack-protector-strong -I/usr/local/include'
    ccversion=''
    gccversion='11.3.0'
    gccosandvers=''
    intsize=4
    longsize=8
    ptrsize=8
    doublesize=8
    byteorder=12345678
    doublekind=3
    d_longlong=define
    longlongsize=8
    d_longdbl=define
    longdblsize=16
    longdblkind=3
    ivtype='long'
    ivsize=8
    nvtype='long double'
    nvsize=16
    Off_t='off_t'
    lseeksize=8
    alignbytes=16
    prototype=define
  Linker and Libraries:
    ld='cc'
    ldflags =' -fstack-protector-strong -L/usr/local/lib'
    libpth=/usr/local/lib /usr/lib/x86_64-linux-gnu /usr/lib /usr/lib64
    libs=-lpthread -lnsl -ldl -lm -lcrypt -lutil -lc
    perllibs=-lpthread -lnsl -ldl -lm -lcrypt -lutil -lc
    libc=/lib/x86_64-linux-gnu/libc.so.6
    so=so
    useshrplib=false
    libperl=libperl.a
    gnulibc_version='2.35'
  Dynamic Linking:
    dlsrc=dl_dlopen.xs
    dlext=so
    d_dlsymun=undef
    ccdlflags='-Wl,-E'
    cccdlflags='-fPIC'
    lddlflags='-shared -O2 -g -L/usr/local/lib -fstack-protector-strong'


Characteristics of this binary (from libperl): 
  Compile-time options:
    HAS_TIMES
    MULTIPLICITY
    PERLIO_LAYERS
    PERL_COPY_ON_WRITE
    PERL_DONT_CREATE_GVSV
    PERL_HASH_FUNC_SIPHASH13
    PERL_HASH_USE_SBOX32
    PERL_MALLOC_WRAP
    PERL_OP_PARENT
    PERL_PRESERVE_IVUV
    PERL_USE_DEVEL
    PERL_USE_SAFE_PUTENV
    USE_64_BIT_ALL
    USE_64_BIT_INT
    USE_ITHREADS
    USE_LARGE_FILES
    USE_LOCALE
    USE_LOCALE_COLLATE
    USE_LOCALE_CTYPE
    USE_LOCALE_NUMERIC
    USE_LOCALE_TIME
    USE_LONG_DOUBLE
    USE_PERLIO
    USE_PERL_ATOF
    USE_REENTRANT_API
    USE_THREAD_SAFE_LOCALE
  Built under linux
  Compiled at Mar  5 2023 17:52:58
  %ENV:
    PERL5LIB="/tmp/loop_over_bdir-27709-MhZV1C/App-rmcd-0.280-0/blib/arch:/tmp/loop_over_bdir-27709-MhZV1C/App-rmcd-0.280-0/blib/lib:/tmp/loop_over_bdir-27709-MhZV1C/App-nrun-v1.1.2-0/blib/arch:/tmp/loop_over_bdir-27709-MhZV1C/App-nrun-v1.1.2-0/blib/lib:/tmp/loop_over_bdir-27709-MhZV1C/Device-Kiln-0.03-0/blib/arch:/tmp/loop_over_bdir-27709-MhZV1C/Device-Kiln-0.03-0/blib/lib:/tmp/loop_over_bdir-27709-MhZV1C/downsexta-0/blib/arch:/tmp/loop_over_bdir-27709-MhZV1C/downsexta-0/blib/lib:/tmp/loop_over_bdir-27709-MhZV1C/Dpkg-1.21.19-0/blib/arch:/tmp/loop_over_bdir-27709-MhZV1C/Dpkg-1.21.19-0/blib/lib:/tmp/loop_over_bdir-27709-MhZV1C/dta-tokwrap-0.98-0/blib/arch:/tmp/loop_over_bdir-27709-MhZV1C/dta-tokwrap-0.98-0/blib/lib:/tmp/loop_over_bdir-27709-MhZV1C/MP3-PodcastFetch-1.05-0/blib/arch:/tmp/loop_over_bdir-27709-MhZV1C/MP3-PodcastFetch-1.05-0/blib/lib:/tmp/loop_over_bdir-27709-MhZV1C/triceps-2.1.0-0/blib/arch:/tmp/loop_over_bdir-27709-MhZV1C/triceps-2.1.0-0/blib/lib:/tmp/loop_over_bdir-27709-MhZV1C/RackMan-1.19-0/blib/arch:/tmp/loop_over_bdir-27709-MhZV1C/RackMan-1.19-0/blib/lib:/tmp/loop_over_bdir-27709-MhZV1C/CORBA-Python-2.66-0/blib/arch:/tmp/loop_over_bdir-27709-MhZV1C/CORBA-Python-2.66-0/blib/lib:/tmp/loop_over_bdir-27709-MhZV1C/makepp-1.19-0/blib/arch:/tmp/loop_over_bdir-27709-MhZV1C/makepp-1.19-0/blib/lib:/tmp/loop_over_bdir-27709-MhZV1C/Linux-InitFS-0.2-0/blib/arch:/tmp/loop_over_bdir-27709-MhZV1C/Linux-InitFS-0.2-0/blib/lib:/tmp/loop_over_bdir-27709-MhZV1C/Business-Shipping-DataFiles-1.02-0/blib/arch:/tmp/loop_over_bdir-27709-MhZV1C/Business-Shipping-DataFiles-1.02-0/blib/lib:/tmp/loop_over_bdir-27709-MhZV1C/Lingua-BioYaTeA-0.11-0/blib/arch:/tmp/loop_over_bdir-27709-MhZV1C/Lingua-BioYaTeA-0.11-0/blib/lib:/tmp/loop_over_bdir-27709-MhZV1C/Lingua-YaTeA-0.626-0/blib/arch:/tmp/loop_over_bdir-27709-MhZV1C/Lingua-YaTeA-0.626-0/blib/lib:/tmp/loop_over_bdir-27709-MhZV1C/Devel-Required-0.16-0/blib/arch:/tmp/loop_over_bdir-27709-MhZV1C/Devel-Required-0.16-0/blib/lib"
    PERL5OPT=""
    PERL5_CPANPLUS_IS_RUNNING="27842"
    PERL5_CPAN_IS_RUNNING="27842"
    PERL_CANARY_STABILITY_NOPROMPT="1"
    PERL_MM_USE_DEFAULT="1"
    PERL_USE_UNSAFE_INC="1"
  @INC:
    /tmp/loop_over_bdir-27709-MhZV1C/App-rmcd-0.280-0/blib/arch
    /tmp/loop_over_bdir-27709-MhZV1C/App-rmcd-0.280-0/blib/lib
    /tmp/loop_over_bdir-27709-MhZV1C/App-nrun-v1.1.2-0/blib/arch
    /tmp/loop_over_bdir-27709-MhZV1C/App-nrun-v1.1.2-0/blib/lib
    /tmp/loop_over_bdir-27709-MhZV1C/Device-Kiln-0.03-0/blib/arch
    /tmp/loop_over_bdir-27709-MhZV1C/Device-Kiln-0.03-0/blib/lib
    /tmp/loop_over_bdir-27709-MhZV1C/downsexta-0/blib/arch
    /tmp/loop_over_bdir-27709-MhZV1C/downsexta-0/blib/lib
    /tmp/loop_over_bdir-27709-MhZV1C/Dpkg-1.21.19-0/blib/arch
    /tmp/loop_over_bdir-27709-MhZV1C/Dpkg-1.21.19-0/blib/lib
    /tmp/loop_over_bdir-27709-MhZV1C/dta-tokwrap-0.98-0/blib/arch
    /tmp/loop_over_bdir-27709-MhZV1C/dta-tokwrap-0.98-0/blib/lib
    /tmp/loop_over_bdir-27709-MhZV1C/MP3-PodcastFetch-1.05-0/blib/arch
    /tmp/loop_over_bdir-27709-MhZV1C/MP3-PodcastFetch-1.05-0/blib/lib
    /tmp/loop_over_bdir-27709-MhZV1C/triceps-2.1.0-0/blib/arch
    /tmp/loop_over_bdir-27709-MhZV1C/triceps-2.1.0-0/blib/lib
    /tmp/loop_over_bdir-27709-MhZV1C/RackMan-1.19-0/blib/arch
    /tmp/loop_over_bdir-27709-MhZV1C/RackMan-1.19-0/blib/lib
    /tmp/loop_over_bdir-27709-MhZV1C/CORBA-Python-2.66-0/blib/arch
    /tmp/loop_over_bdir-27709-MhZV1C/CORBA-Python-2.66-0/blib/lib
    /tmp/loop_over_bdir-27709-MhZV1C/makepp-1.19-0/blib/arch
    /tmp/loop_over_bdir-27709-MhZV1C/makepp-1.19-0/blib/lib
    /tmp/loop_over_bdir-27709-MhZV1C/Linux-InitFS-0.2-0/blib/arch
    /tmp/loop_over_bdir-27709-MhZV1C/Linux-InitFS-0.2-0/blib/lib
    /tmp/loop_over_bdir-27709-MhZV1C/Business-Shipping-DataFiles-1.02-0/blib/arch
    /tmp/loop_over_bdir-27709-MhZV1C/Business-Shipping-DataFiles-1.02-0/blib/lib
    /tmp/loop_over_bdir-27709-MhZV1C/Lingua-BioYaTeA-0.11-0/blib/arch
    /tmp/loop_over_bdir-27709-MhZV1C/Lingua-BioYaTeA-0.11-0/blib/lib
    /tmp/loop_over_bdir-27709-MhZV1C/Lingua-YaTeA-0.626-0/blib/arch
    /tmp/loop_over_bdir-27709-MhZV1C/Lingua-YaTeA-0.626-0/blib/lib
    /tmp/loop_over_bdir-27709-MhZV1C/Devel-Required-0.16-0/blib/arch
    /tmp/loop_over_bdir-27709-MhZV1C/Devel-Required-0.16-0/blib/lib
    /home/sand/src/perl/repoperls/installed-perls/host/k93jammy/v5.37.9/322f/lib/site_perl/5.37.9/x86_64-linux-thread-multi-ld
    /home/sand/src/perl/repoperls/installed-perls/host/k93jammy/v5.37.9/322f/lib/site_perl/5.37.9
    /home/sand/src/perl/repoperls/installed-perls/host/k93jammy/v5.37.9/322f/lib/5.37.9/x86_64-linux-thread-multi-ld
    /home/sand/src/perl/repoperls/installed-perls/host/k93jammy/v5.37.9/322f/lib/5.37.9
    .