File-Remove v1.57 Perl 5 v5.24.4 amd64-freebsd

Status
Pass
From
Nigel Horne
Dist
File-Remove v1.57
Platform
Perl 5 v5.24.4 amd64-freebsd
Date
2018-09-27 17:52:32
ID
1c323c7c-c27e-11e8-8fb1-ef5133556b3f
This distribution has been tested as part of the CPAN Testers
project, supporting the Perl programming language.  See
http://wiki.cpantesters.org/ for more information or email
questions to cpan-testers-discuss@perl.org


--
Dear Shlomi Fish,

This is a computer-generated report for File-Remove-1.57
on perl 5.24.4, created by CPAN-Reporter-1.2018.

Thank you for uploading your work to CPAN.  Congratulations!
All tests were successful.

Sections of this report:

    * Tester comments
    * Program output
    * Prerequisites
    * Environment and other context

------------------------------
TESTER COMMENTS
------------------------------

Additional comments from tester:

this report is from an automated smoke testing program
and was not reviewed by a human for accuracy

------------------------------
PROGRAM OUTPUT
------------------------------

Output from '/usr/bin/make test':

PERL_DL_NONLAZY=1 "/mnt/nas/home/netgate3/njh/perl5/perlbrew/perls/perl-5.24.4/bin/perl" "-MExtUtils::Command::MM" "-MTest::Harness" "-e" "undef *Test::Harness::Switches; test_harness(0, 'blib/lib', 'blib/arch')" t/*.t
t/01_compile.t .............. ok
t/00-compile.t .............. ok
t/03_deep_readonly.t ........ ok
t/02_directories.t .......... ok
t/04_can_delete.t ........... ok
t/05_links.t ................ ok
t/06_curly.t ................ ok
t/07_cwd.t .................. ok
t/08_spaces.t ............... ok
t/10_noglob.t ............... ok
t/author-pod-coverage.t ..... skipped: these tests are for testing by the author
t/author-pod-syntax.t ....... skipped: these tests are for testing by the author
t/release-cpan-changes.t .... skipped: these tests are for release candidate testing
t/release-kwalitee.t ........ skipped: these tests are for release candidate testing
t/release-trailing-space.t .. skipped: these tests are for release candidate testing
t/09_fork.t ................. ok
All tests successful.
Files=16, Tests=222,  7 wallclock secs ( 0.28 usr  0.12 sys +  5.54 cusr  3.36 csys =  9.30 CPU)
Result: PASS

------------------------------
PREREQUISITES
------------------------------

Prerequisite modules loaded:

requires:

    Module                Need  Have    
    --------------------- ----- --------
    constant              0     1.33    
    Cwd                   3.29  3.63_01 
    File::Glob            0     1.26    
    File::Path            0     2.16    
    File::Spec            3.29  3.63_01 
    perl                  5.006 5.024004
    strict                0     1.11    
    vars                  0     1.03    
    warnings              0     1.36    

build_requires:

    Module                Need  Have    
    --------------------- ----- --------
    blib                  1.01  1.06    
    ExtUtils::MakeMaker   0     7.34    
    File::Copy            0     2.31    
    File::Spec            3.29  3.63_01 
    File::Spec::Functions 0     3.63_01 
    File::Temp            0     0.2308  
    IO::Handle            0     1.39    
    IPC::Open3            0     1.20    
    Test::More            0     1.302140

configure_requires:

    Module                Need  Have    
    --------------------- ----- --------
    ExtUtils::MakeMaker   0     7.34    


------------------------------
ENVIRONMENT AND OTHER CONTEXT
------------------------------

Environment variables:

    AUTOMATED_TESTING = 1
    HARNESS_OPTIONS = j2
    NONINTERACTIVE_TESTING = 1
    PATH = /home/njh/perl5/perlbrew/bin:/home/njh/perl5/perlbrew/perls/perl-5.24.4/bin:/home/njh/src/njh/smoker/bin:/sbin:/bin:/usr/sbin:/usr/bin:/usr/local/sbin:/usr/local/bin
    PERL5LIB = /var/tmp/build/Clone-0.39-2/blib/arch:/var/tmp/build/Clone-0.39-2/blib/lib:/var/tmp/build/Class-Inspector-1.32-2/blib/arch:/var/tmp/build/Class-Inspector-1.32-2/blib/lib:/var/tmp/build/Module-Pluggable-5.2-2/blib/arch:/var/tmp/build/Module-Pluggable-5.2-2/blib/lib:/var/tmp/build/List-MoreUtils-0.428-2/blib/arch:/var/tmp/build/List-MoreUtils-0.428-2/blib/lib:/var/tmp/build/Test-LeakTrace-0.16-2/blib/arch:/var/tmp/build/Test-LeakTrace-0.16-2/blib/lib:/var/tmp/build/List-MoreUtils-XS-0.428-2/blib/arch:/var/tmp/build/List-MoreUtils-XS-0.428-2/blib/lib:/var/tmp/build/Exporter-Tiny-1.002001-2/blib/arch:/var/tmp/build/Exporter-Tiny-1.002001-2/blib/lib:/var/tmp/build/IO-String-1.08-2/blib/arch:/var/tmp/build/IO-String-1.08-2/blib/lib:/var/tmp/build/Exception-Class-1.44-2/blib/arch:/var/tmp/build/Exception-Class-1.44-2/blib/lib:/var/tmp/build/Devel-StackTrace-2.03-2/blib/arch:/var/tmp/build/Devel-StackTrace-2.03-2/blib/lib:/var/tmp/build/Class-Data-Inheritable-0.08-2/blib/arch:/var/tmp/build/Class-Data-Inheritable-0.08-2/blib/lib:/var/tmp/build/B-Keywords-1.19-2/blib/arch:/var/tmp/build/B-Keywords-1.19-2/blib/lib
    PERL5OPT = 
    PERL5_CPANPLUS_IS_RUNNING = 13722
    PERL5_CPAN_IS_RUNNING = 13722
    PERLBREW_HOME = /home/njh/.perlbrew
    PERLBREW_MANPATH = /home/njh/perl5/perlbrew/perls/perl-5.24.4/man
    PERLBREW_PATH = /home/njh/perl5/perlbrew/bin:/home/njh/perl5/perlbrew/perls/perl-5.24.4/bin
    PERLBREW_PERL = perl-5.24.4
    PERLBREW_ROOT = /home/njh/perl5/perlbrew
    PERLBREW_SHELLRC_VERSION = 0.84
    PERLBREW_VERSION = 0.84
    PERL_MM_USE_DEFAULT = 1
    SHELL = /bin/sh
    TMPDIR = /tmp/testwrapper.8809

Perl special variables (and OS-specific diagnostics, for MSWin32):

    $^X = /mnt/nas/home/netgate3/njh/perl5/perlbrew/perls/perl-5.24.4/bin/perl
    $UID/$EUID = 1000 / 1000
    $GID = 1000 1000 0
    $EGID = 1000 1000 0

Perl module toolchain versions installed:

    Module              Have    
    ------------------- --------
    CPAN                2.16    
    CPAN::Meta          2.150010
    Cwd                 3.63_01 
    ExtUtils::CBuilder  0.280230
    ExtUtils::Command   7.34    
    ExtUtils::Install   2.14    
    ExtUtils::MakeMaker 7.34    
    ExtUtils::Manifest  1.71    
    ExtUtils::ParseXS   3.35    
    File::Spec          3.63_01 
    JSON                2.97001 
    JSON::PP            2.97001 
    Module::Build       0.4224  
    Module::Signature   n/a     
    Parse::CPAN::Meta   2.150010
    Test::Harness       3.42    
    Test::More          1.302140
    YAML                1.26    
    YAML::Syck          1.30    
    version             0.9924  


--

Summary of my perl5 (revision 5 version 24 subversion 4) configuration:
   
  Platform:
    osname=freebsd, osvers=11.2-release, archname=amd64-freebsd
    uname='freebsd netgate3 11.2-release freebsd 11.2-release #0 r335510: fri jun 22 04:32:14 utc 2018 root@releng2.nyi.freebsd.org:usrobjusrsrcsysgeneric amd64 '
    config_args='-de -Dprefix=/home/njh/perl5/perlbrew/perls/perl-5.24.4 -Aeval:scriptdir=/home/njh/perl5/perlbrew/perls/perl-5.24.4/bin'
    hint=recommended, useposix=true, d_sigaction=define
    useithreads=undef, usemultiplicity=undef
    use64bitint=define, use64bitall=define, uselongdouble=undef
    usemymalloc=n, bincompat5005=undef
  Compiler:
    cc='cc', ccflags ='-DHAS_FPSETMASK -DHAS_FLOATINGPOINT_H -fno-strict-aliasing -pipe -fstack-protector-strong -I/usr/local/include -D_FORTIFY_SOURCE=2',
    optimize='-O2',
    cppflags='-DHAS_FPSETMASK -DHAS_FLOATINGPOINT_H -fno-strict-aliasing -pipe -fstack-protector-strong -I/usr/local/include'
    ccversion='', gccversion='4.2.1 Compatible FreeBSD Clang 6.0.0 (tags/RELEASE_600/final 326565)', gccosandvers=''
    intsize=4, longsize=8, ptrsize=8, doublesize=8, byteorder=12345678, doublekind=3
    d_longlong=define, longlongsize=8, d_longdbl=define, longdblsize=16, longdblkind=3
    ivtype='long', ivsize=8, nvtype='double', nvsize=8, Off_t='off_t', lseeksize=8
    alignbytes=8, prototype=define
  Linker and Libraries:
    ld='cc', ldflags ='-Wl,-E  -fstack-protector-strong -L/usr/local/lib'
    libpth=/usr/lib /usr/local/lib /usr/lib/clang/6.0.0/lib /usr/lib
    libs=-lpthread -ldl -lm -lcrypt -lutil -lc
    perllibs=-lpthread -ldl -lm -lcrypt -lutil -lc
    libc=, so=so, useshrplib=false, libperl=libperl.a
    gnulibc_version=''
  Dynamic Linking:
    dlsrc=dl_dlopen.xs, dlext=so, d_dlsymun=undef, ccdlflags=' '
    cccdlflags='-DPIC -fPIC', lddlflags='-shared  -L/usr/local/lib -fstack-protector-strong'


Characteristics of this binary (from libperl): 
  Compile-time options: HAS_TIMES PERLIO_LAYERS PERL_COPY_ON_WRITE
                        PERL_DONT_CREATE_GVSV
                        PERL_HASH_FUNC_ONE_AT_A_TIME_HARD PERL_MALLOC_WRAP
                        PERL_PRESERVE_IVUV USE_64_BIT_ALL USE_64_BIT_INT
                        USE_LARGE_FILES USE_LOCALE USE_LOCALE_COLLATE
                        USE_LOCALE_CTYPE USE_LOCALE_NUMERIC USE_LOCALE_TIME
                        USE_PERLIO USE_PERL_ATOF
  Locally applied patches:
	Devel::PatchPerl 1.52
  Built under freebsd
  Compiled at Sep  8 2018 23:04:38
  %ENV:
    PERL5LIB="/var/tmp/build/Clone-0.39-2/blib/arch:/var/tmp/build/Clone-0.39-2/blib/lib:/var/tmp/build/Class-Inspector-1.32-2/blib/arch:/var/tmp/build/Class-Inspector-1.32-2/blib/lib:/var/tmp/build/Module-Pluggable-5.2-2/blib/arch:/var/tmp/build/Module-Pluggable-5.2-2/blib/lib:/var/tmp/build/List-MoreUtils-0.428-2/blib/arch:/var/tmp/build/List-MoreUtils-0.428-2/blib/lib:/var/tmp/build/Test-LeakTrace-0.16-2/blib/arch:/var/tmp/build/Test-LeakTrace-0.16-2/blib/lib:/var/tmp/build/List-MoreUtils-XS-0.428-2/blib/arch:/var/tmp/build/List-MoreUtils-XS-0.428-2/blib/lib:/var/tmp/build/Exporter-Tiny-1.002001-2/blib/arch:/var/tmp/build/Exporter-Tiny-1.002001-2/blib/lib:/var/tmp/build/IO-String-1.08-2/blib/arch:/var/tmp/build/IO-String-1.08-2/blib/lib:/var/tmp/build/Exception-Class-1.44-2/blib/arch:/var/tmp/build/Exception-Class-1.44-2/blib/lib:/var/tmp/build/Devel-StackTrace-2.03-2/blib/arch:/var/tmp/build/Devel-StackTrace-2.03-2/blib/lib:/var/tmp/build/Class-Data-Inheritable-0.08-2/blib/arch:/var/tmp/build/Class-Data-Inheritable-0.08-2/blib/lib:/var/tmp/build/B-Keywords-1.19-2/blib/arch:/var/tmp/build/B-Keywords-1.19-2/blib/lib"
    PERL5OPT=""
    PERL5_CPANPLUS_IS_RUNNING="13722"
    PERL5_CPAN_IS_RUNNING="13722"
    PERLBREW_HOME="/home/njh/.perlbrew"
    PERLBREW_MANPATH="/home/njh/perl5/perlbrew/perls/perl-5.24.4/man"
    PERLBREW_PATH="/home/njh/perl5/perlbrew/bin:/home/njh/perl5/perlbrew/perls/perl-5.24.4/bin"
    PERLBREW_PERL="perl-5.24.4"
    PERLBREW_ROOT="/home/njh/perl5/perlbrew"
    PERLBREW_SHELLRC_VERSION="0.84"
    PERLBREW_VERSION="0.84"
    PERL_MM_USE_DEFAULT="1"
  @INC:
    /var/tmp/build/Clone-0.39-2/blib/arch
    /var/tmp/build/Clone-0.39-2/blib/lib
    /var/tmp/build/Class-Inspector-1.32-2/blib/arch
    /var/tmp/build/Class-Inspector-1.32-2/blib/lib
    /var/tmp/build/Module-Pluggable-5.2-2/blib/arch
    /var/tmp/build/Module-Pluggable-5.2-2/blib/lib
    /var/tmp/build/List-MoreUtils-0.428-2/blib/arch
    /var/tmp/build/List-MoreUtils-0.428-2/blib/lib
    /var/tmp/build/Test-LeakTrace-0.16-2/blib/arch
    /var/tmp/build/Test-LeakTrace-0.16-2/blib/lib
    /var/tmp/build/List-MoreUtils-XS-0.428-2/blib/arch
    /var/tmp/build/List-MoreUtils-XS-0.428-2/blib/lib
    /var/tmp/build/Exporter-Tiny-1.002001-2/blib/arch
    /var/tmp/build/Exporter-Tiny-1.002001-2/blib/lib
    /var/tmp/build/IO-String-1.08-2/blib/arch
    /var/tmp/build/IO-String-1.08-2/blib/lib
    /var/tmp/build/Exception-Class-1.44-2/blib/arch
    /var/tmp/build/Exception-Class-1.44-2/blib/lib
    /var/tmp/build/Devel-StackTrace-2.03-2/blib/arch
    /var/tmp/build/Devel-StackTrace-2.03-2/blib/lib
    /var/tmp/build/Class-Data-Inheritable-0.08-2/blib/arch
    /var/tmp/build/Class-Data-Inheritable-0.08-2/blib/lib
    /var/tmp/build/B-Keywords-1.19-2/blib/arch
    /var/tmp/build/B-Keywords-1.19-2/blib/lib
    /home/njh/perl5/perlbrew/perls/perl-5.24.4/lib/site_perl/5.24.4/amd64-freebsd
    /home/njh/perl5/perlbrew/perls/perl-5.24.4/lib/site_perl/5.24.4
    /home/njh/perl5/perlbrew/perls/perl-5.24.4/lib/5.24.4/amd64-freebsd
    /home/njh/perl5/perlbrew/perls/perl-5.24.4/lib/5.24.4
    .