Report for Spreadsheet-Reader-ExcelXML-v0.16.8

Back
From: metabase:user:314402c4-2aae-11df-837a-5e0a49663a4f
Subject: PASS Spreadsheet-Reader-ExcelXML-v0.16.8 v5.24.1 GNU/Linux
Date: 2017-04-20T12:58:54Z

This distribution has been tested as part of the CPAN Testers
project, supporting the Perl programming language.  See
http://wiki.cpantesters.org/ for more information or email
questions to cpan-testers-discuss@perl.org


--
Dear Jed Lund,

This is a computer-generated report for Spreadsheet-Reader-ExcelXML-v0.16.8
on perl 5.24.1, created by CPAN-Reporter-1.2018.

Thank you for uploading your work to CPAN.  Congratulations!
All tests were successful.

Sections of this report:

    * Tester comments
    * Program output
    * Prerequisites
    * Environment and other context

------------------------------
TESTER COMMENTS
------------------------------

Additional comments from tester:

none provided

------------------------------
PROGRAM OUTPUT
------------------------------

Output from '/usr/bin/make test':

PERL_DL_NONLAZY=1 "/opt/perl-5.24.1t/bin/perl" "-MExtUtils::Command::MM" "-MTest::Harness" "-e" "undef *Test::Harness::Switches; test_harness(0, 'blib/lib', 'blib/arch')" t/Spreadsheet/Reader/*.t t/Spreadsheet/Reader/ExcelXML/*.t t/Spreadsheet/Reader/ExcelXML/XMLReader/*.t t/Spreadsheet/Reader/ExcelXML/ZipReader/*.t t/github_issues/*.t
t/github_issues/006-synopsis_use.t .................................... ok
t/github_issues/007-bad_shared_strings.t .............................. ok
t/github_issues/008-unknown_xml_cell_type.t ........................... ok
t/Spreadsheet/Reader/01-excelxml.t .................................... ok
t/Spreadsheet/Reader/02-open_by_worksheet.t ........................... ok
t/Spreadsheet/Reader/03-temp_dir.t .................................... ok
t/Spreadsheet/Reader/04-no_pivot.t .................................... ok
t/Spreadsheet/Reader/05-chart.t ....................................... ok
t/Spreadsheet/Reader/06-stacked_flags.t ............................... ok
t/Spreadsheet/Reader/07-losing_is_hidden.t ............................ ok
t/Spreadsheet/Reader/08-open_spreadsheet_ml_files.t ................... ok
t/Spreadsheet/Reader/09-open_MySQL_data.t ............................. ok
t/Spreadsheet/Reader/10-shared_strings.t .............................. ok
t/Spreadsheet/Reader/11-percent_file.t ................................ ok
t/Spreadsheet/Reader/12-merge_function_alignment.t .................... ok
t/Spreadsheet/Reader/13-hidden_formatting.t ........................... ok
t/Spreadsheet/Reader/14-read_xlsm_feature.t ........................... ok
t/Spreadsheet/Reader/ExcelXML/01-types.t .............................. ok
t/Spreadsheet/Reader/ExcelXML/02-error.t .............................. ok
t/Spreadsheet/Reader/ExcelXML/04-xml_reader.t ......................... ok
t/Spreadsheet/Reader/ExcelXML/05-cell_to_column_row.t ................. ok
t/Spreadsheet/Reader/ExcelXML/06-sharedstrings_interface.t ............ ok
t/Spreadsheet/Reader/ExcelXML/07-styles_interface.t ................... ok
t/Spreadsheet/Reader/ExcelXML/08-cell.t ............................... ok
t/Spreadsheet/Reader/ExcelXML/09-worksheet_to_row.t ................... ok
t/Spreadsheet/Reader/ExcelXML/10-worksheet.t .......................... ok
t/Spreadsheet/Reader/ExcelXML/11-zip_reader.t ......................... ok
t/Spreadsheet/Reader/ExcelXML/12-workbook_file_interface.t ............ ok
t/Spreadsheet/Reader/ExcelXML/13-workbook_integration.t ............... ok
t/Spreadsheet/Reader/ExcelXML/14-empty_sharedstrings.t ................ ok
t/Spreadsheet/Reader/ExcelXML/15-text_in_worksheet.t .................. ok
t/Spreadsheet/Reader/ExcelXML/16-quote_in_style_line.t ................ ok
t/Spreadsheet/Reader/ExcelXML/17-dxfId_handling.t ..................... ok
t/Spreadsheet/Reader/ExcelXML/XMLReader/01-position_shared_strings.t .. ok
t/Spreadsheet/Reader/ExcelXML/XMLReader/02-named_shared_strings.t ..... ok
t/Spreadsheet/Reader/ExcelXML/XMLReader/03-position_styles.t .......... ok
t/Spreadsheet/Reader/ExcelXML/XMLReader/04-named_styles.t ............. ok
t/Spreadsheet/Reader/ExcelXML/XMLReader/05-file_worksheet.t ........... ok
t/Spreadsheet/Reader/ExcelXML/XMLReader/06-named_worksheet.t .......... ok
t/Spreadsheet/Reader/ExcelXML/XMLReader/07-xml_workbook_meta.t ........ ok
t/Spreadsheet/Reader/ExcelXML/XMLReader/08-xml_workbook_rels.t ........ ok
t/Spreadsheet/Reader/ExcelXML/XMLReader/09-xml_workbook_props.t ....... ok
t/Spreadsheet/Reader/ExcelXML/ZipReader/01-zip_workbook_meta.t ........ ok
t/Spreadsheet/Reader/ExcelXML/ZipReader/02-zip_workbook_rels.t ........ ok
t/Spreadsheet/Reader/ExcelXML/ZipReader/03-zip_workbook_props.t ....... ok
All tests successful.
Files=45, Tests=2769, 66 wallclock secs ( 1.42 usr  0.11 sys + 61.37 cusr  3.64 csys = 66.54 CPU)
Result: PASS

------------------------------
PREREQUISITES
------------------------------

Prerequisite modules loaded:

requires:

    Module                                               Need       Have      
    ---------------------------------------------------- ---------- ----------
    Archive::Zip                                         1.30       1.59      
    Capture::Tiny                                        0          0.46      
    Carp                                                 0          1.40      
    Clone                                                0          0.38      
    Data::Dumper                                         0          2.161     
    DateTime::Format::Flexible                           0          0.27      
    DateTimeX::Format::Excel                             0          v0.14.0   
    Encode                                               0          2.88      
    FileHandle                                           0          2.02      
    IO::File                                             0          1.16      
    IO::Handle                                           1.25       1.36      
    lib                                                  0          0.63      
    Modern::Perl                                         1.20150127 1.20170117
    Moose                                                0          2.2004    
    Moose::Role                                          0          2.2004    
    MooseX::HasDefaults::RO                              0          0         
    MooseX::ShortCut::BuildInstance                      1.040      v1.44.2   
    MooseX::StrictConstructor                            0          0.21      
    perl                                                 5.010      5.024001  
    Spreadsheet::Reader::Format                          v0.6.4     v0.6.4    
    Spreadsheet::Reader::Format::FmtDefault              0          v0.6.4    
    Spreadsheet::Reader::Format::ParseExcelFormatStrings 0          v0.6.4    
    strict                                               0          1.11      
    Test::Moose                                          2.1801     2.2004    
    Type::Library                                        1.000      1.000006  
    Type::Utils                                          0          1.000006  
    Types::Standard                                      0          1.000006  
    version                                              0.77       0.9916    
    warnings                                             0          1.36      

build_requires:

    Module                                               Need       Have      
    ---------------------------------------------------- ---------- ----------
    ExtUtils::MakeMaker                                  0          7.24      
    File::Copy                                           0          2.31      
    File::Temp                                           0          0.2304    
    Log::Shiras::Unhide                                  0          v0.48.0   
    Spreadsheet::ParseExcel                              0          0.65      
    Test::Deep                                           0          1.126     
    Test::Moose                                          2.1801     2.2004    
    Test::Most                                           0          0.35      
    Test::TypeTiny                                       0          1.000006  

configure_requires:

    Module                                               Need       Have      
    ---------------------------------------------------- ---------- ----------
    ExtUtils::MakeMaker                                  7.04       7.24      


------------------------------
ENVIRONMENT AND OTHER CONTEXT
------------------------------

Environment variables:

    LANG = en_US.UTF-8
    LANGUAGE = en_US:en
    PATH = /usr/local/bin:/usr/bin:/bin:/usr/local/sbin:/usr/sbin:/sbin:/home/cpansand/bin/linux-gnu:/home/cpansand/bin/sh:/home/cpansand/bin:/usr/games:/home/cpansand/devel:/home/eserte/src/srezic-misc/scripts
    PERL5LIB = /home/cpansand/.cpan/build/2017042012/Spreadsheet-Reader-Format-v0.6.4-GpqhU8/blib/arch:/home/cpansand/.cpan/build/2017042012/Spreadsheet-Reader-Format-v0.6.4-GpqhU8/blib/lib
    PERL5OPT = 
    PERL5_CPANPLUS_IS_RUNNING = 18658
    PERL5_CPAN_IS_RUNNING = 18658
    PERL5_CPAN_IS_RUNNING_IN_RECURSION = 18555,18658
    PERLDOC = -MPod::Perldoc::ToTextOverstrike
    PERL_BATCH = yes
    PERL_CANARY_STABILITY_NOPROMPT = 1
    PERL_CPAN_REPORTER_CONFIG = /var/tmp/cpansmoker-1002/2017042012/cpanreporter_000_config.ini
    PERL_EXTUTILS_AUTOINSTALL = --defaultdeps
    PERL_USE_UNSAFE_INC = 1
    SHELL = /bin/zsh
    TERM = screen
    TMPDIR = /var/tmp/cpansmoker-1002/2017042012

Perl special variables (and OS-specific diagnostics, for MSWin32):

    $^X = /opt/perl-5.24.1t/bin/perl
    $UID/$EUID = 1002 / 1002
    $GID = 1002 1002
    $EGID = 1002 1002

Perl module toolchain versions installed:

    Module              Have      
    ------------------- ----------
    CPAN                2.11_01   
    CPAN::Meta          2.150005  
    Cwd                 3.63_01   
    ExtUtils::CBuilder  0.280225  
    ExtUtils::Command   7.24      
    ExtUtils::Install   2.04      
    ExtUtils::MakeMaker 7.24      
    ExtUtils::Manifest  1.70      
    ExtUtils::ParseXS   3.31      
    File::Spec          3.63_01   
    JSON                2.90      
    JSON::PP            2.27400   
    Module::Build       0.4220    
    Module::Signature   0.81      
    Parse::CPAN::Meta   1.4417_001
    Test::Harness       3.38      
    Test::More          1.302083  
    YAML                1.22      
    YAML::Syck          1.30      
    version             0.9916    


--

Summary of my perl5 (revision 5 version 24 subversion 1) configuration:
   
  Platform:
    osname=linux, osvers=4.8.0-2-amd64, archname=x86_64-linux-thread-multi
    uname='linux prod4 4.8.0-2-amd64 #1 smp debian 4.8.15-2 (2017-01-04) x86_64 gnulinux '
    config_args='-ds -e -Dprefix=/opt/perl-5.24.1t -Dusethreads -Dcf_email=srezic@cpan.org'
    hint=recommended, useposix=true, d_sigaction=define
    useithreads=define, usemultiplicity=define
    use64bitint=define, use64bitall=define, uselongdouble=undef
    usemymalloc=n, bincompat5005=undef
  Compiler:
    cc='cc', ccflags ='-D_REENTRANT -D_GNU_SOURCE -fwrapv -fno-strict-aliasing -pipe -fstack-protector-strong -I/usr/local/include -D_LARGEFILE_SOURCE -D_FILE_OFFSET_BITS=64',
    optimize='-O2',
    cppflags='-D_REENTRANT -D_GNU_SOURCE -fwrapv -fno-strict-aliasing -pipe -fstack-protector-strong -I/usr/local/include'
    ccversion='', gccversion='6.3.0 20170124', gccosandvers=''
    intsize=4, longsize=8, ptrsize=8, doublesize=8, byteorder=12345678, doublekind=3
    d_longlong=define, longlongsize=8, d_longdbl=define, longdblsize=16, longdblkind=3
    ivtype='long', ivsize=8, nvtype='double', nvsize=8, Off_t='off_t', lseeksize=8
    alignbytes=8, prototype=define
  Linker and Libraries:
    ld='cc', ldflags =' -fstack-protector-strong -L/usr/local/lib'
    libpth=/usr/local/lib /usr/lib/gcc/x86_64-linux-gnu/6/include-fixed /usr/include/x86_64-linux-gnu /usr/lib /lib/x86_64-linux-gnu /lib/../lib /usr/lib/x86_64-linux-gnu /usr/lib/../lib /lib
    libs=-lpthread -lnsl -lgdbm -ldb -ldl -lm -lcrypt -lutil -lc -lgdbm_compat
    perllibs=-lpthread -lnsl -ldl -lm -lcrypt -lutil -lc
    libc=libc-2.24.so, so=so, useshrplib=false, libperl=libperl.a
    gnulibc_version='2.24'
  Dynamic Linking:
    dlsrc=dl_dlopen.xs, dlext=so, d_dlsymun=undef, ccdlflags='-Wl,-E'
    cccdlflags='-fPIC', lddlflags='-shared -O2 -L/usr/local/lib -fstack-protector-strong'


Characteristics of this binary (from libperl): 
  Compile-time options: HAS_TIMES MULTIPLICITY PERLIO_LAYERS
                        PERL_COPY_ON_WRITE PERL_DONT_CREATE_GVSV
                        PERL_HASH_FUNC_ONE_AT_A_TIME_HARD
                        PERL_IMPLICIT_CONTEXT PERL_MALLOC_WRAP
                        PERL_PRESERVE_IVUV USE_64_BIT_ALL USE_64_BIT_INT
                        USE_ITHREADS USE_LARGE_FILES USE_LOCALE
                        USE_LOCALE_COLLATE USE_LOCALE_CTYPE
                        USE_LOCALE_NUMERIC USE_LOCALE_TIME USE_PERLIO
                        USE_PERL_ATOF USE_REENTRANT_API
  Built under linux
  Compiled at Feb  9 2017 22:34:23
  %ENV:
    PERL5LIB="/home/cpansand/.cpan/build/2017042012/Spreadsheet-Reader-Format-v0.6.4-GpqhU8/blib/arch:/home/cpansand/.cpan/build/2017042012/Spreadsheet-Reader-Format-v0.6.4-GpqhU8/blib/lib"
    PERL5OPT=""
    PERL5_CPANPLUS_IS_RUNNING="18658"
    PERL5_CPAN_IS_RUNNING="18658"
    PERL5_CPAN_IS_RUNNING_IN_RECURSION="18555,18658"
    PERLDOC="-MPod::Perldoc::ToTextOverstrike"
    PERL_BATCH="yes"
    PERL_CANARY_STABILITY_NOPROMPT="1"
    PERL_CPAN_REPORTER_CONFIG="/var/tmp/cpansmoker-1002/2017042012/cpanreporter_000_config.ini"
    PERL_EXTUTILS_AUTOINSTALL="--defaultdeps"
    PERL_USE_UNSAFE_INC="1"
  @INC:
    /home/cpansand/.cpan/build/2017042012/Spreadsheet-Reader-Format-v0.6.4-GpqhU8/blib/arch
    /home/cpansand/.cpan/build/2017042012/Spreadsheet-Reader-Format-v0.6.4-GpqhU8/blib/lib
    /opt/perl-5.24.1t/lib/site_perl/5.24.1/x86_64-linux-thread-multi
    /opt/perl-5.24.1t/lib/site_perl/5.24.1
    /opt/perl-5.24.1t/lib/5.24.1/x86_64-linux-thread-multi
    /opt/perl-5.24.1t/lib/5.24.1
    .