Catalyst-Controller-ActionRole v0.17 Perl 5 v5.27.6 x86_64-linux

Status
Pass
From
Carlos Guevara
Dist
Catalyst-Controller-ActionRole v0.17
Platform
Perl 5 v5.27.6 x86_64-linux
Date
2017-10-23 04:53:28
ID
1c21c10c-b7ae-11e7-8add-9463a43c42fc
This distribution has been tested as part of the CPAN Testers
project, supporting the Perl programming language.  See
http://wiki.cpantesters.org/ for more information or email
questions to cpan-testers-discuss@perl.org


--
Dear Karen Etheridge,

This is a computer-generated report for Catalyst-Controller-ActionRole-0.17
on perl 5.27.6, created by CPAN-Reporter-1.2018.

Thank you for uploading your work to CPAN.  Congratulations!
All tests were successful.

Sections of this report:

    * Tester comments
    * Program output
    * Prerequisites
    * Environment and other context

------------------------------
TESTER COMMENTS
------------------------------

Additional comments from tester:

none provided

------------------------------
PROGRAM OUTPUT
------------------------------

Output from './Build test':

# 
# Versions for all modules listed in MYMETA.json (including optional ones):
# 
# === Configure Requires ===
# 
#     Module               Want  Have
#     ------------------- ----- -----
#     Module::Build::Tiny 0.039 0.039
# 
# === Test Requires ===
# 
#     Module                 Want     Have
#     ---------------------- ---- --------
#     Catalyst                any  5.90115
#     Catalyst::Action        any    undef
#     Catalyst::Action::REST 0.74     1.20
#     Catalyst::Test          any    undef
#     ExtUtils::MakeMaker     any     7.30
#     File::Spec              any     3.68
#     FindBin                 any     1.51
#     Moose::Role             any   2.2006
#     Test::More              any 1.302103
#     lib                     any     0.64
#     namespace::clean        any     0.27
#     parent                  any    0.236
#     strict                  any     1.11
#     warnings                any     1.37
# 
# === Test Recommends ===
# 
#     Module         Want     Have
#     ---------- -------- --------
#     CPAN::Meta 2.120900 2.150010
# 
# === Runtime Requires ===
# 
#     Module                   Want    Have
#     --------------------- ------- -------
#     Catalyst::Controller      any   undef
#     Catalyst::Runtime     5.80025 5.90115
#     Catalyst::Utils           any   undef
#     Class::Load               any    0.24
#     List::Util                any    1.49
#     Moose                     any  2.2006
#     Moose::Meta::Class        any  2.2006
#     MooseX::Types::Moose      any    0.50
#     String::RewritePrefix   0.004   0.007
#     namespace::autoclean      any    0.28
# 
t/00-report-prereqs.t ..... ok
t/action-class.t .......... ok
t/basic.t ................. ok
t/basic_rest.t ............ ok
t/execution-via-config.t .. ok
t/execution-via-does.t .... ok
All tests successful.
Files=6, Tests=44,  6 wallclock secs ( 0.04 usr  0.02 sys +  4.83 cusr  0.31 csys =  5.20 CPU)
Result: PASS

------------------------------
PREREQUISITES
------------------------------

Prerequisite modules loaded:

requires:

    Module                 Need    Have    
    ---------------------- ------- --------
    Catalyst::Controller   0       0       
    Catalyst::Runtime      5.80025 5.90115 
    Catalyst::Utils        0       0       
    Class::Load            0       0.24    
    List::Util             0       1.49    
    Moose                  0       2.2006  
    Moose::Meta::Class     0       2.2006  
    MooseX::Types::Moose   0       0.50    
    namespace::autoclean   0       0.28    
    perl                   5.006   5.027006
    String::RewritePrefix  0.004   0.007   

build_requires:

    Module                 Need    Have    
    ---------------------- ------- --------
    Catalyst               0       5.90115 
    Catalyst::Action       0       0       
    Catalyst::Action::REST 0.74    1.20    
    Catalyst::Test         0       0       
    ExtUtils::MakeMaker    0       7.30    
    File::Spec             0       3.68    
    FindBin                0       1.51    
    lib                    0       0.64    
    Moose::Role            0       2.2006  
    namespace::clean       0       0.27    
    parent                 0       0.236   
    perl                   5.006   5.027006
    strict                 0       1.11    
    Test::More             0       1.302103
    warnings               0       1.37    

configure_requires:

    Module                 Need    Have    
    ---------------------- ------- --------
    Module::Build::Tiny    0.039   0.039   
    perl                   5.006   5.027006


------------------------------
ENVIRONMENT AND OTHER CONTEXT
------------------------------

Environment variables:

    LANG = en_US.UTF-8
    LC_ALL = C
    NONINTERACTIVE_TESTING = 1
    PATH = /home/cpan/bin/perl-blead/bin:/home/cpan/bin:/usr/local/bin:/usr/bin:/bin:/usr/local/games:/usr/games
    PERL5LIB = 
    PERL5OPT = 
    PERL5_CPANPLUS_IS_RUNNING = 17393
    PERL5_CPAN_IS_RUNNING = 17393
    PERL_MM_USE_DEFAULT = 0
    PERL_USE_UNSAFE_INC = 1
    SHELL = /bin/bash
    TERM = xterm
    TMPDIR = /home/cpan/tmp

Perl special variables (and OS-specific diagnostics, for MSWin32):

    $^X = /home/cpan/bin/perl-blead/bin/perl5.27.6
    $UID/$EUID = 1002 / 1002
    $GID = 1002 1002
    $EGID = 1002 1002

Perl module toolchain versions installed:

    Module              Have    
    ------------------- --------
    CPAN                2.18    
    CPAN::Meta          2.150010
    Cwd                 3.68    
    ExtUtils::CBuilder  0.280228
    ExtUtils::Command   7.30    
    ExtUtils::Install   2.14    
    ExtUtils::MakeMaker 7.30    
    ExtUtils::Manifest  1.70    
    ExtUtils::ParseXS   3.35    
    File::Spec          3.68    
    JSON                2.94    
    JSON::PP            2.94    
    Module::Build       0.4224  
    Module::Signature   n/a     
    Parse::CPAN::Meta   2.150010
    Test::Harness       3.39    
    Test::More          1.302103
    YAML                n/a     
    YAML::Syck          n/a     
    version             0.9918  


--

Summary of my perl5 (revision 5 version 27 subversion 6) configuration:
  Commit id: 33727e0fa843e3c715b9a6cc7542fcdda31d6e3a
  Platform:
    osname=linux
    osvers=4.9.0-4-amd64
    archname=x86_64-linux
    uname='linux cjg-stretch 4.9.0-4-amd64 #1 smp debian 4.9.51-1 (2017-09-28) x86_64 gnulinux '
    config_args='-des -Dprefix=~/bin/perl-blead -Dscriptdir=~/bin/perl-blead/bin -Duse64bitall -Dusedevel'
    hint=recommended
    useposix=true
    d_sigaction=define
    useithreads=undef
    usemultiplicity=undef
    use64bitint=define
    use64bitall=define
    uselongdouble=undef
    usemymalloc=n
    default_inc_excludes_dot=define
    bincompat5005=undef
  Compiler:
    cc='cc'
    ccflags ='-fwrapv -fno-strict-aliasing -pipe -fstack-protector-strong -I/usr/local/include -D_LARGEFILE_SOURCE -D_FILE_OFFSET_BITS=64 -D_FORTIFY_SOURCE=2'
    optimize='-O2'
    cppflags='-fwrapv -fno-strict-aliasing -pipe -fstack-protector-strong -I/usr/local/include'
    ccversion=''
    gccversion='6.3.0 20170516'
    gccosandvers=''
    intsize=4
    longsize=8
    ptrsize=8
    doublesize=8
    byteorder=12345678
    doublekind=3
    d_longlong=define
    longlongsize=8
    d_longdbl=define
    longdblsize=16
    longdblkind=3
    ivtype='long'
    ivsize=8
    nvtype='double'
    nvsize=8
    Off_t='off_t'
    lseeksize=8
    alignbytes=8
    prototype=undef
  Linker and Libraries:
    ld='cc'
    ldflags =' -fstack-protector-strong -L/usr/local/lib'
    libpth=/usr/local/lib /usr/lib/gcc/x86_64-linux-gnu/6/include-fixed /usr/include/x86_64-linux-gnu /usr/lib /lib/x86_64-linux-gnu /lib/../lib /usr/lib/x86_64-linux-gnu /usr/lib/../lib /lib
    libs=-lpthread -lnsl -ldl -lm -lcrypt -lutil -lc
    perllibs=-lpthread -lnsl -ldl -lm -lcrypt -lutil -lc
    libc=libc-2.24.so
    so=so
    useshrplib=false
    libperl=libperl.a
    gnulibc_version='2.24'
  Dynamic Linking:
    dlsrc=dl_dlopen.xs
    dlext=so
    d_dlsymun=undef
    ccdlflags='-Wl,-E'
    cccdlflags='-fPIC'
    lddlflags='-shared -O2 -L/usr/local/lib -fstack-protector-strong'


Characteristics of this binary (from libperl): 
  Compile-time options:
    HAS_TIMES
    PERLIO_LAYERS
    PERL_COPY_ON_WRITE
    PERL_DONT_CREATE_GVSV
    PERL_MALLOC_WRAP
    PERL_OP_PARENT
    PERL_PRESERVE_IVUV
    PERL_USE_DEVEL
    USE_64_BIT_ALL
    USE_64_BIT_INT
    USE_LARGE_FILES
    USE_LOCALE
    USE_LOCALE_COLLATE
    USE_LOCALE_CTYPE
    USE_LOCALE_NUMERIC
    USE_LOCALE_TIME
    USE_PERLIO
    USE_PERL_ATOF
  Built under linux
  Compiled at Oct 22 2017 22:46:42
  %ENV:
    PERL5LIB=""
    PERL5OPT=""
    PERL5_CPANPLUS_IS_RUNNING="17393"
    PERL5_CPAN_IS_RUNNING="17393"
    PERL_MM_USE_DEFAULT="0"
    PERL_USE_UNSAFE_INC="1"
  @INC:
    /home/cpan/bin/perl-blead/lib/site_perl/5.27.6/x86_64-linux
    /home/cpan/bin/perl-blead/lib/site_perl/5.27.6
    /home/cpan/bin/perl-blead/lib/5.27.6/x86_64-linux
    /home/cpan/bin/perl-blead/lib/5.27.6
    .