Back
From: metabase:user:9820532a-708b-1014-9a05-b18a96298da1
Subject: PASS MozRepl-0.06 v5.10.1 GNU/Linux
Date: 2010-09-30T19:58:35Z
This distribution has been tested as part of the CPAN Testers
project, supporting the Perl programming language. See
http://wiki.cpantesters.org/ for more information or email
questions to cpan-testers-discuss@perl.org
--
Dear Toru Yamaguchi,
This is a computer-generated report for MozRepl-0.06
on perl 5.10.1, created by CPAN-Reporter-1.1801.
Thank you for uploading your work to CPAN. Congratulations!
All tests were successful.
Sections of this report:
* Tester comments
* Program output
* Prerequisites
* Environment and other context
------------------------------
TESTER COMMENTS
------------------------------
Additional comments from tester:
this report is from an automated smoke testing program
and was not reviewed by a human for accuracy
------------------------------
PROGRAM OUTPUT
------------------------------
Output from '/usr/bin/make test':
/home/test/perl/bin/perl5.10.1 "-Iinc" Makefile.PL --config= --installdeps=Data::JavaScript::Anon,0,Module::Pluggable::Fast,0,Net::Telnet,0,Template,0,Template::Provider::FromDATA,0,UNIVERSAL::require,0
PERL_DL_NONLAZY=1 /home/test/perl/bin/perl5.10.1 "-MExtUtils::Command::MM" "-e" "test_harness(0, 'inc', 'blib/lib', 'blib/arch')" t/00-load.t t/10-plugin-repl-enter.t t/11-plugin-repl-search.t t/12-plugin-repl-inspect.t t/13-plugin-repl-load.t t/14-plugin-repl-rename.t t/15-plugin-repl-print.t t/16-plugin-repl-home.t t/17-plugin-repl-back.t t/18-plugin-repl-util-help_url_for.t t/19-plugin-repl-util-doc_for.t t/20-plugin-json.t t/pod-coverage.t t/pod.t
# Testing MozRepl 0.06
t/00-load.t ........................... ok
[DEBUG] MozRepl logging enabled
[DEBUG]
---- Client arguments ----
.----------------------+------------------------------------------.
| client_arg_name | client_arg_value |
+----------------------+------------------------------------------+
| host | localhost |
| port | 4242 |
| timeout | 10 |
| extra_client_args | {} |
'----------------------+------------------------------------------'
t/10-plugin-repl-enter.t .............. ok
[DEBUG] MozRepl logging enabled
[DEBUG]
---- Client arguments ----
.----------------------+------------------------------------------.
| client_arg_name | client_arg_value |
+----------------------+------------------------------------------+
| host | localhost |
| port | 4242 |
| timeout | 10 |
| extra_client_args | {} |
'----------------------+------------------------------------------'
t/11-plugin-repl-search.t ............. ok
[DEBUG] MozRepl logging enabled
[DEBUG]
---- Client arguments ----
.----------------------+------------------------------------------.
| client_arg_name | client_arg_value |
+----------------------+------------------------------------------+
| host | localhost |
| port | 4242 |
| timeout | 10 |
| extra_client_args | {} |
'----------------------+------------------------------------------'
t/12-plugin-repl-inspect.t ............ ok
[DEBUG] MozRepl logging enabled
[DEBUG]
---- Client arguments ----
.----------------------+------------------------------------------.
| client_arg_name | client_arg_value |
+----------------------+------------------------------------------+
| host | localhost |
| port | 4242 |
| timeout | 10 |
| extra_client_args | {} |
'----------------------+------------------------------------------'
t/13-plugin-repl-load.t ............... ok
[DEBUG] MozRepl logging enabled
[DEBUG]
---- Client arguments ----
.----------------------+------------------------------------------.
| client_arg_name | client_arg_value |
+----------------------+------------------------------------------+
| host | localhost |
| port | 4242 |
| timeout | 10 |
| extra_client_args | {} |
'----------------------+------------------------------------------'
t/14-plugin-repl-rename.t ............. ok
[DEBUG] MozRepl logging enabled
[DEBUG]
---- Client arguments ----
.----------------------+------------------------------------------.
| client_arg_name | client_arg_value |
+----------------------+------------------------------------------+
| host | localhost |
| port | 4242 |
| timeout | 10 |
| extra_client_args | {} |
'----------------------+------------------------------------------'
t/15-plugin-repl-print.t .............. ok
[DEBUG] MozRepl logging enabled
[DEBUG]
---- Client arguments ----
.----------------------+------------------------------------------.
| client_arg_name | client_arg_value |
+----------------------+------------------------------------------+
| host | localhost |
| port | 4242 |
| timeout | 10 |
| extra_client_args | {} |
'----------------------+------------------------------------------'
t/16-plugin-repl-home.t ............... ok
[DEBUG] MozRepl logging enabled
[DEBUG]
---- Client arguments ----
.----------------------+------------------------------------------.
| client_arg_name | client_arg_value |
+----------------------+------------------------------------------+
| host | localhost |
| port | 4242 |
| timeout | 10 |
| extra_client_args | {} |
'----------------------+------------------------------------------'
t/17-plugin-repl-back.t ............... ok
[DEBUG] MozRepl logging enabled
[DEBUG]
---- Client arguments ----
.----------------------+------------------------------------------.
| client_arg_name | client_arg_value |
+----------------------+------------------------------------------+
| host | localhost |
| port | 4242 |
| timeout | 10 |
| extra_client_args | {} |
'----------------------+------------------------------------------'
t/18-plugin-repl-util-help_url_for.t .. ok
[DEBUG] MozRepl logging enabled
[DEBUG]
---- Client arguments ----
.----------------------+------------------------------------------.
| client_arg_name | client_arg_value |
+----------------------+------------------------------------------+
| host | localhost |
| port | 4242 |
| timeout | 10 |
| extra_client_args | {} |
'----------------------+------------------------------------------'
t/19-plugin-repl-util-doc_for.t ....... ok
[DEBUG] MozRepl logging enabled
[DEBUG]
---- Client arguments ----
.----------------------+------------------------------------------.
| client_arg_name | client_arg_value |
+----------------------+------------------------------------------+
| host | localhost |
| port | 4242 |
| timeout | 10 |
| extra_client_args | {} |
'----------------------+------------------------------------------'
t/20-plugin-json.t .................... ok
t/pod-coverage.t ...................... skipped: Test::Pod::Coverage 1.04 required for testing POD coverage
t/pod.t ............................... skipped: Test::Pod 1.14 required for testing POD
All tests successful.
Files=14, Tests=42, 1 wallclock secs ( 0.05 usr 0.03 sys + 0.96 cusr 0.36 csys = 1.40 CPU)
Result: PASS
------------------------------
PREREQUISITES
------------------------------
Prerequisite modules loaded:
requires:
Module Need Have
---------------------------- ---- ----
Carp::Clan 0 6.04
Class::Accessor::Fast 0 0.34
Class::Data::Inheritable 0 0.08
Data::Dump 0 1.17
Data::JavaScript::Anon 0 1.03
File::Spec 0 3.30
Module::Pluggable::Fast 0 0.19
Net::Telnet 0 3.03
Template 0 2.22
Template::Provider::FromDATA 0 0.11
Text::SimpleTable 0 2.03
UNIVERSAL::require 0 0.13
URI 0 1.55
------------------------------
ENVIRONMENT AND OTHER CONTEXT
------------------------------
Environment variables:
AUTOMATED_TESTING = 1
LANG = C
LC_ALL = C
PATH = /home/test/perl/bin:~/bin:/usr/bin:/bin
PERL5LIB = /home/test/.cpan/build/Net-Telnet-3.03-VlcYLY/blib/arch:/home/test/.cpan/build/Net-Telnet-3.03-VlcYLY/blib/lib:/home/test/.cpan/build/Data-JavaScript-Anon-1.03-0VkEn8/blib/arch:/home/test/.cpan/build/Data-JavaScript-Anon-1.03-0VkEn8/blib/lib:/home/test/.cpan/build/Class-Default-1.51-CxEe13/blib/arch:/home/test/.cpan/build/Class-Default-1.51-CxEe13/blib/lib:/home/test/.cpan/build/Template-Provider-FromDATA-0.11-pCqAZH/blib/arch:/home/test/.cpan/build/Template-Provider-FromDATA-0.11-pCqAZH/blib/lib:/home/test/.cpan/build/Template-Toolkit-2.22-cNXjY_/blib/arch:/home/test/.cpan/build/Template-Toolkit-2.22-cNXjY_/blib/lib:/home/test/.cpan/build/AppConfig-1.66-Ges2DI/blib/arch:/home/test/.cpan/build/AppConfig-1.66-Ges2DI/blib/lib:/home/test/.cpan/build/Module-Pluggable-Fast-0.19-Glv1rC/blib/arch:/home/test/.cpan/build/Module-Pluggable-Fast-0.19-Glv1rC/blib/lib:/home/test/.cpan/build/UNIVERSAL-require-0.13-nQLk3n/blib/arch:/home/test/.cpan/build/UNIVERSAL-require-0.13-nQLk3n/blib/lib
PERL5OPT =
PERL5_CPANPLUS_IS_RUNNING = 9842
PERL5_CPAN_IS_RUNNING = 9842
PERL5_CPAN_IS_RUNNING_IN_RECURSION = 27566,9842
PERL_CR_SMOKER_CURRENT = MozRepl-RemoteObject-0.13
PERL_EXTUTILS_AUTOINSTALL = --defaultdeps
PERL_MM_USE_DEFAULT = 1
SHELL = /bin/bash
TERM = linux
Perl special variables (and OS-specific diagnostics, for MSWin32):
$^X = /home/test/perl/bin/perl5.10.1
$UID/$EUID = 1001 / 1001
$GID = 1001 1001
$EGID = 1001 1001
Perl module toolchain versions installed:
Module Have
------------------- -------
CPAN 1.9402
Cwd 3.30
ExtUtils::CBuilder 0.2703
ExtUtils::Command 1.16
ExtUtils::Install 1.54
ExtUtils::MakeMaker 6.55_02
ExtUtils::Manifest 1.56
ExtUtils::ParseXS 2.2206
File::Spec 3.30
Module::Build 0.3607
Module::Signature n/a
Test::Harness 3.17
Test::More 0.92
YAML 0.72
YAML::Syck 1.15
version 0.82
--
Summary of my perl5 (revision 5 version 10 subversion 1) configuration:
Platform:
osname=linux, osvers=2.6.26-2-amd64, archname=x86_64-linux-thread-multi-ld
uname='linux zippy 2.6.26-2-amd64 #1 smp tue jan 12 22:12:20 utc 2010 x86_64 gnulinux '
config_args='-des -Dusedevel -des -Duselongdouble -Duse64bitall -Dusethreads -Dprefix=~/perl'
hint=recommended, useposix=true, d_sigaction=define
useithreads=define, usemultiplicity=define
useperlio=define, d_sfio=undef, uselargefiles=define, usesocks=undef
use64bitint=define, use64bitall=define, uselongdouble=define
usemymalloc=n, bincompat5005=undef
Compiler:
cc='cc', ccflags ='-D_REENTRANT -D_GNU_SOURCE -fno-strict-aliasing -pipe -fstack-protector -I/usr/local/include -D_LARGEFILE_SOURCE -D_FILE_OFFSET_BITS=64',
optimize='-O2',
cppflags='-D_REENTRANT -D_GNU_SOURCE -fno-strict-aliasing -pipe -fstack-protector -I/usr/local/include'
ccversion='', gccversion='4.4.4', gccosandvers=''
intsize=4, longsize=8, ptrsize=8, doublesize=8, byteorder=12345678
d_longlong=define, longlongsize=8, d_longdbl=define, longdblsize=16
ivtype='long', ivsize=8, nvtype='long double', nvsize=16, Off_t='off_t', lseeksize=8
alignbytes=16, prototype=define
Linker and Libraries:
ld='cc', ldflags =' -fstack-protector -L/usr/local/lib'
libpth=/usr/local/lib /lib /usr/lib /lib64 /usr/lib64
libs=-lnsl -ldb -ldl -lm -lcrypt -lutil -lpthread -lc
perllibs=-lnsl -ldl -lm -lcrypt -lutil -lpthread -lc
libc=/lib/libc-2.11.2.so, so=so, useshrplib=false, libperl=libperl.a
gnulibc_version='2.11.2'
Dynamic Linking:
dlsrc=dl_dlopen.xs, dlext=so, d_dlsymun=undef, ccdlflags='-Wl,-E'
cccdlflags='-fPIC', lddlflags='-shared -O2 -L/usr/local/lib -fstack-protector'
Characteristics of this binary (from libperl):
Compile-time options: MULTIPLICITY PERL_DONT_CREATE_GVSV
PERL_IMPLICIT_CONTEXT PERL_MALLOC_WRAP PERL_USE_DEVEL
USE_64_BIT_ALL USE_64_BIT_INT USE_ITHREADS
USE_LARGE_FILES USE_LONG_DOUBLE USE_PERLIO
USE_REENTRANT_API
Built under linux
Compiled at Aug 22 2010 22:56:01
%ENV:
PERL5LIB="/home/test/.cpan/build/Net-Telnet-3.03-VlcYLY/blib/arch:/home/test/.cpan/build/Net-Telnet-3.03-VlcYLY/blib/lib:/home/test/.cpan/build/Data-JavaScript-Anon-1.03-0VkEn8/blib/arch:/home/test/.cpan/build/Data-JavaScript-Anon-1.03-0VkEn8/blib/lib:/home/test/.cpan/build/Class-Default-1.51-CxEe13/blib/arch:/home/test/.cpan/build/Class-Default-1.51-CxEe13/blib/lib:/home/test/.cpan/build/Template-Provider-FromDATA-0.11-pCqAZH/blib/arch:/home/test/.cpan/build/Template-Provider-FromDATA-0.11-pCqAZH/blib/lib:/home/test/.cpan/build/Template-Toolkit-2.22-cNXjY_/blib/arch:/home/test/.cpan/build/Template-Toolkit-2.22-cNXjY_/blib/lib:/home/test/.cpan/build/AppConfig-1.66-Ges2DI/blib/arch:/home/test/.cpan/build/AppConfig-1.66-Ges2DI/blib/lib:/home/test/.cpan/build/Module-Pluggable-Fast-0.19-Glv1rC/blib/arch:/home/test/.cpan/build/Module-Pluggable-Fast-0.19-Glv1rC/blib/lib:/home/test/.cpan/build/UNIVERSAL-require-0.13-nQLk3n/blib/arch:/home/test/.cpan/build/UNIVERSAL-require-0.13-nQLk3n/blib/lib"
PERL5OPT=""
PERL5_CPANPLUS_IS_RUNNING="9842"
PERL5_CPAN_IS_RUNNING="9842"
PERL5_CPAN_IS_RUNNING_IN_RECURSION="27566,9842"
PERL_CR_SMOKER_CURRENT="MozRepl-RemoteObject-0.13"
PERL_EXTUTILS_AUTOINSTALL="--defaultdeps"
PERL_MM_USE_DEFAULT="1"
@INC:
/home/test/.cpan/build/Net-Telnet-3.03-VlcYLY/blib/arch
/home/test/.cpan/build/Net-Telnet-3.03-VlcYLY/blib/lib
/home/test/.cpan/build/Data-JavaScript-Anon-1.03-0VkEn8/blib/arch
/home/test/.cpan/build/Data-JavaScript-Anon-1.03-0VkEn8/blib/lib
/home/test/.cpan/build/Class-Default-1.51-CxEe13/blib/arch
/home/test/.cpan/build/Class-Default-1.51-CxEe13/blib/lib
/home/test/.cpan/build/Template-Provider-FromDATA-0.11-pCqAZH/blib/arch
/home/test/.cpan/build/Template-Provider-FromDATA-0.11-pCqAZH/blib/lib
/home/test/.cpan/build/Template-Toolkit-2.22-cNXjY_/blib/arch
/home/test/.cpan/build/Template-Toolkit-2.22-cNXjY_/blib/lib
/home/test/.cpan/build/AppConfig-1.66-Ges2DI/blib/arch
/home/test/.cpan/build/AppConfig-1.66-Ges2DI/blib/lib
/home/test/.cpan/build/Module-Pluggable-Fast-0.19-Glv1rC/blib/arch
/home/test/.cpan/build/Module-Pluggable-Fast-0.19-Glv1rC/blib/lib
/home/test/.cpan/build/UNIVERSAL-require-0.13-nQLk3n/blib/arch
/home/test/.cpan/build/UNIVERSAL-require-0.13-nQLk3n/blib/lib
/home/test/perl/lib/5.10.1/x86_64-linux-thread-multi-ld
/home/test/perl/lib/5.10.1
/home/test/perl/lib/site_perl/5.10.1/x86_64-linux-thread-multi-ld
/home/test/perl/lib/site_perl/5.10.1
.