POE-Component-Generic v0.1403 Perl 5 v5.35.2 x86_64-linux-thread-multi
- Status
- Pass
- From
- Andreas J. König (ANDK)
- Dist
-
POE-Component-Generic v0.1403
- Platform
- Perl 5 v5.35.2 x86_64-linux-thread-multi
- Date
- 2021-06-25 18:35:26
- ID
- 1bea4c92-d5e4-11eb-a29b-b6a1ad5e94c7
This distribution has been tested as part of the CPAN Testers
project, supporting the Perl programming language. See
http://wiki.cpantesters.org/ for more information or email
questions to cpan-testers-discuss@perl.org
--
Dear Philip Gwyn,
This is a computer-generated report for POE-Component-Generic-0.1403
on perl 5.35.2, created by CPAN-Reporter-1.2018.
Thank you for uploading your work to CPAN. Congratulations!
All tests were successful.
Sections of this report:
* Tester comments
* Program output
* Prerequisites
* Environment and other context
------------------------------
TESTER COMMENTS
------------------------------
Additional comments from tester:
this report is from an automated smoke testing program
and was not reviewed by a human for accuracy
------------------------------
PROGRAM OUTPUT
------------------------------
Output from '/usr/bin/make test':
PERL_DL_NONLAZY=1 "/tmp/basesmoker-reloperl-e4bE/bin/perl" "-MExtUtils::Command::MM" "-MTest::Harness" "-e" "undef *Test::Harness::Switches; test_harness(0, 'blib/lib', 'blib/arch')" t/*.t
t/00_compile.t ....... ok
# POE 1.368, POE::Test::Loops 1.360, Perl 5.035002, /tmp/basesmoker-reloperl-e4bE/bin/perl on linux
t/00_info.t .......... ok
t/01_pod.t ........... ok
t/02_pod_coverage.t .. ok
t/04_object.t ........ ok
t/05_package.t ....... ok
t/07_callback.t ...... ok
t/08_factory.t ....... ok
# 3 seconds
# 6 seconds
t/10_simple.t ........ ok
# 3 seconds
# 6 seconds
t/11_error.t ......... ok
# 3 seconds
t/12_exit_kill.t ..... ok
t/15_stdout.t ........ ok
# 3 seconds
# 3 seconds
# 6 seconds
t/20_alt_fork.t ...... ok
t/21_alt_fork-x.t .... ok
# 1 seconds
t/30_callback.t ...... ok
# 2 seconds
# 2 seconds
t/40_postback.t ...... ok
# 1 seconds
t/50_factory.t ....... ok
t/90_ssh.t ........... ok
Subroutine Net::SSH2::channel redefined at /tmp/loop_over_bdir-47300-CP8ECK/POE-Component-Generic-0.1403-0/blib/lib/POE/Component/Generic/Net/SSH2.pm line 234.
Subroutine Net::SSH2::Channel::DESTROY redefined at /tmp/loop_over_bdir-47300-CP8ECK/POE-Component-Generic-0.1403-0/blib/lib/POE/Component/Generic/Net/SSH2.pm line 356.
t/91_ssh2.t .......... ok
All tests successful.
Files=19, Tests=176, 50 wallclock secs ( 0.06 usr 0.05 sys + 2.15 cusr 0.58 csys = 2.84 CPU)
Result: PASS
------------------------------
PREREQUISITES
------------------------------
Prerequisite modules loaded:
requires:
Module Need Have
------------------- ----- --------
Carp 0 1.52
Devel::Symdump 2 2.18
POE 1.311 1.368
Scalar::Util 1 1.56
Test::More 0.32 1.302185
build_requires:
Module Need Have
------------------- ----- --------
ExtUtils::MakeMaker 0 7.62
configure_requires:
Module Need Have
------------------- ----- --------
ExtUtils::MakeMaker 0 7.62
------------------------------
ENVIRONMENT AND OTHER CONTEXT
------------------------------
Environment variables:
AUTOMATED_TESTING = 1
LANG = en_US.UTF-8
PATH = /home/sand/bin:/usr/local/bin:/usr/bin:/bin:/usr/games:/usr/local/perl/bin:/usr/X11/bin:/sbin:/usr/sbin
PERL5LIB =
PERL5OPT =
PERL5_CPANPLUS_IS_RUNNING = 707931
PERL5_CPAN_IS_RUNNING = 707931
PERL_CANARY_STABILITY_NOPROMPT = 1
PERL_MM_USE_DEFAULT = 1
PERL_USE_UNSAFE_INC = 1
SHELL = /usr/bin/zsh
TERM = screen
Perl special variables (and OS-specific diagnostics, for MSWin32):
$^X = /tmp/basesmoker-reloperl-e4bE/bin/perl
$UID/$EUID = 1005 / 1005
$GID = 1005 1005
$EGID = 1005 1005
Perl module toolchain versions installed:
Module Have
------------------- --------
CPAN 2.28
CPAN::Meta 2.150010
Cwd 3.81
ExtUtils::CBuilder 0.280236
ExtUtils::Command 7.62
ExtUtils::Install 2.20
ExtUtils::MakeMaker 7.62
ExtUtils::Manifest 1.73
ExtUtils::ParseXS 3.43
File::Spec 3.81
JSON 4.03
JSON::PP 4.06
Module::Build 0.4231
Module::Signature 0.87
Parse::CPAN::Meta 2.150010
Test::Harness 3.43
Test::More 1.302185
YAML 1.30
YAML::Syck 1.34
version 0.9929
--
Summary of my perl5 (revision 5 version 35 subversion 2) configuration:
Commit id: 9fa00226c78c14bc34a562b90346047d2dcdd3b1
Platform:
osname=linux
osvers=5.3.0-2-amd64
archname=x86_64-linux-thread-multi
uname='linux k93msid 5.3.0-2-amd64 #1 smp debian 5.3.9-3 (2019-11-19) x86_64 gnulinux '
config_args='-Dprefix=/home/sand/src/perl/repoperls/installed-perls/host/k93msid/v5.35.1-33-g9fa00226c7/419a -Dmyhostname=k93msid -Dinstallusrbinperl=n -Uversiononly -Dusedevel -des -Ui_db -Dlibswanted=cl pthread socket inet nsl gdbm dbm malloc dl ld sun m crypt sec util c cposix posix ucb BSD gdbm_compat -Duseithreads -Uuselongdouble -DEBUGGING=none'
hint=recommended
useposix=true
d_sigaction=define
useithreads=define
usemultiplicity=define
use64bitint=define
use64bitall=define
uselongdouble=undef
usemymalloc=n
default_inc_excludes_dot=define
Compiler:
cc='cc'
ccflags ='-D_REENTRANT -D_GNU_SOURCE -fwrapv -fno-strict-aliasing -pipe -fstack-protector-strong -I/usr/local/include -D_LARGEFILE_SOURCE -D_FILE_OFFSET_BITS=64 -D_FORTIFY_SOURCE=2'
optimize='-O2'
cppflags='-D_REENTRANT -D_GNU_SOURCE -fwrapv -fno-strict-aliasing -pipe -fstack-protector-strong -I/usr/local/include'
ccversion=''
gccversion='9.2.1 20191109'
gccosandvers=''
intsize=4
longsize=8
ptrsize=8
doublesize=8
byteorder=12345678
doublekind=3
d_longlong=define
longlongsize=8
d_longdbl=define
longdblsize=16
longdblkind=3
ivtype='long'
ivsize=8
nvtype='double'
nvsize=8
Off_t='off_t'
lseeksize=8
alignbytes=8
prototype=define
Linker and Libraries:
ld='cc'
ldflags =' -fstack-protector-strong -L/usr/local/lib'
libpth=/usr/local/lib /usr/lib/x86_64-linux-gnu /usr/lib /lib/x86_64-linux-gnu /lib
libs=-lpthread -lnsl -ldl -lm -lcrypt -lutil -lc
perllibs=-lpthread -lnsl -ldl -lm -lcrypt -lutil -lc
libc=libc-2.29.so
so=so
useshrplib=false
libperl=libperl.a
gnulibc_version='2.29'
Dynamic Linking:
dlsrc=dl_dlopen.xs
dlext=so
d_dlsymun=undef
ccdlflags='-Wl,-E'
cccdlflags='-fPIC'
lddlflags='-shared -O2 -L/usr/local/lib -fstack-protector-strong'
Characteristics of this binary (from libperl):
Compile-time options:
HAS_TIMES
MULTIPLICITY
PERLIO_LAYERS
PERL_COPY_ON_WRITE
PERL_DONT_CREATE_GVSV
PERL_MALLOC_WRAP
PERL_OP_PARENT
PERL_PRESERVE_IVUV
PERL_USE_DEVEL
USE_64_BIT_ALL
USE_64_BIT_INT
USE_ITHREADS
USE_LARGE_FILES
USE_LOCALE
USE_LOCALE_COLLATE
USE_LOCALE_CTYPE
USE_LOCALE_NUMERIC
USE_LOCALE_TIME
USE_PERLIO
USE_PERL_ATOF
USE_REENTRANT_API
USE_THREAD_SAFE_LOCALE
Built under linux
Compiled at Jun 23 2021 16:54:21
%ENV:
PERL5LIB=""
PERL5OPT=""
PERL5_CPANPLUS_IS_RUNNING="707931"
PERL5_CPAN_IS_RUNNING="707931"
PERL_CANARY_STABILITY_NOPROMPT="1"
PERL_MM_USE_DEFAULT="1"
PERL_USE_UNSAFE_INC="1"
@INC:
/home/sand/src/perl/repoperls/installed-perls/host/k93msid/v5.35.1-33-g9fa00226c7/419a/lib/site_perl/5.35.2/x86_64-linux-thread-multi
/home/sand/src/perl/repoperls/installed-perls/host/k93msid/v5.35.1-33-g9fa00226c7/419a/lib/site_perl/5.35.2
/home/sand/src/perl/repoperls/installed-perls/host/k93msid/v5.35.1-33-g9fa00226c7/419a/lib/5.35.2/x86_64-linux-thread-multi
/home/sand/src/perl/repoperls/installed-perls/host/k93msid/v5.35.1-33-g9fa00226c7/419a/lib/5.35.2
.