Back
From: metabase:user:dadc10ba-dfeb-11e2-a449-e06762ee5910
Subject: PASS libwww-perl-6.05 v5.16.3 GNU/Linux
Date: 2013-06-28T12:13:14Z
This distribution has been tested as part of the CPAN Testers
project, supporting the Perl programming language. See
http://wiki.cpantesters.org/ for more information or email
questions to cpan-testers-discuss@perl.org
--
Dear GAAS,
This is a computer-generated report for libwww-perl-6.05
on perl 5.16.3, created by App::cpanminus::reporter 0.09 (1.6922).
Thank you for uploading your work to CPAN. Congratulations!
All tests were successful.
Sections of this report:
* Tester comments
* Program output
* Prerequisites
* Environment and other context
------------------------------
TESTER COMMENTS
------------------------------
Additional comments from tester:
none provided
------------------------------
PROGRAM OUTPUT
------------------------------
Output from '':
Building and testing libwww-perl-6.05
cp lib/LWP/RobotUA.pm blib/lib/LWP/RobotUA.pm
cp lib/LWP/Debug.pm blib/lib/LWP/Debug.pm
cp lib/LWP/Authen/Ntlm.pm blib/lib/LWP/Authen/Ntlm.pm
cp lib/LWP.pm blib/lib/LWP.pm
cp lib/LWP/ConnCache.pm blib/lib/LWP/ConnCache.pm
cp lib/LWP/Protocol.pm blib/lib/LWP/Protocol.pm
cp lwptut.pod blib/lib/lwptut.pod
cp lib/LWP/Protocol/ftp.pm blib/lib/LWP/Protocol/ftp.pm
cp lib/LWP/Authen/Digest.pm blib/lib/LWP/Authen/Digest.pm
cp lib/LWP/Protocol/gopher.pm blib/lib/LWP/Protocol/gopher.pm
cp lwpcook.pod blib/lib/lwpcook.pod
cp lib/LWP/Protocol/cpan.pm blib/lib/LWP/Protocol/cpan.pm
cp lib/LWP/Protocol/file.pm blib/lib/LWP/Protocol/file.pm
cp lib/LWP/Protocol/GHTTP.pm blib/lib/LWP/Protocol/GHTTP.pm
cp lib/LWP/DebugFile.pm blib/lib/LWP/DebugFile.pm
cp lib/LWP/Protocol/data.pm blib/lib/LWP/Protocol/data.pm
cp lib/LWP/Authen/Basic.pm blib/lib/LWP/Authen/Basic.pm
cp lib/LWP/Protocol/nogo.pm blib/lib/LWP/Protocol/nogo.pm
cp lib/LWP/UserAgent.pm blib/lib/LWP/UserAgent.pm
cp lib/LWP/Simple.pm blib/lib/LWP/Simple.pm
cp lib/LWP/Protocol/loopback.pm blib/lib/LWP/Protocol/loopback.pm
cp lib/LWP/Protocol/nntp.pm blib/lib/LWP/Protocol/nntp.pm
cp lib/LWP/Protocol/http.pm blib/lib/LWP/Protocol/http.pm
cp lib/LWP/Protocol/mailto.pm blib/lib/LWP/Protocol/mailto.pm
cp lib/LWP/MemberMixin.pm blib/lib/LWP/MemberMixin.pm
cp bin/lwp-dump blib/script/lwp-dump
/srv/mojo/perl5/perlbrew/perls/perl-5.16.3/bin/perl -MExtUtils::MY -e 'MY->fixin(shift)' -- blib/script/lwp-dump
cp bin/lwp-mirror blib/script/lwp-mirror
/srv/mojo/perl5/perlbrew/perls/perl-5.16.3/bin/perl -MExtUtils::MY -e 'MY->fixin(shift)' -- blib/script/lwp-mirror
cp bin/lwp-download blib/script/lwp-download
/srv/mojo/perl5/perlbrew/perls/perl-5.16.3/bin/perl -MExtUtils::MY -e 'MY->fixin(shift)' -- blib/script/lwp-download
cp bin/lwp-request blib/script/lwp-request
/srv/mojo/perl5/perlbrew/perls/perl-5.16.3/bin/perl -MExtUtils::MY -e 'MY->fixin(shift)' -- blib/script/lwp-request
Manifying blib/man1/lwp-dump.1
Manifying blib/man1/lwp-mirror.1
Manifying blib/man1/lwp-download.1
Manifying blib/man1/lwp-request.1
Manifying blib/man3/LWP::RobotUA.3
Manifying blib/man3/LWP::Debug.3
Manifying blib/man3/lwpcook.3
Manifying blib/man3/LWP::Authen::Ntlm.3
Manifying blib/man3/LWP.3
Manifying blib/man3/LWP::Protocol.3
Manifying blib/man3/LWP::ConnCache.3
Manifying blib/man3/lwptut.3
Manifying blib/man3/LWP::Simple.3
Manifying blib/man3/LWP::UserAgent.3
Manifying blib/man3/LWP::MemberMixin.3
/srv/mojo/perl5/perlbrew/perls/perl-5.16.3/bin/perl t/TEST 0
base/protocols.t ...... ok
base/ua.t ............. ok
robot/ua-get.t ........ ok
robot/ua.t ............ ok
local/autoload-get.t .. ok
local/autoload.t ...... ok
local/get.t ........... ok
local/http.t .......... ok
local/protosub.t ...... ok
All tests successful.
Files=9, Tests=125, 16 wallclock secs ( 0.16 usr 0.03 sys + 3.43 cusr 0.32 csys = 3.94 CPU)
Result: PASS
------------------------------
PREREQUISITES
------------------------------
Prerequisite modules loaded:
runtime:
Module Need Have
--------------------- -------- --------
Digest::MD5 0 2.51
Encode 2.12 2.44_01
Encode::Locale 0 1.03
File::Listing 6 6.04
HTML::Entities 0 3.69
HTML::HeadParser 0 3.71
HTTP::Cookies 6 6.01
HTTP::Daemon 6 6.01
HTTP::Date 6 6.02
HTTP::Negotiate 6 6.01
HTTP::Request 6 6.00
HTTP::Request::Common 6 6.04
HTTP::Response 6 6.04
HTTP::Status 6 6.03
IO::Select 0 1.21
IO::Socket 0 1.34
LWP::MediaTypes 6 6.02
MIME::Base64 2.1 3.13
Net::FTP 2.58 2.77
Net::HTTP 6.04 6.06
perl 5.008001 5.016003
URI 1.10 1.60
URI::Escape 0 3.31
WWW::RobotRules 6 6.02
build:
Module Need Have
--------------------- -------- --------
ExtUtils::MakeMaker 0 6.68
configure:
Module Need Have
--------------------- -------- --------
ExtUtils::MakeMaker 0 6.68
------------------------------
ENVIRONMENT AND OTHER CONTEXT
------------------------------
Environment variables:
LANG = de_DE.UTF-8
PATH = /srv/mojo//perl5/perlbrew/bin:/srv/mojo//perl5/perlbrew/perls/perl-5.16.3/bin:/usr/local/bin:/usr/bin:/bin:/usr/local/games:/usr/games
PERLBREW_BASHRC_VERSION = 0.64
PERLBREW_HOME = /srv/mojo//.perlbrew
PERLBREW_MANPATH = /srv/mojo//perl5/perlbrew/perls/perl-5.16.3/man
PERLBREW_PATH = /srv/mojo//perl5/perlbrew/bin:/srv/mojo//perl5/perlbrew/perls/perl-5.16.3/bin
PERLBREW_PERL = perl-5.16.3
PERLBREW_ROOT = /srv/mojo//perl5/perlbrew
PERLBREW_VERSION = 0.64
SHELL = /bin/bash
TERM = screen
Perl special variables (and OS-specific diagnostics, for MSWin32):
EGID = 1011 1011
EUID = 1011
EXECUTABLE_NAME = /srv/mojo/perl5/perlbrew/perls/perl-5.16.3/bin/perl
GID = 1011 1011
UID = 1011
Perl module toolchain versions installed:
Module Have
------------------- --------
CPAN 1.9800
CPAN::Meta 2.120630
Cwd 3.39_02
ExtUtils::CBuilder 0.280206
ExtUtils::Command 1.17
ExtUtils::Install 1.58
ExtUtils::MakeMaker 6.68
ExtUtils::Manifest 1.61
ExtUtils::ParseXS 3.16
File::Spec 3.39_02
JSON 2.59
JSON::PP 2.27200
Module::Build 0.39_01
Module::Signature n/a
Parse::CPAN::Meta 1.4402
Test::Harness 3.23
Test::More 0.98
YAML n/a
YAML::Syck n/a
version 0.99
--
Summary of my perl5 (revision 5 version 16 subversion 3) configuration:
Platform:
osname=linux, osvers=3.2.0-4-amd64, archname=x86_64-linux
uname='linux sveneppler.de 3.2.0-4-amd64 #1 smp debian 3.2.46-1 x86_64 gnulinux '
config_args='-de -Dprefix=/srv/mojo//perl5/perlbrew/perls/perl-5.16.3 -Aeval:scriptdir=/srv/mojo//perl5/perlbrew/perls/perl-5.16.3/bin'
hint=recommended, useposix=true, d_sigaction=define
useithreads=undef, usemultiplicity=undef
useperlio=define, d_sfio=undef, uselargefiles=define, usesocks=undef
use64bitint=define, use64bitall=define, uselongdouble=undef
usemymalloc=n, bincompat5005=undef
Compiler:
cc='cc', ccflags ='-fno-strict-aliasing -pipe -fstack-protector -I/usr/local/include -D_LARGEFILE_SOURCE -D_FILE_OFFSET_BITS=64',
optimize='-O2',
cppflags='-fno-strict-aliasing -pipe -fstack-protector -I/usr/local/include'
ccversion='', gccversion='4.7.2', gccosandvers=''
intsize=4, longsize=8, ptrsize=8, doublesize=8, byteorder=12345678
d_longlong=define, longlongsize=8, d_longdbl=define, longdblsize=16
ivtype='long', ivsize=8, nvtype='double', nvsize=8, Off_t='off_t', lseeksize=8
alignbytes=8, prototype=define
Linker and Libraries:
ld='cc', ldflags =' -fstack-protector -L/usr/local/lib'
libpth=/usr/local/lib /lib/x86_64-linux-gnu /lib/../lib /usr/lib/x86_64-linux-gnu /usr/lib/../lib /lib /usr/lib
libs=-lnsl -ldl -lm -lcrypt -lutil -lc
perllibs=-lnsl -ldl -lm -lcrypt -lutil -lc
libc=, so=so, useshrplib=false, libperl=libperl.a
gnulibc_version='2.13'
Dynamic Linking:
dlsrc=dl_dlopen.xs, dlext=so, d_dlsymun=undef, ccdlflags='-Wl,-E'
cccdlflags='-fPIC', lddlflags='-shared -O2 -L/usr/local/lib -fstack-protector'
Characteristics of this binary (from libperl):
Compile-time options: HAS_TIMES PERLIO_LAYERS PERL_DONT_CREATE_GVSV
PERL_MALLOC_WRAP PERL_PRESERVE_IVUV USE_64_BIT_ALL
USE_64_BIT_INT USE_LARGE_FILES USE_LOCALE
USE_LOCALE_COLLATE USE_LOCALE_CTYPE
USE_LOCALE_NUMERIC USE_PERLIO USE_PERL_ATOF
Built under linux
Compiled at Jun 28 2013 08:46:39
%ENV:
PERLBREW_BASHRC_VERSION="0.64"
PERLBREW_HOME="/srv/mojo//.perlbrew"
PERLBREW_MANPATH="/srv/mojo//perl5/perlbrew/perls/perl-5.16.3/man"
PERLBREW_PATH="/srv/mojo//perl5/perlbrew/bin:/srv/mojo//perl5/perlbrew/perls/perl-5.16.3/bin"
PERLBREW_PERL="perl-5.16.3"
PERLBREW_ROOT="/srv/mojo//perl5/perlbrew"
PERLBREW_VERSION="0.64"
@INC:
/srv/mojo//perl5/perlbrew/perls/perl-5.16.3/lib/site_perl/5.16.3/x86_64-linux
/srv/mojo//perl5/perlbrew/perls/perl-5.16.3/lib/site_perl/5.16.3
/srv/mojo//perl5/perlbrew/perls/perl-5.16.3/lib/5.16.3/x86_64-linux
/srv/mojo//perl5/perlbrew/perls/perl-5.16.3/lib/5.16.3
.